Workbook
Name _100n: linear!$FS$15
Name _1stint: linear!$GU$28
Name _2ndint: linear!$GW$28
Name a_exis: linear!$GH$18
Name a_exisosi: linear!$GC$1
Name a_M: linear!$GD$22
Name AA: linear!$GT$16
Name aell: linear!$GC$29
Name aell2: linear!$GC$28
Name aktina: kampyles!$P$77
Name Al: linear!$B$3
Name alfa: data!$F$3
Name alfagon: linear!$EZ$6
Name algo0: linear!$FP$219
Name aLPHA: data!#REF!
Name ApGS: linear!$EA$3
Name aploarx: linear!$GQ$22
Name Asel: linear!$GD$1
Name b_s: squareroot!$B$2
Name BB: linear!$GT$17
Name bell: linear!$GB$29
Name bell2: linear!$GB$28
Name bsel: linear!$GE$1
Name c_0: linear!$GE$3
Name c_earth: linear!$GH$13
Name c_EXISOSI: linear!$GE$6
Name c_s: squareroot!$B$1
Name cb: linear!$EC$1
Name CC: linear!$GT$18
Name cdiakato: linear!$HV$25
Name dc: linear!$EE$1
Name delt: kampyles!$B$1
Name delta: data!$F$6
Name deltay: CURVED!$L$1
Name delx: linear!$B$92
Name det: data!$E$12
Name detaf: data!$B$1
Name dex: data!$B$1
Name diakt: linear!$FY$4
Name dist1: linear!$EG$1
Name Distan_xa: linear!$FI$1
Name Distan_xb: linear!$FI$2
Name dr: linear!$EA$8
Name dt: CURVED!$EM$1951
Name dte: data!$AU$13
Name dtheta: data!$B$13
Name dtl: linear!$B$2
Name dtlin: linear!$Q$197
Name dtt: linear!$HB$26
Name dys: linear!$FY$3
Name ellearx: linear!$GP$22
Name epsi: linear!$EJ$13
Name fia: linear!$EA$4
Name fia_mires: linear!$DY$4
Name fisosti: linear!$FP$15
Name fm: linear!$EC$3
Name goniafeg: linear!$FW$7
Name hatm: linear!$EA$6
Name incid1: linear!$FV$1
Name incid22: linear!$HY$27

Sheet squareroot
A1: c_s | B1: =1/natm^2-b_s*Rg -> -0.13774105 | F1: t | G1: psi | J1: c | K1: t | L1: r | O1: incidence | U1: φ | V1: sin(diath) | W1: diath | X1: θ
A2: b_s | B2: =(1-1/natm^2)/hatm -> 0.19283747 | F2: 0 | G2: =-SQRT(kay2_)*F2/2 -> 0 | J2: =2*(1-COS(incid22))*EXP(-bsel*$HW2)/((1-COS(incid22))^2*EXP(-2*bsel*$HW2)+kay2_^2 ) -> 1 | K2: 0 | L2: =(-1/((kay2_-1)*TAN(G2)-1)-c_s)/b_s -> 5.9 | M2: =alfagon -> 1.1145196 | N2: =fia -> 1.0995574 | O2: =Y2-U2 -> 0.86448647 | P2: =rarxiko^2-Rg^2*SIN(alfagon)^2 -> 14.663402 | Q2: =(-Rg*COS(alfagon)+SQRT(P2))*SIN(alfagon) -> 1.459873 | R2: =Rg+_xlfn.COT(alfagon)*S2 -> 5.7165349 | S2: =(-Rg*COS(alfagon)+SQRT(T2^2-Rg^2*SIN(alfagon)^2))*SIN(alfagon) -> 1.459873 | T2: =rarxiko -> 5.9 | U2: =ATAN(Q2/R2) -> 0.25003317 | V2: =SIN(O2)*(c_EXISOSI+bsel*($FC2-dr))/(c_EXISOSI+bsel*$FC2) -> 0.75733864 | W2: =ASIN(V2) -> 0.85922798 | X2: =U2+W2 -> 1.1092611 | Y2: =ATAN(Q2/(R2-Rg)) -> 1.1145196
F3: =F2+dtt -> 0.00923 | G3: =-SQRT(kay2_)*F3/2 -> -0.0040252803 | J3: =2*(1-COS(incid22))*EXP(-bsel*$HW3)/((1-COS(incid22))^2*EXP(-2*bsel*$HW3)+kay2_^2 ) -> 1 | K3: =K2+dtt -> 0.00923 | L3: =(-1/((kay2_-1)*TAN(G3)-1)-c_s)/b_s -> 5.9049987 | O3: =X2-U3 -> 0.85824679 | P3: =$L3^2-(R2-Q2*_xlfn.COT(X2))^2*SIN(X2)^2 -> 14.903323 | Q3: =(-(R2-Q2*_xlfn.COT(X2))*COS(X2)+SQRT(P3))*SIN(X2) -> 1.4667229 | R3: =R2+(_xlfn.COT(X2)*(Q3-Q2)) -> 5.7199417 | S3: =$FC3^2-(R2-Q2*_xlfn.COT(X2))^2*SIN(X2)^2 -> -19.965687 | U3: =ATAN(Q3/R3) -> 0.25101435 | V3: =SIN(O3)*(c_EXISOSI+bsel*($FC3-dr))/(c_EXISOSI+bsel*$FC3) -> 0.7532924 | W3: =ASIN(V3) -> 0.85305387 | X3: =W3+U2 -> 1.103087
A4: =SQRT(c_s+b_s*rarxiko) -> 1 | F4: =F3+dtt -> 0.01846 | G4: =SQRT(kay2_)*F4/2 -> 0.0080505607 | I4: =(1-c_s)/b_s -> 5.9 | J4: =2*(1-COS(incid22))*EXP(-bsel*$HW4)/((1-COS(incid22))^2*EXP(-2*bsel*$HW4)+kay2_^2 ) -> 1 | K4: =K3+dtt -> 0.01846 | L4: =(-1/((kay2_-1)*TAN(G4)-1)-c_s)/b_s -> 5.8900313 | O4: =X3-U4 -> 0.85498231 | P4: =$L4^2-(R3-Q3*_xlfn.COT(X3))^2*SIN(X3)^2 -> 14.939974 | Q4: =(-(R3-Q3*_xlfn.COT(X3))*COS(X3)+SQRT(P4))*SIN(X3) -> 1.4463983 | R4: =R3+(_xlfn.COT(X3)*(Q4-Q3)) -> 5.7096761 | S4: =$FC4^2-(R3-Q3*_xlfn.COT(X3))^2*SIN(X3)^2 -> -19.752495 | U4: =ATAN(Q4/R4) -> 0.24810473 | V4: =SIN(O4)*(c_EXISOSI+bsel*($HX4-dr))/(c_EXISOSI+bsel*$HX4) -> 0.75116379 | W4: =ASIN(V4) -> 0.84982332 | X4: =W4+U3 -> 1.1008377
A5: =SQRT(c_s+b_s*Rg) -> 0.90909091 | F5: =F4+dtt -> 0.02769 | G5: =SQRT(kay2_)*F5/2 -> 0.012075841 | J5: =2*(1-COS(incid22))*EXP(-bsel*$HW5)/((1-COS(incid22))^2*EXP(-2*bsel*$HW5)+kay2_^2 ) -> 1 | K5: =K4+dtt -> 0.02769 | L5: =(-1/((kay2_-1)*TAN(G5)-1)-c_s)/b_s -> 5.8850609 | O5: =X4-U5 -> 0.85370021 | P5: =$L5^2-(R4-Q4*_xlfn.COT(X4))^2*SIN(X4)^2 -> 14.958752 | Q5: =(-(R4-Q4*_xlfn.COT(X4))*COS(X4)+SQRT(P5))*SIN(X4) -> 1.439659 | R5: =R4+(_xlfn.COT(X4)*(Q5-Q4)) -> 5.7062531 | S5: =$FC5^2-(R4-Q4*_xlfn.COT(X4))^2*SIN(X4)^2 -> -19.67519 | U5: =ATAN(Q5/R5) -> 0.24713747 | V5: =SIN(O5)*(c_EXISOSI+bsel*($HX5-dr))/(c_EXISOSI+bsel*$HX5) -> 0.7503256 | W5: =ASIN(V5) -> 0.84855448 | X5: =W5+U4 -> 1.0966592
F6: =F5+dtt -> 0.03692 | G6: =SQRT(kay2_)*F6/2 -> 0.016101121 | J6: =2*(1-COS(incid22))*EXP(-bsel*$HW6)/((1-COS(incid22))^2*EXP(-2*bsel*$HW6)+kay2_^2 ) -> 1 | K6: =K5+dtt -> 0.03692 | L6: =(-1/((kay2_-1)*TAN(G6)-1)-c_s)/b_s -> 5.8800996 | O6: =X5-U6 -> 0.85048181 | P6: =$L6^2-(R5-Q5*_xlfn.COT(X5))^2*SIN(X5)^2 -> 15.043831 | Q6: =(-(R5-Q5*_xlfn.COT(X5))*COS(X5)+SQRT(P6))*SIN(X5) -> 1.4329708 | R6: =R5+(_xlfn.COT(X5)*(Q6-Q5)) -> 5.7028208 | S6: =$FC6^2-(R5-Q5*_xlfn.COT(X5))^2*SIN(X5)^2 -> -19.53174 | U6: =ATAN(Q6/R6) -> 0.2461774 | V6: =SIN(O6)*(c_EXISOSI+bsel*($HX6-dr))/(c_EXISOSI+bsel*$HX6) -> 0.74821611 | W6: =ASIN(V6) -> 0.8453692 | X6: =W6+U5 -> 1.0925067
F7: =F6+dtt -> 0.04615 | G7: =SQRT(kay2_)*F7/2 -> 0.020126402 | J7: =2*(1-COS(incid22))*EXP(-bsel*$HW7)/((1-COS(incid22))^2*EXP(-2*bsel*$HW7)+kay2_^2 ) -> 1 | K7: =K6+dtt -> 0.04615 | L7: =(-1/((kay2_-1)*TAN(G7)-1)-c_s)/b_s -> 5.8751471 | O7: =X6-U7 -> 0.84728227 | P7: =$L7^2-(R6-Q6*_xlfn.COT(X6))^2*SIN(X6)^2 -> 15.128051 | Q7: =(-(R6-Q6*_xlfn.COT(X6))*COS(X6)+SQRT(P7))*SIN(X6) -> 1.4263331 | R7: =R6+(_xlfn.COT(X6)*(Q7-Q6)) -> 5.6993796 | S7: =$FC7^2-(R6-Q6*_xlfn.COT(X6))^2*SIN(X6)^2 -> -19.389303 | U7: =ATAN(Q7/R7) -> 0.2452244 | V7: =SIN(O7)*(c_EXISOSI+bsel*($HX7-dr))/(c_EXISOSI+bsel*$HX7) -> 0.7461113 | W7: =ASIN(V7) -> 0.84220235 | X7: =W7+U6 -> 1.0883797
F8: =F7+dtt -> 0.05538 | G8: =SQRT(kay2_)*F8/2 -> 0.024151682 | J8: =2*(1-COS(incid22))*EXP(-bsel*$HW8)/((1-COS(incid22))^2*EXP(-2*bsel*$HW8)+kay2_^2 ) -> 1 | K8: =K7+dtt -> 0.05538 | L8: =(-1/((kay2_-1)*TAN(G8)-1)-c_s)/b_s -> 5.8702033 | O8: =X7-U8 -> 0.8441014 | P8: =$L8^2-(R7-Q7*_xlfn.COT(X7))^2*SIN(X7)^2 -> 15.211416 | Q8: =(-(R7-Q7*_xlfn.COT(X7))*COS(X7)+SQRT(P8))*SIN(X7) -> 1.4197448 | R8: =R7+(_xlfn.COT(X7)*(Q8-Q7)) -> 5.6959294 | S8: =$FC8^2-(R7-Q7*_xlfn.COT(X7))^2*SIN(X7)^2 -> -19.247871 | U8: =ATAN(Q8/R8) -> 0.24427835 | V8: =SIN(O8)*(c_EXISOSI+bsel*($HX8-dr))/(c_EXISOSI+bsel*$HX8) -> 0.7440112 | W8: =ASIN(V8) -> 0.83905375 | X8: =W8+U7 -> 1.0842781
F9: =F8+dtt -> 0.06461 | G9: =SQRT(kay2_)*F9/2 -> 0.028176962 | J9: =2*(1-COS(incid22))*EXP(-bsel*$HW9)/((1-COS(incid22))^2*EXP(-2*bsel*$HW9)+kay2_^2 ) -> 1 | K9: =K8+dtt -> 0.06461 | L9: =(-1/((kay2_-1)*TAN(G9)-1)-c_s)/b_s -> 5.865268 | O9: =X8-U9 -> 0.84093903 | P9: =$L9^2-(R8-Q8*_xlfn.COT(X8))^2*SIN(X8)^2 -> 15.29393 | Q9: =(-(R8-Q8*_xlfn.COT(X8))*COS(X8)+SQRT(P9))*SIN(X8) -> 1.4132053 | R9: =R8+(_xlfn.COT(X8)*(Q9-Q8)) -> 5.6924705 | S9: =$FC9^2-(R8-Q8*_xlfn.COT(X8))^2*SIN(X8)^2 -> -19.10744 | U9: =ATAN(Q9/R9) -> 0.24333912 | V9: =SIN(O9)*(c_EXISOSI+bsel*($HX9-dr))/(c_EXISOSI+bsel*$HX9) -> 0.74191585 | W9: =ASIN(V9) -> 0.83592323 | X9: =W9+U8 -> 1.0802016
F10: =F9+dtt -> 0.07384 | G10: =SQRT(kay2_)*F10/2 -> 0.032202243 | J10: =2*(1-COS(incid22))*EXP(-bsel*$HW10)/((1-COS(incid22))^2*EXP(-2*bsel*$HW10)+kay2_^2 ) -> 1 | K10: =K9+dtt -> 0.07384 | L10: =(-1/((kay2_-1)*TAN(G10)-1)-c_s)/b_s -> 5.8603411 | O10: =X9-U10 -> 0.83779499 | P10: =$L10^2-(R9-Q9*_xlfn.COT(X9))^2*SIN(X9)^2 -> 15.375595 | Q10: =(-(R9-Q9*_xlfn.COT(X9))*COS(X9)+SQRT(P10))*SIN(X9) -> 1.4067136 | R10: =R9+(_xlfn.COT(X9)*(Q10-Q9)) -> 5.6890029 | S10: =$FC10^2-(R9-Q9*_xlfn.COT(X9))^2*SIN(X9)^2 -> -18.968002 | U10: =ATAN(Q10/R10) -> 0.24240659 | V10: =SIN(O10)*(c_EXISOSI+bsel*($HX10-dr))/(c_EXISOSI+bsel*$HX10) -> 0.73982528 | W10: =ASIN(V10) -> 0.83281063 | X10: =W10+U9 -> 1.0761498
F11: =F10+dtt -> 0.08307 | G11: =SQRT(kay2_)*F11/2 -> 0.036227523 | J11: =2*(1-COS(incid22))*EXP(-bsel*$HW11)/((1-COS(incid22))^2*EXP(-2*bsel*$HW11)+kay2_^2 ) -> 1 | K11: =K10+dtt -> 0.08307 | L11: =(-1/((kay2_-1)*TAN(G11)-1)-c_s)/b_s -> 5.8554223 | O11: =X10-U11 -> 0.8346691 | P11: =$L11^2-(R10-Q10*_xlfn.COT(X10))^2*SIN(X10)^2 -> 15.456416 | Q11: =(-(R10-Q10*_xlfn.COT(X10))*COS(X10)+SQRT(P11))*SIN(X10) -> 1.4002691 | R11: =R10+(_xlfn.COT(X10)*(Q11-Q10)) -> 5.6855269 | S11: =$FC11^2-(R10-Q10*_xlfn.COT(X10))^2*SIN(X10)^2 -> -18.829554 | U11: =ATAN(Q11/R11) -> 0.24148065 | V11: =SIN(O11)*(c_EXISOSI+bsel*($HX11-dr))/(c_EXISOSI+bsel*$HX11) -> 0.73773954 | W11: =ASIN(V11) -> 0.8297158 | X11: =W11+U10 -> 1.0721224
F12: =F11+dtt -> 0.0923 | G12: =SQRT(kay2_)*F12/2 -> 0.040252803 | J12: =2*(1-COS(incid22))*EXP(-bsel*$HW12)/((1-COS(incid22))^2*EXP(-2*bsel*$HW12)+kay2_^2 ) -> 1 | K12: =K11+dtt -> 0.0923 | L12: =(-1/((kay2_-1)*TAN(G12)-1)-c_s)/b_s -> 5.8505114 | O12: =X11-U12 -> 0.8315612 | P12: =$L12^2-(R11-Q11*_xlfn.COT(X11))^2*SIN(X11)^2 -> 15.536395 | Q12: =(-(R11-Q11*_xlfn.COT(X11))*COS(X11)+SQRT(P12))*SIN(X11) -> 1.3938709 | R12: =R11+(_xlfn.COT(X11)*(Q12-Q11)) -> 5.6820426 | S12: =$FC12^2-(R11-Q11*_xlfn.COT(X11))^2*SIN(X11)^2 -> -18.692089 | U12: =ATAN(Q12/R12) -> 0.24056119 | V12: =SIN(O12)*(c_EXISOSI+bsel*($HX12-dr))/(c_EXISOSI+bsel*$HX12) -> 0.73565866 | W12: =ASIN(V12) -> 0.82663857 | X12: =W12+U11 -> 1.0681192
F13: =F12+dtt -> 0.10153 | G13: =SQRT(kay2_)*F13/2 -> 0.044278084 | J13: =2*(1-COS(incid22))*EXP(-bsel*$HW13)/((1-COS(incid22))^2*EXP(-2*bsel*$HW13)+kay2_^2 ) -> 1 | K13: =K12+dtt -> 0.10153 | L13: =(-1/((kay2_-1)*TAN(G13)-1)-c_s)/b_s -> 5.8456084 | O13: =X12-U13 -> 0.82847113 | P13: =$L13^2-(R12-Q12*_xlfn.COT(X12))^2*SIN(X12)^2 -> 15.615536 | Q13: =(-(R12-Q12*_xlfn.COT(X12))*COS(X12)+SQRT(P13))*SIN(X12) -> 1.3875182 | R13: =R12+(_xlfn.COT(X12)*(Q13-Q12)) -> 5.67855 | S13: =$FC13^2-(R12-Q12*_xlfn.COT(X12))^2*SIN(X12)^2 -> -18.555601 | U13: =ATAN(Q13/R13) -> 0.2396481 | V13: =SIN(O13)*(c_EXISOSI+bsel*($HX13-dr))/(c_EXISOSI+bsel*$HX13) -> 0.73358266 | W13: =ASIN(V13) -> 0.82357878 | X13: =W13+U12 -> 1.06414
F14: =F13+dtt -> 0.11076 | G14: =SQRT(kay2_)*F14/2 -> 0.048303364 | J14: =2*(1-COS(incid22))*EXP(-bsel*$HW14)/((1-COS(incid22))^2*EXP(-2*bsel*$HW14)+kay2_^2 ) -> 1 | K14: =K13+dtt -> 0.11076 | L14: =(-1/((kay2_-1)*TAN(G14)-1)-c_s)/b_s -> 5.8407129 | O14: =X13-U14 -> 0.82539872 | P14: =$L14^2-(R13-Q13*_xlfn.COT(X13))^2*SIN(X13)^2 -> 15.693843 | Q14: =(-(R13-Q13*_xlfn.COT(X13))*COS(X13)+SQRT(P14))*SIN(X13) -> 1.3812105 | R14: =R13+(_xlfn.COT(X13)*(Q14-Q13)) -> 5.6750493 | S14: =$FC14^2-(R13-Q13*_xlfn.COT(X13))^2*SIN(X13)^2 -> -18.420085 | U14: =ATAN(Q14/R14) -> 0.23874126 | V14: =SIN(O14)*(c_EXISOSI+bsel*($HX14-dr))/(c_EXISOSI+bsel*$HX14) -> 0.7315116 | W14: =ASIN(V14) -> 0.8205363 | X14: =W14+U13 -> 1.0601844
F15: =F14+dtt -> 0.11999 | G15: =SQRT(kay2_)*F15/2 -> 0.052328644 | J15: =2*(1-COS(incid22))*EXP(-bsel*$HW15)/((1-COS(incid22))^2*EXP(-2*bsel*$HW15)+kay2_^2 ) -> 1 | K15: =K14+dtt -> 0.11999 | L15: =(-1/((kay2_-1)*TAN(G15)-1)-c_s)/b_s -> 5.8358249 | O15: =X14-U15 -> 0.82234383 | P15: =$L15^2-(R14-Q14*_xlfn.COT(X14))^2*SIN(X14)^2 -> 15.771318 | Q15: =(-(R14-Q14*_xlfn.COT(X14))*COS(X14)+SQRT(P15))*SIN(X14) -> 1.3749468 | R15: =R14+(_xlfn.COT(X14)*(Q15-Q14)) -> 5.6715407 | S15: =$FC15^2-(R14-Q14*_xlfn.COT(X14))^2*SIN(X14)^2 -> -18.285534 | U15: =ATAN(Q15/R15) -> 0.23784056 | V15: =SIN(O15)*(c_EXISOSI+bsel*($HX15-dr))/(c_EXISOSI+bsel*$HX15) -> 0.72944549 | W15: =ASIN(V15) -> 0.81751096 | X15: =W15+U14 -> 1.0562522
F16: =F15+dtt -> 0.12922 | G16: =SQRT(kay2_)*F16/2 -> 0.056353925 | J16: =2*(1-COS(incid22))*EXP(-bsel*$HW16)/((1-COS(incid22))^2*EXP(-2*bsel*$HW16)+kay2_^2 ) -> 1 | K16: =K15+dtt -> 0.12922 | L16: =(-1/((kay2_-1)*TAN(G16)-1)-c_s)/b_s -> 5.8309441 | O16: =X15-U16 -> 0.8193063 | P16: =$L16^2-(R15-Q15*_xlfn.COT(X15))^2*SIN(X15)^2 -> 15.847965 | Q16: =(-(R15-Q15*_xlfn.COT(X15))*COS(X15)+SQRT(P16))*SIN(X15) -> 1.3687265 | R16: =R15+(_xlfn.COT(X15)*(Q16-Q15)) -> 5.6680241 | S16: =$FC16^2-(R15-Q15*_xlfn.COT(X15))^2*SIN(X15)^2 -> -18.151945 | U16: =ATAN(Q16/R16) -> 0.23694591 | V16: =SIN(O16)*(c_EXISOSI+bsel*($HX16-dr))/(c_EXISOSI+bsel*$HX16) -> 0.72738437 | W16: =ASIN(V16) -> 0.81450262 | X16: =W16+U15 -> 1.0523432
F17: =F16+dtt -> 0.13845 | G17: =SQRT(kay2_)*F17/2 -> 0.060379205 | J17: =2*(1-COS(incid22))*EXP(-bsel*$HW17)/((1-COS(incid22))^2*EXP(-2*bsel*$HW17)+kay2_^2 ) -> 1 | K17: =K16+dtt -> 0.13845 | L17: =(-1/((kay2_-1)*TAN(G17)-1)-c_s)/b_s -> 5.8260704 | O17: =X16-U17 -> 0.81628598 | P17: =$L17^2-(R16-Q16*_xlfn.COT(X16))^2*SIN(X16)^2 -> 15.923787 | Q17: =(-(R16-Q16*_xlfn.COT(X16))*COS(X16)+SQRT(P17))*SIN(X16) -> 1.3625489 | R17: =R16+(_xlfn.COT(X16)*(Q17-Q16)) -> 5.6644997 | S17: =$FC17^2-(R16-Q16*_xlfn.COT(X16))^2*SIN(X16)^2 -> -18.01931 | U17: =ATAN(Q17/R17) -> 0.2360572 | V17: =SIN(O17)*(c_EXISOSI+bsel*($HX17-dr))/(c_EXISOSI+bsel*$HX17) -> 0.72532828 | W17: =ASIN(V17) -> 0.81151114 | X17: =W17+U16 -> 1.0484571
... F173: =F172+dtt -> 1.57833 | G173: =SQRT(kay2_)*F173/2 -> 0.68832294 | J173: =2*(1-COS(incid22))*EXP(-bsel*$HW173)/((1-COS(incid22))^2*EXP(-2*bsel*$HW173)+kay2_^2 ) -> 1 | K173: =K172+dtt -> 1.57833 | L173: =(-1/((kay2_-1)*TAN(G173)-1)-c_s)/b_s -> 5.0473481 | O173: =X172-U173 -> 0.50131701 | P173: =$L173^2-(R172-Q172*_xlfn.COT(X172))^2*SIN(X172)^2 -> 19.591901 | Q173: =(-(R172-Q172*_xlfn.COT(X172))*COS(X172)+SQRT(P173))*SIN(X172) -> 0.6585029 | R173: =R172+(_xlfn.COT(X172)*(Q173-Q172)) -> 5.0042079 | S173: =$FC173^2-(R172-Q172*_xlfn.COT(X172))^2*SIN(X172)^2 -> -5.8838223 | U173: =ATAN(Q173/R173) -> 0.1308381 | V173: =SIN(O173)*(c_EXISOSI+bsel*($HX173-dr))/(c_EXISOSI+bsel*$HX173) -> 0.47841829 | W173: =ASIN(V173) -> 0.49885261 | X173: =W173+U172 -> 0.6303233

Sheet linear
E1: 1-(Vl*SIN(R94C)*RC1/Al-COS(R94C))^2 | H1: =ABS(_xlfn.COT(I$8/2)) -> 0.043660943 | I1: =-LN(J8)/Vl -> -0.39141267 | J1: -6 | DY1: Gh | DZ1: Rg | EA1: =5 -> 5 | EB1: cb | EC1: =102 -> 102 | ED1: dc | EE1: =1-cb -> -101 | EF1: dist1 | EG1: =60*Rg*SQRT(1+(1-120*COS(fia))/3500) -> 297.69923 | EH1: Rg sinφ | EI1: =ApGS*SIN(fia) -> 267.30196 | EJ1: theta | EK1: =IF(proto>0,ATAN(EI1/proto),IF(proto=0, PI()/2, PI()/2+proto)) -> 1.1145196 | EV1: Function taXYtis(r) | FB1: TOMI EYTIAS APO XATHESI, YTHESI | FH1: Distan xa | FI1: =SQRT(xathesi1^2+yathesi1^2) -> 299.97865 | FJ1: efatp= | FK1: =SQRT(Distan_xa^2-rarxiko^2) -> 299.92063 | FL1: eps1 | FM1: =ATAN(rarxiko/FK1) -> 0.019669334 | FN1: eps1 | FO1: =ATAN(yathesi1/xathesi1) -> 0.46707269 | FP1: klisi1 | FQ1: =FO1-FM1 -> 0.44740335 | FR1: lysh1 | FS1: =-rarxiko/(SIN(ATAN(FQ1))) -> -14.446882 | FT1: 0 | FU1: incid1 | FV1: =alfagon-fia -> 0.014962212 | FW1: finding the tangents to the moon | FZ1: =FZ3-FZ4 -> 34697.054 | GC1: =-c_EXISOSI/(2*bsel) -> -2 | GD1: =1/natm -> 0.90909091 | GE1: =1*(1-1/natm)/hatm -> 0.1010101 | GF1: =bsel -> 0.1010101 | GG1: =(1-1/natm)/hatm -> 0.1010101 | GJ1: sina0 | GK1: =4*bsel/c_EXISOSI^2 -> 2.475
A2: dtl | B2: 0.08 | D2: Al*(SIGN(SIN(R94C[-1]))*SQRT(RC[-1])-SIN(R94C[-1]))/(Vl*SIN(R94C[-1])) | K2: =Al/Vl*(SIGN(SIN(I$8))*(1)-SIN(I$8))/SIN(I$8) -> 43.204067 | Q2: Γ(Α+Βy)=ζ | R2: Y=(Z/Γ-A)/B | CP2: =IF(OR(CP$5<90,CP$5>270),-CP$8,CP$8) -> -0.25344868 | CQ2: 1.1 | CS2: =IF(OR(CS$5<90,CS$5>270),-CS$8,CS$8) -> 0.18830678 | CT2: =CT3 -> 1.1 | CV2: =IF(OR(CV$5<90,CV$5>270),-CV$8,CV$8) -> 0.081604572 | CW2: =CW3 -> 1.1 | CY2: =IF(OR(CY$5<90,CY$5>270),-CY$8,CY$8) -> -0.1101717 | CZ2: =CZ3 -> 1.1 | DB2: =IF(OR(DB$5<90,DB$5>270),-DB$8,DB$8) -> -0.39141267 | DC2: =DC3 -> 1.1 | DY2: Selin | DZ2: Rs | EA2: =Rg/4 -> 1.25 | EB2: natm | EC2: 1.2 | EE2: natm | EF2: 1.1 | EH2: proto | EI2: =ApGS*COS(fia)-Rg -> 131.19715 | EJ2: R1 | EK2: xathesi | EL2: yathesi | EV2: c0 = 1 'ταχύτητα στο κενό | EY2: xarxiko= | EZ2: =(xathesi1+xbthesi1)/2 -> 267.29725 | FB2: Y=YTHESIS+TAN(ALFAGON)*(X-XATHESI) | FH2: Distan xb | FI2: =SQRT(xbthesi1^2+ybthesi1^2) -> 300.01606 | FJ2: efaptb | FK2: =SQRT(Distan_xb^2-rarxiko^2) -> 299.95804 | FL2: e;s2 | FM2: =ATAN(rarxiko/FK2) -> 0.019666882 | FN2: eps2 | FO2: =ATAN((ybthesi1/xbthesi1)) -> 0.47540511 | FP2: klisi2 | FQ2: =FO2-FM2 -> 0.45573823 | FR2: lysh2 | FS2: =-rarxiko/(SIN(ATAN(FQ2))) -> -14.227074 | FX2: Rs^2-xs^2 | FY2: =Rs^2-xs^2 -> -71448.774 | FZ2: =FZ3+FZ4 -> 35441.456 | GC2: A_exisosi | GD2: Asel | GE2: bsel | GJ2: a0 | GK2: =ASIN(GK1) -> #NUM! | GL2: =DEGREES(GK2) -> #NUM!
A3: Al | B3: 33 | C3: =Al/Vl*$F$8 -> 4.9159836 | E3: xreflection | G3: =-1/Vl*Al*_xlfn.COT(E$8) -> -0.7273488 | I3: xreflection | J3: =Al/Vl*_xlfn.COT(I$8) -> 47.148966 | K3: yrefection | CP3: =CP2 -> -0.25344868 | CQ3: 1.1 | CS3: =CS2 -> 0.18830678 | CT3: 1.1 | CV3: =CV2 -> 0.081604572 | CW3: 1.1 | CY3: =CY2 -> -0.1101717 | CZ3: 1.1 | DB3: =DB2 -> -0.39141267 | DC3: 1.1 | DX3: apostasi gis selinis | DZ3: ApGS | EA3: =60*Rg -> 300 | EB3: fm | EC3: =RADIANS(0.5) -> 0.0087266463 | EI3: =ATAN(ApGS*SIN(fia)/(ApGS*COS(fia)-Rg)) -> 1.1145196 | EK3: =dist1*SIN(theta)-Rs*COS(theta-fm/2) -> 266.68872 | EL3: =rarxiko+dist1*COS(theta)+Rs*SIN(theta-fm/2) -> 138.18859 | EV3: cb = c0 / Natm | EY3: yarxkio | EZ3: =(yathesi1+ybthesi1)/2 -> 136.19484 | FB3: DIAKRINOYSA | FC3: =rarxiko^2*(1+TAN(alfagon)^2)-(TAN(alfagon)*xathesi1-yathesi1)^2 -> -168448.04 | FE3: =rarxiko^2*(1+TAN(alfagon)^2) -> 179.30722 | FG3: =(TAN(alfagon)*xathesi1-yathesi1)^2 -> 168627.35 | FL3: gonia | FO3: klixi xaya | FX3: dys | FY3: =Rg-ys -> -131.19715 | FZ3: =-dys*xs -> 35069.255 | GB3: =(-ys-rarxiko) -> -142.09715 | GD3: c_0 | GE3: =1/natm -> 0.90909091
A4: Vl | B4: 8 | E4: dtref | F4: =ABS(F$6/25) -> 0.00087712915 | G4: yreflection | I4: dtref | J4: =ABS(J$6/15) -> 0.026094178 | K4: =Al*(SIGN(SIN(I$8))*SQRT(1)-SIN(I$8))/(Vl*SIN(I$8)) -> 43.204067 | L4: =L$6/25 -> 0 | N4: dtref | O4: =O$6/25 -> #REF! | Q4: dtref | R4: =R$6/25 -> #REF! | T4: dtref | U4: =U$6/25 -> #REF! | W4: dtref | X4: =X$6/25 -> #REF! | Z4: dtref | AA4: =AA$6/25 -> #REF! | AC4: dtref | AD4: =AD$6/25 -> #REF! | AF4: dtref | AG4: =AG$6/25 -> #REF! | AI4: dtref | AJ4: =AJ$6/25 -> #REF! | AL4: dtref | AM4: =AM$6/25 -> #REF! | AO4: dtref | AP4: =AP$6/25 -> #REF! | CP4: ="a0="&CP5 -> a0=15 | CS4: ="a0="&CS5 -> a0=155 | CV4: ="a0="&CV5 -> a0=235 | CY4: ="a0="&CY5 -> a0=45 | DB4: ="a0="&DB5 -> a0=5 | DL4: 5 | DM4: =RADIANS(DL4) -> 0.087266463 | DN4: =ABS(_xlfn.COT(DM4/2)) -> 22.903766 | DO4: =LN(DN4)*Vl -> 25.050411 | DP4: =Al/Vl*_xlfn.COT(DM4) -> 47.148966 | DQ4: =Al/Vl*(1/ABS(SIN(DM4))-1) -> 43.204067 | DU4: ="fia = "&fia_mires -> fia = 63 | DX4: fia_mires | DY4: 63 | DZ4: fia | EA4: =RADIANS(DY4) -> 1.0995574 | EB4: goniako megethos | EE4: c | EF4: INDEX | EG4: X | EH4: Y | EK4: xbthesi | EL4: ybthesi | EV4: If r >= RG + hATMOS Then | EY4: xteliko | EZ4: 0 | FB4: LINE FROM MOON TO UPPER POINT OF ATMOSPHERE | FL4: me efthia | FM4: =ASIN(rarxiko/Distan_xa) -> 0.019669334 | FO4: klisi xbyb | FS4: =FS1 -> -14.446882 | FT4: 0 | FU4: =Rg*SIN(ATAN(FY6)) -> 2.2218669 | FV4: =-Rg*COS(ATAN(FY6)) -> -4.4792084 | FX4: diakt | FY4: =Rs^2 *(dys^2+xs^2-Rs^2) -> 138533.54 | FZ4: =SQRT(diakt) -> 372.20094 | GB4: =-xs -> -267.30196 | GE4: =Rg -> 5
A5: Gl | B5: =SIN(B$8)/Al -> 0.0026410831 | D5: Gl | E5: =SIN(E$8)/Al -> -0.029842659 | F5: treflection | G5: =1/(Vl*E5)*(1-SIN(E$8)) -> -8.3136348 | H5: Gl | I5: =SIN(I$8)/Al -> -0.0026410831 | J5: treflection | K5: =LN(J$8)/Vl -> 0.39141267 | L5: treflection | M5: Gl | N5: =SIN(N$8)/Al -> #REF! | O5: treflection | P5: Gl | Q5: =SIN(Q$8)/Al -> #REF! | R5: treflection | S5: Gl | T5: =SIN(T$8)/Al -> #REF! | U5: treflection | V5: yreflection | W5: =SIN(W$8)/Al -> #REF! | X5: treflection | Y5: yreflection | Z5: =SIN(Z$8)/Al -> #REF! | AA5: treflection | AB5: yreflection | AC5: =SIN(AC$8)/Al -> #REF! | AD5: treflection | AE5: yreflection | AF5: =SIN(AF$8)/Al -> #REF! | AG5: treflection | AH5: yreflection | AI5: =SIN(AI$8)/Al -> #REF! | AJ5: treflection | AK5: yreflection | AL5: =SIN(AL$8)/Al -> #REF! | AM5: treflection | AN5: yreflection | AO5: =SIN(AO$8)/Al -> #REF! | AP5: treflection | AQ5: yreflection | AR5: =SIN(AR$8)/Al -> #REF! | AS5: treflection | AT5: yreflection | AU5: =SIN(AU$8)/Al -> #REF! | AV5: treflection | AW5: yreflection | CP5: 15 | CS5: 155 | CT5: =SIN(CS6) -> 0.42261826 | CV5: 235 | CW5: =CW10 -> 0.04241982 | CY5: 45 | CZ5: =CZ10 -> 0.19492958 | DB5: 5 | DC5: =DC10 -> 0.99764488 | DL5: =DL4+10 -> 15 | DM5: =RADIANS(DL5) -> 0.26179939 | DN5: =ABS(_xlfn.COT(DM5/2)) -> 7.5957541 | DO5: =LN(DN5)*Vl -> 16.220715 | DP5: =Al/Vl*_xlfn.COT(DM5) -> 15.39471 | DQ5: =Al/Vl*(1/ABS(SIN(DM5))-1) -> 11.812776 | DU5: 2.75 | DV5: 5.5 | DY5: 54 | DZ5: alfagon | EA5: =epsi -> 1.0747562 | EC5: 6 | EE5: =IF(EC5>rarxiko,1,IF(EC5>Rg,1-dc*(rarxiko-EC5)/hatm,0)) -> 1 | EF5: =IF(EC5>Rg,1/EE5,0) -> 1 | EK5: =dist1*SIN(theta)-Rs*COS(theta+fm/2) -> 266.69851 | EL5: =rarxiko+dist1*COS(theta)-Rs*COS(theta+fm/2) -> 136.52303 | EV5: c1 = c0 'ταχύτητα φωτός αν είμαστε έξω από την ατμόσφαιρα | EY5: tana | EZ5: {=(yarxiko-Rg)/xarxiko} -> 0.49082001 | FB5: =xathesi1 -> 267.848 | FC5: =yathesi1 -> 135.07272 | FH5: tanakA | FI5: =(yathesi1-ys)/(xathesi1-xs) -> -2.0592173 | FJ5: =ATAN(FI5) -> -1.1187176 | FL5: kentroy | FS5: =xathesi1 -> 267.848 | FT5: =yathesi1 -> 135.07272 | FU5: =xbthesi1 -> 266.74649 | FV5: =ybthesi1 -> 137.31695 | FW5: =ATAN(FY5) -> 0.45207871 | FX5: t1 | FY5: =(dys*xs+SQRT(diakt))/(Rs^2-xs^2) -> 0.48562141 | FZ5: =ATAN(FY5) -> 0.45207871 | GE5: =hatm -> 0.9
A6: z0 | B6: =B$5*Al -> 0.087155743 | C6: 5 | D6: z0 | E6: =E$5*Al -> -0.98480775 | F6: =ABS(LN(ABS(TAN(E$8/2)))/Vl) -> 0.021928229 | G6: z0 | H6: z0 | I6: =I$5*Al -> -0.087155743 | J6: =ABS(LN(ABS(TAN(I$8/2)))/Vl) -> 0.39141267 | K6: z0 | M6: z0 | N6: =N$5*Al -> #REF! | O6: =LN(O8)/Vl -> #REF! | P6: z0 | Q6: =Q$5*Al -> #REF! | R6: =LN(R8)/Vl -> #REF! | S6: z0 | T6: =T$5*Al -> #REF! | U6: =LN(U8)/Vl -> #REF! | V6: =Al/(Vl*SIN(T$8)*(1-SIN(T$8))) -> #REF! | W6: =W$5*Al -> #REF! | X6: =LN(X8)/Vl -> #REF! | Y6: =Al/(Vl*SIN(W$8)*(1-SIN(W$8))) -> #REF! | Z6: =Z$5*Al -> #REF! | AA6: =LN(AA8)/Vl -> #REF! | AB6: =Al/(Vl*SIN(Z$8)*(1-SIN(Z$8))) -> #REF! | AC6: =AC$5*Al -> #REF! | AD6: =LN(AD8)/Vl -> #REF! | AE6: =Al/(Vl*SIN(AC$8)*(1-SIN(AC$8))) -> #REF! | AF6: =AF$5*Al -> #REF! | AG6: =LN(AG8)/Vl -> #REF! | AH6: =Al/(Vl*SIN(AF$8)*(1-SIN(AF$8))) -> #REF! | AI6: =AI$5*Al -> #REF! | AJ6: =LN(AJ8)/Vl -> #REF! | AK6: =Al/(Vl*SIN(AI$8)*(1-SIN(AI$8))) -> #REF! | AL6: =AL$5*Al -> #REF! | AM6: =LN(AM8)/Vl -> #REF! | AN6: =Al/(Vl*SIN(AL$8)*(1-SIN(AL$8))) -> #REF! | AO6: =AO$5*Al -> #REF! | AP6: =LN(AP8)/Vl -> #REF! | AQ6: =Al/(Vl*SIN(AO$8)*(1-SIN(AO$8))) -> #REF! | AR6: =AR$5*Al -> #REF! | AS6: =LN(AS8)/Vl -> #REF! | AT6: =Al/(Vl*SIN(AR$8)*(1-SIN(AR$8))) -> #REF! | AU6: =AU$5*Al -> #REF! | AV6: =LN(AV8)/Vl -> #REF! | AW6: =Al/(Vl*SIN(AU$8)*(1-SIN(AU$8))) -> #REF! | CO6: =_xlfn.COT(CP6/2) -> 7.5957541 | CP6: =RADIANS(CP5) -> 0.26179939 | CR6: =_xlfn.COT(CS6/2) -> 0.22169466 | CS6: =RADIANS(CS5) -> 2.7052603 | CT6: =Al/Vl*(1/SIN(CS6)-1) -> 5.6355815 | CU6: =_xlfn.COT(CV6/2) -> -0.52056705 | CV6: =RADIANS(CV5) -> 4.1015237 | CW6: =Al/Vl*(SIGN(SIN(CV6))*1/SIN(CV6)-1) -> 0.91069518 | CX6: =_xlfn.COT(CY6/2) -> 2.4142136 | CY6: =RADIANS(CY5) -> 0.78539816 | CZ6: =Al/Vl*(SIGN(SIN(CY6))*1/SIN(CY6)-1) -> 1.7086309 | DA6: =_xlfn.COT(DB6/2) -> 22.903766 | DB6: =RADIANS(DB5) -> 0.087266463 | DC6: =Al/Vl*(1/SIN(DB6)-1) -> 43.204067 | DL6: =DL5+10 -> 25 | DM6: =RADIANS(DL6) -> 0.43633231 | DN6: =ABS(_xlfn.COT(DM6/2)) -> 4.5107085 | DO6: =LN(DN6)*Vl -> 12.051634 | DP6: =Al/Vl*_xlfn.COT(DM6) -> 8.846091 | DQ6: =Al/Vl*(1/ABS(SIN(DM6))-1) -> 5.6355815 | DU6: =DU5 -> 2.75 | DV6: 0 | DZ6: hatm | EA6: 0.9 | EC6: =EC5-dr -> 5.982 | EE6: =IF(EC6>rarxiko,1,IF(EC6>Rg,1-dc*(rarxiko-EC6)/hatm,0)) -> 1 | EF6: =IF(EC6>Rg,1/EE6,0) -> 1 | EK6: {=xbthesi(theta)} -> #NAME? | EL6: {=yBthesi(theta, dist1)} -> #NAME? | EV6: ElseIf r >= RG And r < RG + hATMOS Then | EY6: alfagon | EZ6: {=PI()/2-ATAN(tana)} -> 1.1145196 | FB6: 0 | FC6: =yathesi1+TAN(alfagon)*(FB6-xathesi1) -> -410.6426 | FF6: xs | FG6: =ApGS*SIN(fia) -> 267.30196 | FJ6: =ATAN2(xs-xathesi1,ys-yathesi1) -> 2.022875 | FL6: efaptomenis | FU6: xathesi1 | FV6: yathesi1 | FW6: =ATAN(FY6) -> 0.46047466 | FX6: t2 | FY6: =(dys*xs-SQRT(diakt))/(Rs^2-xs^2) -> 0.49604009 | FZ6: =ATAN(FY6) -> 0.46047466 | GD6: c_EXISOSI | GE6: =c_0-Rg*(1-1/natm)/hatm -> 0.4040404
B7: 0 | C7: 5 | E7: -100 | F7: k | G7: =-Al/Vl*TAN(E$8/2) -> 4.9159836 | H7: =COS(I8) -> -0.9961947 | I7: -175 | J7: k | K7: =-Al/Vl*TAN(I$8/2) -> 94.478033 | L7: k | N7: =#REF!+10 -> #REF! | O7: k | Q7: =N7+10 -> #REF! | R7: k | T7: =Q7+10 -> #REF! | U7: k | W7: =T7+10 -> #REF! | X7: k | Z7: =W7+10 -> #REF! | AA7: k | AC7: =Z7+10 -> #REF! | AD7: k | AF7: =AC7+10 -> #REF! | AG7: k | AI7: =AF7+10 -> #REF! | AJ7: k | AL7: =AI7+10 -> #REF! | AM7: k | AO7: =AL7+10 -> #REF! | AP7: k | AR7: =AO7+10 -> #REF! | AS7: k | AU7: =AR7+10 -> #REF! | AV7: k | AX7: =AU7+10 -> #REF! | BA7: =AX7+10 -> #REF! | BD7: =BA7+10 -> #REF! | BG7: =BD7-10 -> #REF! | BJ7: =BG7-10 -> #REF! | BM7: =BJ7-10 -> #REF! | BP7: =BM7-10 -> #REF! | BS7: =BP7-10 -> #REF! | BV7: =BS7-10 -> #REF! | BY7: =BV7-10 -> #REF! | CB7: =BY7-10 -> #REF! | CE7: =CB7-10 -> #REF! | CH7: =CE7-10 -> #REF! | CK7: =CH7-10 -> #REF! | CN7: =CK7-10 -> #REF! | CP7: =ABS(_xlfn.COT(CP6/2)) -> 7.5957541 | CR7: =Al/Vl*_xlfn.COT(CP6) -> 15.39471 | CS7: =ABS(_xlfn.COT(CS6/2)) -> 0.22169466 | CT7: =Al/Vl*_xlfn.COT(CS6) -> -8.846091 | CV7: =ABS(_xlfn.COT(CV6/2)) -> 0.52056705 | CW7: =Al/Vl*_xlfn.COT(CV6) -> 2.8883561 | CY7: =ABS(_xlfn.COT(CY6/2)) -> 2.4142136 | CZ7: =Al/Vl*_xlfn.COT(CY6) -> 4.125 | DB7: =ABS(_xlfn.COT(DB6/2)) -> 22.903766 | DC7: =Al/Vl*_xlfn.COT(DB6) -> 47.148966 | DF7: =DC7-10 -> 37.148966 | DL7: =DL6+10 -> 35 | DM7: =RADIANS(DL7) -> 0.61086524 | DN7: =ABS(_xlfn.COT(DM7/2)) -> 3.1715948 | DO7: =LN(DN7)*Vl -> 9.2338764 | DP7: =Al/Vl*_xlfn.COT(DM7) -> 5.8911105 | DQ7: =Al/Vl*(1/ABS(SIN(DM7))-1) -> 3.066718 | DZ7: rarxiko | EA7: =Rg+hatm -> 5.9 | EC7: =EC6-dr -> 5.964 | EE7: =IF(EC7>rarxiko,1,IF(EC7>Rg,1-dc*(rarxiko-EC7)/hatm,0)) -> 1 | EF7: =IF(EC7>Rg,1/EE7,0) -> 1 | EH7: prota = RG - RGS * Cos(fi) | EV7: cb = c0 / Natm 'ταχύτητα στην επιφάνεια της γης | FC7: =TAN(alfagon) -> 2.0374067 | FD7: =alfagon -> 1.1145196 | FF7: ys | FG7: =ApGS*COS(fia) -> 136.19715 | FI7: SHMEIOEP | FP7: =2*Rs/ApGS -> 0.0083333333 | FR7: roots | FS7: =ys -> 136.19715 | FT7: xbb | FU7: =-(dys*t1_-xs)/(t1_^2+1) -> 267.848 | FV7: =Rg+FY5*FU7 -> 135.07272 | FW7: =AVERAGE(FW5:FW6) -> 0.45627669 | FX7: the 2 tangents to moon | FZ7: =ABS(FZ5-FZ6) -> 0.0083959531 | GA7: angle of moon
B8: =RADIANS(C7) -> 0.087266463 | D8: =SIN(E8) -> -0.98480775 | E8: =RADIANS(E7) -> -1.7453293 | F8: =ABS(TAN(E8/2)) -> 1.1917536 | G8: xlmit | H8: =SIN(I8) -> -0.087155743 | I8: =RADIANS(I7) -> -3.0543262 | J8: =ABS(TAN(I8/2)) -> 22.903766 | K8: xlmit | N8: =RADIANS(N7) -> #REF! | O8: =_xlfn.COT(N8/2) -> #REF! | Q8: =RADIANS(Q7) -> #REF! | R8: =_xlfn.COT(Q8/2) -> #REF! | T8: =RADIANS(T7) -> #REF! | U8: =_xlfn.COT(T8/2) -> #REF! | W8: =RADIANS(W7) -> #REF! | X8: =_xlfn.COT(W8/2) -> #REF! | Z8: =RADIANS(Z7) -> #REF! | AA8: =_xlfn.COT(Z8/2) -> #REF! | AC8: =RADIANS(AC7) -> #REF! | AD8: =_xlfn.COT(AC8/2) -> #REF! | AF8: =RADIANS(AF7) -> #REF! | AG8: =_xlfn.COT(AF8/2) -> #REF! | AI8: =RADIANS(AI7) -> #REF! | AJ8: =_xlfn.COT(AI8/2) -> #REF! | AL8: =RADIANS(AL7) -> #REF! | AM8: =_xlfn.COT(AL8/2) -> #REF! | AO8: =RADIANS(AO7) -> #REF! | AP8: =_xlfn.COT(AO8/2) -> #REF! | AR8: =RADIANS(AR7) -> #REF! | AS8: =_xlfn.COT(AR8/2) -> #REF! | AU8: =RADIANS(AU7) -> #REF! | AV8: =_xlfn.COT(AU8/2) -> #REF! | AX8: =RADIANS(AX7) -> #REF! | BA8: =RADIANS(BA7) -> #REF! | BD8: =RADIANS(BD7) -> #REF! | BG8: =RADIANS(BG7) -> #REF! | BJ8: =RADIANS(BJ7) -> #REF! | BM8: =RADIANS(BM7) -> #REF! | BP8: =RADIANS(BP7) -> #REF! | BS8: =RADIANS(BS7) -> #REF! | BV8: =RADIANS(BV7) -> #REF! | BY8: =RADIANS(BY7) -> #REF! | CB8: =RADIANS(CB7) -> #REF! | CE8: =RADIANS(CE7) -> #REF! | CH8: =RADIANS(CH7) -> #REF! | CK8: =RADIANS(CK7) -> #REF! | CN8: =RADIANS(CN7) -> #REF! | CO8: tm | CP8: =LN(CP7)/Vl -> 0.25344868 | CR8: =1.1 -> 1.1 | CS8: =ABS(LN(CS7)/Vl) -> 0.18830678 | CT8: =CT5 -> 0.42261826 | CV8: =-LN(CV7)/Vl -> 0.081604572 | CW8: =CW5 -> 0.04241982 | CY8: =LN(CY7)/Vl -> 0.1101717 | CZ8: 1.1 | DB8: =LN(DB7)/Vl -> 0.39141267 | DC8: 1.1 | DF8: =RADIANS(DF7) -> 0.64837177 | DL8: =DL7+10 -> 45 | DM8: =RADIANS(DL8) -> 0.78539816 | DN8: =ABS(_xlfn.COT(DM8/2)) -> 2.4142136 | DO8: =LN(DN8)*Vl -> 7.0509887 | DP8: =Al/Vl*_xlfn.COT(DM8) -> 4.125 | DQ8: =Al/Vl*(1/ABS(SIN(DM8))-1) -> 1.7086309 | DU8: "CHANGE ANGLE FIA FOR POSITION OF CELESTIAL BODY" | DZ8: dr | EA8: =hatm/50 -> 0.018 | EC8: =EC7-dr -> 5.946 | EE8: =IF(EC8>rarxiko,1,IF(EC8>Rg,1-dc*(rarxiko-EC8)/hatm,0)) -> 1 | EF8: =IF(EC8>Rg,1/EE8,0) -> 1 | EH8: a = RGS * Sin(fi) / prota | EL8: =DEGREES(EM8) -> 62.175943 | EM8: =PI()/2-EN8 -> 1.0851749 | EN8: =(dys*xs+Rs*SQRT(dys^2+xs^2-Rs^2))/(Rs^2-xs^2) -> 0.48562141 | EV8: ca = c0: dc = cb - ca: deltar = hATMOS 'η μεταβολή ανάλογη με το ύψος | FI8: =-Rg*COS(FJ5) -> -2.1841818 | FJ8: =FI8*FI5 -> 4.497705 | FK8: y=tan*x | FL8: =FI8 -> -2.1841818 | FM8: =FJ8 -> 4.497705 | FN8: =-FL8 -> 2.1841818 | FO8: =-FM8 -> -4.497705 | FP8: =DEGREES(FP7) -> 0.47746483 | FS8: =xs -> 267.30196 | FY8: α | FZ8: =DEGREES(FZ7) -> 0.48105268 | GA8: in degrees | GE8: =Kay*bsel/(1+Kay*c_EXISOSI^2/(4*bsel)) -> 0.0015021972 | GG8: with
B9: X | D9: t after refle | E9: z | F9: x | G9: y | H9: t after refle | I9: z | J9: x | K9: y | L9: x | M9: t after refle | N9: z | O9: x | P9: t after refle | Q9: z | R9: x | S9: t after refle | T9: z | U9: x | V9: y | W9: z | X9: x | Y9: y | Z9: z | AA9: x | AB9: y | AC9: z | AD9: x | AE9: y | AF9: z | AG9: x | AH9: y | AI9: z | AJ9: x | AK9: y | AL9: z | AM9: x | AN9: y | AO9: z | AP9: x | AQ9: y | AR9: z | AS9: x | AT9: y | AU9: z | AV9: x | AW9: y | CO9: t | CP9: ξ | CR9: =CR8 -> 1.1 | CS9: =CS8 -> 0.18830678 | CT9: =CT8 -> 0.42261826 | CV9: =CV8 -> 0.081604572 | CW9: =CW8 -> 0.04241982 | CY9: =CY8 -> 0.1101717 | CZ9: =CZ8 -> 1.1 | DB9: =DB8 -> 0.39141267 | DC9: =DC8 -> 1.1 | DL9: =DL8+10 -> 55 | DM9: =RADIANS(DL9) -> 0.95993109 | DN9: =ABS(_xlfn.COT(DM9/2)) -> 1.9209821 | DO9: =LN(DN9)*Vl -> 5.2226926 | DP9: =Al/Vl*_xlfn.COT(DM9) -> 2.8883561 | DQ9: =Al/Vl*(1/ABS(SIN(DM9))-1) -> 0.91069518 | DU9: =DU5 -> 2.75 | DV9: =6 -> 6 | EC9: =EC8-dr -> 5.928 | EE9: =IF(EC9>rarxiko,1,IF(EC9>Rg,1-dc*(rarxiko-EC9)/hatm,0)) -> 1 | EF9: =IF(EC9>Rg,1/EE9,0) -> 1 | EH9: =ApGS*COS(fia) -> 136.19715 | EL9: =DEGREES(EM9) -> 61.578997 | EM9: =PI()/2-EN9 -> 1.0747562 | EN9: =(dys*xs-Rs*SQRT(dys^2+xs^2-Rs^2))/(Rs^2-xs^2) -> 0.49604009 | EV9: c1 = ca + dc / deltar * (RG + hATMOS - r) 'c0 * (1 - 1 * paragontas * ((RG + hATMOS) / r) ^ 1) ^ 0.5 | FI9: 0 | FJ9: 0 | FK9: x^2(1+tanf^2)=R^2 | FL9: =xathesi1 -> 267.848 | FM9: =yathesi1 -> 135.07272 | FN9: =xbthesi1 -> 266.74649 | FO9: =ybthesi1 -> 137.31695 | FU9: 0 | FV9: =rarxiko -> 5.9 | FY9: with wrong assumptions
A10: 0 | B10: {=XtoYt($A10,Al,Vl,B$8)} -> 0 | C10: {=YtoyX(B10,Al,Vl,B$8)} -> -9.7699626e-15 | D10: 0 | E10: =2*EXP(Vl*(D10-LN(F$8)/Vl))/(1+EXP(2*Vl*(D10-LN(F$8)/Vl))) -> 0.98480775 | F10: =IF(D10<G$5,-1/(Vl*E$5)*(SIGN(SIN(F$8))*SQRT(1-E10^2)-COS(E$8)),2*F$3+1/(Vl*E$5)*(SIGN(SIN(F$8))*SQRT(1-E10^2)-COS(E$8))) -> -1.4546976 | G10: =Al*(SIGN(SIN(E$8))*SQRT(1-(Vl*SIN(E$8)*F10/Al-COS(E$8))^2)-SIN(E$8))/(Vl*SIN(E$8)) -> -0.54962102 | H10: 0 | I10: =2*EXP(Vl*(H10-LN(J$8)/Vl))/(1+EXP(2*Vl*(H10-LN(J$8)/Vl))) -> 0.087155743 | J10: =IF(H10<K$5,-1/(Vl*I$5)*(SIGN(SIN(J$8))*SQRT(1-I10^2)-COS(I$8)),2*J$3+1/(Vl*I$5)*(SIGN(SIN(J$8))*SQRT(1-I10^2)-COS(I$8))) -> 0 | K10: =Al*(SIGN(SIN(I$8))*SQRT(1-(Vl*SIN(I$8)*J10/Al-COS(I$8))^2)-SIN(I$8))/(Vl*SIN(I$8)) -> -1.0509164e-14 | CO10: -0.4 | CP10: =IF(OR(CP$5<90,CP$5>270),CO10+CP$8,CO10-CP$8) -> -0.14655132 | CQ10: =2*EXP(Vl*CP10)/(1+EXP(2*Vl*CP10)) -> 0.56506935 | CR10: -0.4 | CS10: =IF(OR(CS$5<90,CS$5>270),CR10+CS$8,CR10-CS$8) -> -0.58830678 | CT10: =2*EXP(Vl*CS10)/(1+EXP(2*Vl*CS10)) -> 0.01807205 | CU10: -0.4 | CV10: =IF(OR(CV$5<90,CV$5>270),CU10+CV$8,CU10-CV$8) -> -0.48160457 | CW10: =2*EXP(Vl*CV10)/(1+EXP(2*Vl*CV10)) -> 0.04241982 | CX10: -0.4 | CY10: =IF(OR(CY$5<90,CY$5>270),CX10+CY$8,CX10-CY$8) -> -0.2898283 | CZ10: =2*EXP(Vl*CY10)/(1+EXP(2*Vl*CY10)) -> 0.19492958 | DA10: -0.4 | DB10: =IF(OR(DB$5<90,DB$5>270),DA10+DB$8,DA10-DB$8) -> -0.0085873336 | DC10: =2*EXP(Vl*DB10)/(1+EXP(2*Vl*DB10)) -> 0.99764488 | DL10: =DL9+10 -> 65 | DM10: =RADIANS(DL10) -> 1.134464 | DN10: =ABS(_xlfn.COT(DM10/2)) -> 1.5696856 | DO10: =LN(DN10)*Vl -> 3.6070026 | DP10: =Al/Vl*_xlfn.COT(DM10) -> 1.9235191 | DQ10: =Al/Vl*(1/ABS(SIN(DM10))-1) -> 0.42643392 | DU10: =DU9 -> 2.75 | DV10: =0 -> 0 | EC10: =EC9-dr -> 5.91 | EE10: =IF(EC10>rarxiko,1,IF(EC10>Rg,1-dc*(rarxiko-EC10)/hatm,0)) -> 1 | EF10: =IF(EC10>Rg,1/EE10,0) -> 1 | EH10: =ApGS*SIN(fia)/EH9 -> 1.9626105 | FC10: xsel | FD10: ysel | FH10: xa_s | FK10: x=+-R cosφ | FP10: x^2+(y0+cota*(x-x0))^2=r^2 | FU10: =FU12 -> 0 | FV10: =-FV12 -> -5.9
A11: =A10+dtl -> 0.08 | B11: {=XtoYt($A11,Al,Vl,B$8)} -> 0.12995761 | C11: {=YtoyX(B11,Al,Vl,B$8)} -> -1.9469269 | D11: =D10+F$4 -> 0.00087712915 | E11: =2*EXP(Vl*(D11-LN(F$8)/Vl))/(1+EXP(2*Vl*(D11-LN(F$8)/Vl))) -> 0.98598491 | F11: =IF(F$6<0,-1/(Vl*E$5)*(SIGN(SIN(F$8))*SQRT(1-E11^2)-COS(E$8)),IF(D11<F$6,-1/(Vl*E$5)*(SIGN(SIN(F$8))*SQRT(1-E11^2)-COS(E$8)),2*F$3+1/(Vl*E$5)*(SIGN(SIN(F$8))*SQRT(1-E11^2)-COS(E$8)))) -> 1.4261578 | G11: =Al*(SIGN(SIN(E$8))*SQRT(1-(Vl*SIN(E$8)*F11/Al-COS(E$8))^2)-SIN(E$8))/(Vl*SIN(E$8)) -> 0.0049306645 | H11: =H10+J$4 -> 0.026094178 | I11: =2*EXP(Vl*(H11-LN(J$8)/Vl))/(1+EXP(2*Vl*(H11-LN(J$8)/Vl))) -> 0.10728241 | J11: =IF(H11<K$5,-1/(Vl*I$5)*(SIGN(SIN(J$8))*SQRT(1-I11^2)-COS(I$8)),2*J$3+1/(Vl*I$5)*(SIGN(SIN(J$8))*SQRT(1-I11^2)-COS(I$8))) -> 0.093054156 | K11: =Al*(SIGN(SIN(I$8))*SQRT(1-(Vl*SIN(I$8)*J11/Al-COS(I$8))^2)-SIN(I$8))/(Vl*SIN(I$8)) -> 0.95257623 | CO11: =CO10+dt -> -0.39 | CP11: =IF(OR(CP$5<90,CP$5>270),CO11+CP$8,CO11-CP$8) -> -0.13655132 | CQ11: =2*EXP(Vl*CP11)/(1+EXP(2*Vl*CP11)) -> 0.60298003 | CR11: =CR10+dt -> -0.39 | CS11: =IF(OR(CS$5<90,CS$5>270),CR11+CS$8,CR11-CS$8) -> -0.57830678 | CT11: =2*EXP(Vl*CS11)/(1+EXP(2*Vl*CS11)) -> 0.019576941 | CU11: =CU10+dt -> -0.39 | CV11: =IF(OR(CV$5<90,CV$5>270),CU11+CV$8,CU11-CV$8) -> -0.47160457 | CW11: =2*EXP(Vl*CV11)/(1+EXP(2*Vl*CV11)) -> 0.045949255 | CX11: =CX10+dt -> -0.39 | CY11: =IF(OR(CY$5<90,CY$5>270),CX11+CY$8,CX11-CY$8) -> -0.2798283 | CZ11: =2*EXP(Vl*CY11)/(1+EXP(2*Vl*CY11)) -> 0.21081386 | DA11: =DA10+dt -> -0.39 | DB11: =IF(OR(DB$5<90,DB$5>270),DA11+DB$8,DA11-DB$8) -> 0.0014126664 | DC11: =2*EXP(Vl*DB11)/(1+EXP(2*Vl*DB11)) -> 0.99993614 | DL11: =DL10+10 -> 75 | DM11: =RADIANS(DL11) -> 1.3089969 | DN11: =ABS(_xlfn.COT(DM11/2)) -> 1.3032254 | DO11: =LN(DN11)*Vl -> 2.118738 | DP11: =Al/Vl*_xlfn.COT(DM11) -> 1.1052904 | DQ11: =Al/Vl*(1/ABS(SIN(DM11))-1) -> 0.14551424 | EC11: =EC10-dr -> 5.892 | EE11: =IF(EC11>rarxiko,1,IF(EC11>Rg,1-dc*(rarxiko-EC11)/hatm,0)) -> 1.8977778 | EF11: =IF(EC11>Rg,1/EE11,0) -> 0.52693208 | EH11: =ATAN(EH10) -> 1.0995574 | EJ11: =alfagon -> 1.1145196 | EK11: Dys | EL11: =dys -> -131.19715 | EN11: =alfagon -> 1.1145196 | EY11: KLISELHNH | FB11: xsdl | FC11: =ApGS*SIN(fia) -> 267.30196 | FD11: =ApGS*COS(fia) -> 136.19715 | FF11: =xs -> 267.30196 | FG11: =ys -> 136.19715 | FH11: =5*(xathesi1-xs) -> 2.7302273 | FI11: =5*(yathesi1-ys) -> -5.6221312 | FJ11: line to moon xathesi | FO11: =ATAN(ApGS*SIN(fia)/(ApGS*COS(fia)-Rg)) -> 1.1145196 | FP11: x^2(1+cota^2)+2x*cota*y0-2y0cota x0+cota^2*x0^2+y0^2=r^2 | FU11: x | FV11: y | FW11: =0 -> 0 | FX11: =Rg -> 5 | FZ11: =1-Kay^2*bsel^2/(16) -> 0.99999986
A12: =A11+dtl -> 0.16 | B12: {=XtoYt($A12,Al,Vl,B$8)} -> 0.16615421 | C12: {=YtoyX(B12,Al,Vl,B$8)} -> -2.9760791 | D12: =D11+F$4 -> 0.0017542583 | E12: =2*EXP(Vl*(D12-LN(F$8)/Vl))/(1+EXP(2*Vl*(D12-LN(F$8)/Vl))) -> 0.98711621 | F12: =IF(F$6<0,-1/(Vl*E$5)*(SIGN(SIN(F$8))*SQRT(1-E12^2)-COS(E$8)),IF(D12<F$6,-1/(Vl*E$5)*(SIGN(SIN(F$8))*SQRT(1-E12^2)-COS(E$8)),2*F$3+1/(Vl*E$5)*(SIGN(SIN(F$8))*SQRT(1-E12^2)-COS(E$8)))) -> 1.397551 | G12: =Al*(SIGN(SIN(E$8))*SQRT(1-(Vl*SIN(E$8)*F12/Al-COS(E$8))^2)-SIN(E$8))/(Vl*SIN(E$8)) -> 0.0096693001 | H12: =H11+J$4 -> 0.052188356 | I12: =2*EXP(Vl*(H12-LN(J$8)/Vl))/(1+EXP(2*Vl*(H12-LN(J$8)/Vl))) -> 0.1319897 | J12: =IF(H12<K$5,-1/(Vl*I$5)*(SIGN(SIN(J$8))*SQRT(1-I12^2)-COS(I$8)),2*J$3+1/(Vl*I$5)*(SIGN(SIN(J$8))*SQRT(1-I12^2)-COS(I$8))) -> 0.23397649 | K12: =Al*(SIGN(SIN(I$8))*SQRT(1-(Vl*SIN(I$8)*J12/Al-COS(I$8))^2)-SIN(I$8))/(Vl*SIN(I$8)) -> 2.1219496 | CO12: =CO11+dt -> -0.38 | CP12: =IF(OR(CP$5<90,CP$5>270),CO12+CP$8,CO12-CP$8) -> -0.12655132 | CQ12: =2*EXP(Vl*CP12)/(1+EXP(2*Vl*CP12)) -> 0.6419372 | CR12: =CR11+dt -> -0.38 | CS12: =IF(OR(CS$5<90,CS$5>270),CR12+CS$8,CR12-CS$8) -> -0.56830678 | CT12: =2*EXP(Vl*CS12)/(1+EXP(2*Vl*CS12)) -> 0.021207094 | CU12: =CU11+dt -> -0.38 | CV12: =IF(OR(CV$5<90,CV$5>270),CU12+CV$8,CU12-CV$8) -> -0.46160457 | CW12: =2*EXP(Vl*CV12)/(1+EXP(2*Vl*CV12)) -> 0.049771673 | CX12: =CX11+dt -> -0.38 | CY12: =IF(OR(CY$5<90,CY$5>270),CX12+CY$8,CX12-CY$8) -> -0.2698283 | CZ12: =2*EXP(Vl*CY12)/(1+EXP(2*Vl*CY12)) -> 0.22792753 | DA12: =DA11+dt -> -0.38 | DB12: =IF(OR(DB$5<90,DB$5>270),DA12+DB$8,DA12-DB$8) -> 0.011412666 | DC12: =2*EXP(Vl*DB12)/(1+EXP(2*Vl*DB12)) -> 0.99584646 | DL12: =DL11+10 -> 85 | DM12: =RADIANS(DL12) -> 1.4835299 | DN12: =ABS(_xlfn.COT(DM12/2)) -> 1.0913085 | DO12: =LN(DN12)*Vl -> 0.69901949 | DP12: =Al/Vl*_xlfn.COT(DM12) -> 0.36089074 | DQ12: =Al/Vl*(1/ABS(SIN(DM12))-1) -> 0.01575683 | EC12: =EC11-dr -> 5.874 | EE12: =IF(EC12>rarxiko,1,IF(EC12>Rg,1-dc*(rarxiko-EC12)/hatm,0)) -> 3.9177778 | EF12: =IF(EC12>Rg,1/EE12,0) -> 0.25524674 | EJ12: =ApGS*COS(fia)-Rg -> 131.19715 | EN12: =ATAN(ApGS*SIN(fia)/(ApGS*COS(fia)-rarxiko)) -> 1.1172366 | EY12: 5 | EZ12: KLIMAKA | FD12: 42 | FF12: =xathesi1 -> 267.848 | FG12: =yathesi1 -> 135.07272 | FH12: 0 | FI12: 0 | FJ12: =FI8 -> -2.1841818 | FK12: =FJ8 -> 4.497705 | FM12: =rarxiko*COS(ATAN(FY5)) -> 5.3072918 | FN12: =rarxiko*SIN(ATAN(FY5)) -> 2.5773345 | FO12: =Rs -> 1.25 | FP12: x^2/sina^2+2xcota(y0-x0 cota)+(y0-x0cota)^2-r^2 | FV12: =rarxiko+FY5*FU12 -> 5.9 | FW12: {=-(dys*t2_-xs)/(t2_^2+1)} -> 266.74649 | FX12: =Rg+FY6*FW12 -> 137.31695 | GD12: Kay | GE12: =SIN(incid1)/1 -> 0.014961654 | GG12: msel | GH12: =8*bsel/(4*bsel+Kay*c_EXISOSI^2) -> 1.9879824
A13: =A12+dtl -> 0.24 | B13: {=XtoYt($A13,Al,Vl,B$8)} -> 0.17622314 | C13: {=YtoyX(B13,Al,Vl,B$8)} -> -3.5191183 | D13: =D12+F$4 -> 0.0026313874 | E13: =2*EXP(Vl*(D13-LN(F$8)/Vl))/(1+EXP(2*Vl*(D13-LN(F$8)/Vl))) -> 0.98820141 | F13: =IF(F$6<0,-1/(Vl*E$5)*(SIGN(SIN(F$8))*SQRT(1-E13^2)-COS(E$8)),IF(D13<F$6,-1/(Vl*E$5)*(SIGN(SIN(F$8))*SQRT(1-E13^2)-COS(E$8)),2*F$3+1/(Vl*E$5)*(SIGN(SIN(F$8))*SQRT(1-E13^2)-COS(E$8)))) -> 1.36888 | G13: =Al*(SIGN(SIN(E$8))*SQRT(1-(Vl*SIN(E$8)*F13/Al-COS(E$8))^2)-SIN(E$8))/(Vl*SIN(E$8)) -> 0.014214778 | H13: =H12+J$4 -> 0.078282533 | I13: =2*EXP(Vl*(H13-LN(J$8)/Vl))/(1+EXP(2*Vl*(H13-LN(J$8)/Vl))) -> 0.16226214 | J13: =IF(H13<K$5,-1/(Vl*I$5)*(SIGN(SIN(J$8))*SQRT(1-I13^2)-COS(I$8)),2*J$3+1/(Vl*I$5)*(SIGN(SIN(J$8))*SQRT(1-I13^2)-COS(I$8))) -> 0.44711823 | K13: =Al*(SIGN(SIN(I$8))*SQRT(1-(Vl*SIN(I$8)*J13/Al-COS(I$8))^2)-SIN(I$8))/(Vl*SIN(I$8)) -> 3.5547158 | CO13: =CO12+dt -> -0.37 | CP13: =IF(OR(CP$5<90,CP$5>270),CO13+CP$8,CO13-CP$8) -> -0.11655132 | CQ13: =2*EXP(Vl*CP13)/(1+EXP(2*Vl*CP13)) -> 0.68160984 | CR13: =CR12+dt -> -0.37 | CS13: =IF(OR(CS$5<90,CS$5>270),CR13+CS$8,CR13-CS$8) -> -0.55830678 | CT13: =2*EXP(Vl*CS13)/(1+EXP(2*Vl*CS13)) -> 0.022972923 | CU13: =CU12+dt -> -0.37 | CV13: =IF(OR(CV$5<90,CV$5>270),CU13+CV$8,CU13-CV$8) -> -0.45160457 | CW13: =2*EXP(Vl*CV13)/(1+EXP(2*Vl*CV13)) -> 0.053911213 | CX13: =CX12+dt -> -0.37 | CY13: =IF(OR(CY$5<90,CY$5>270),CX13+CY$8,CX13-CY$8) -> -0.2598283 | CZ13: =2*EXP(Vl*CY13)/(1+EXP(2*Vl*CY13)) -> 0.24634839 | DA13: =DA12+dt -> -0.37 | DB13: =IF(OR(DB$5<90,DB$5>270),DA13+DB$8,DA13-DB$8) -> 0.021412666 | DC13: =2*EXP(Vl*DB13)/(1+EXP(2*Vl*DB13)) -> 0.9855052 | DL13: =DL12+10 -> 95 | DM13: =RADIANS(DL13) -> 1.6580628 | DN13: =ABS(_xlfn.COT(DM13/2)) -> 0.91633117 | DO13: =LN(DN13)*Vl -> -0.69901949 | DP13: =Al/Vl*_xlfn.COT(DM13) -> -0.36089074 | DQ13: =Al/Vl*(1/ABS(SIN(DM13))-1) -> 0.01575683 | EC13: =EC12-dr -> 5.856 | EE13: =IF(EC13>rarxiko,1,IF(EC13>Rg,1-dc*(rarxiko-EC13)/hatm,0)) -> 5.9377778 | EF13: =IF(EC13>Rg,1/EE13,0) -> 0.16841317 | EG13: =DEGREES(fia) -> 63 | EH13: =DEGREES(theta) -> 63.857272 | EI13: =DEGREES(epsi) -> 61.578997 | EJ13: =EM9 -> 1.0747562 | EK13: angle with y of point of cut | EY13: =Rs -> 1.25 | FE13: =dr -> 0.018 | FJ13: =xathesi1 -> 267.848 | FK13: =yathesi1 -> 135.07272 | FM13: =rarxiko*COS(ATAN(FY6)) -> 5.2854659 | FN13: =rarxiko*SIN(ATAN(FY6)) -> 2.6218029 | FP13: x=(-cosa(y0-x0cota)+(r^2-(y0-x0cota)^2*cosa^2)^(1/2))*sina | FR13: sqrt | FW13: xbthesi1 | FX13: ybthesi1 | GG13: c_earth | GH13: =1/natm -> 0.90909091
A14: =A13+dtl -> 0.32 | B14: {=XtoYt($A14,Al,Vl,B$8)} -> 0.17902306 | C14: {=YtoyX(B14,Al,Vl,B$8)} -> -3.8055137 | D14: =D13+F$4 -> 0.0035085166 | E14: =2*EXP(Vl*(D14-LN(F$8)/Vl))/(1+EXP(2*Vl*(D14-LN(F$8)/Vl))) -> 0.98924023 | F14: =IF(F$6<0,-1/(Vl*E$5)*(SIGN(SIN(F$8))*SQRT(1-E14^2)-COS(E$8)),IF(D14<F$6,-1/(Vl*E$5)*(SIGN(SIN(F$8))*SQRT(1-E14^2)-COS(E$8)),2*F$3+1/(Vl*E$5)*(SIGN(SIN(F$8))*SQRT(1-E14^2)-COS(E$8)))) -> 1.3401473 | G14: =Al*(SIGN(SIN(E$8))*SQRT(1-(Vl*SIN(E$8)*F14/Al-COS(E$8))^2)-SIN(E$8))/(Vl*SIN(E$8)) -> 0.018566011 | H14: =H13+J$4 -> 0.10437671 | I14: =2*EXP(Vl*(H14-LN(J$8)/Vl))/(1+EXP(2*Vl*(H14-LN(J$8)/Vl))) -> 0.19924575 | J14: =IF(H14<K$5,-1/(Vl*I$5)*(SIGN(SIN(J$8))*SQRT(1-I14^2)-COS(I$8)),2*J$3+1/(Vl*I$5)*(SIGN(SIN(J$8))*SQRT(1-I14^2)-COS(I$8))) -> 0.76886748 | K14: =Al*(SIGN(SIN(I$8))*SQRT(1-(Vl*SIN(I$8)*J14/Al-COS(I$8))^2)-SIN(I$8))/(Vl*SIN(I$8)) -> 5.3051156 | CO14: =CO13+dt -> -0.36 | CP14: =IF(OR(CP$5<90,CP$5>270),CO14+CP$8,CO14-CP$8) -> -0.10655132 | CQ14: =2*EXP(Vl*CP14)/(1+EXP(2*Vl*CP14)) -> 0.72158417 | CR14: =CR13+dt -> -0.36 | CS14: =IF(OR(CS$5<90,CS$5>270),CR14+CS$8,CR14-CS$8) -> -0.54830678 | CT14: =2*EXP(Vl*CS14)/(1+EXP(2*Vl*CS14)) -> 0.024885701 | CU14: =CU13+dt -> -0.36 | CV14: =IF(OR(CV$5<90,CV$5>270),CU14+CV$8,CU14-CV$8) -> -0.44160457 | CW14: =2*EXP(Vl*CV14)/(1+EXP(2*Vl*CV14)) -> 0.058393952 | CX14: =CX13+dt -> -0.36 | CY14: =IF(OR(CY$5<90,CY$5>270),CX14+CY$8,CX14-CY$8) -> -0.2498283 | CZ14: =2*EXP(Vl*CY14)/(1+EXP(2*Vl*CY14)) -> 0.26615441 | DA14: =DA13+dt -> -0.36 | DB14: =IF(OR(DB$5<90,DB$5>270),DA14+DB$8,DA14-DB$8) -> 0.031412666 | DC14: =2*EXP(Vl*DB14)/(1+EXP(2*Vl*DB14)) -> 0.96923389 | DL14: =DL13+10 -> 105 | DM14: =RADIANS(DL14) -> 1.8325957 | DN14: =ABS(_xlfn.COT(DM14/2)) -> 0.76732699 | DO14: =LN(DN14)*Vl -> -2.118738 | DP14: =Al/Vl*_xlfn.COT(DM14) -> -1.1052904 | DQ14: =Al/Vl*(1/ABS(SIN(DM14))-1) -> 0.14551424 | EC14: =EC13-dr -> 5.838 | EE14: =IF(EC14>rarxiko,1,IF(EC14>Rg,1-dc*(rarxiko-EC14)/hatm,0)) -> 7.9577778 | EF14: =IF(EC14>Rg,1/EE14,0) -> 0.12566322 | EI14: xcut | EJ14: =(-Rg*COS(theta)+SQRT(rarxiko^2-Rg^2*SIN(theta)^2))*SIN(theta) -> 1.459873 | EK14: ycut | EL14: =rarxiko*COS(epsi) -> 2.8080852 | FD14: alfa | FE14: fia | FF14: inc1 | FG14: thetade | FH14: c2/c1=\ | FI14: y0 | FJ14: x0 | FK14: r | FL14: Ayx | FM14: determinan | FN14: x1 | FO14: y1 | FP14: fisosti | FR14: =c_EXISOSI -> 0.4040404 | FS14: =bsel -> 0.1010101 | FV14: r | FW14: C | FX14: x1 | FY14: y1 | FZ14: AyX = y0 - x0 * Cot(aLFa1) | GA14: t1 | GB14: t2 | GC14: yporizo
A15: =A14+dtl -> 0.4 | B15: {=XtoYt($A15,Al,Vl,B$8)} -> 0.17980157 | C15: {=YtoyX(B15,Al,Vl,B$8)} -> -3.9565359 | D15: =D14+F$4 -> 0.0043856457 | E15: =2*EXP(Vl*(D15-LN(F$8)/Vl))/(1+EXP(2*Vl*(D15-LN(F$8)/Vl))) -> 0.99023242 | F15: =IF(F$6<0,-1/(Vl*E$5)*(SIGN(SIN(F$8))*SQRT(1-E15^2)-COS(E$8)),IF(D15<F$6,-1/(Vl*E$5)*(SIGN(SIN(F$8))*SQRT(1-E15^2)-COS(E$8)),2*F$3+1/(Vl*E$5)*(SIGN(SIN(F$8))*SQRT(1-E15^2)-COS(E$8)))) -> 1.3113555 | G15: =Al*(SIGN(SIN(E$8))*SQRT(1-(Vl*SIN(E$8)*F15/Al-COS(E$8))^2)-SIN(E$8))/(Vl*SIN(E$8)) -> 0.022721957 | H15: =H14+J$4 -> 0.13047089 | I15: =2*EXP(Vl*(H15-LN(J$8)/Vl))/(1+EXP(2*Vl*(H15-LN(J$8)/Vl))) -> 0.24423017 | J15: =IF(H15<K$5,-1/(Vl*I$5)*(SIGN(SIN(J$8))*SQRT(1-I15^2)-COS(I$8)),2*J$3+1/(Vl*I$5)*(SIGN(SIN(J$8))*SQRT(1-I15^2)-COS(I$8))) -> 1.2531509 | K15: =Al*(SIGN(SIN(I$8))*SQRT(1-(Vl*SIN(I$8)*J15/Al-COS(I$8))^2)-SIN(I$8))/(Vl*SIN(I$8)) -> 7.4341859 | CO15: =CO14+dt -> -0.35 | CP15: =IF(OR(CP$5<90,CP$5>270),CO15+CP$8,CO15-CP$8) -> -0.096551322 | CQ15: =2*EXP(Vl*CP15)/(1+EXP(2*Vl*CP15)) -> 0.76136032 | CR15: =CR14+dt -> -0.35 | CS15: =IF(OR(CS$5<90,CS$5>270),CR15+CS$8,CR15-CS$8) -> -0.53830678 | CT15: =2*EXP(Vl*CS15)/(1+EXP(2*Vl*CS15)) -> 0.026957633 | CU15: =CU14+dt -> -0.35 | CV15: =IF(OR(CV$5<90,CV$5>270),CU15+CV$8,CU15-CV$8) -> -0.43160457 | CW15: =2*EXP(Vl*CV15)/(1+EXP(2*Vl*CV15)) -> 0.06324805 | CX15: =CX14+dt -> -0.35 | CY15: =IF(OR(CY$5<90,CY$5>270),CX15+CY$8,CX15-CY$8) -> -0.2398283 | CZ15: =2*EXP(Vl*CY15)/(1+EXP(2*Vl*CY15)) -> 0.28742222 | DA15: =DA14+dt -> -0.35 | DB15: =IF(OR(DB$5<90,DB$5>270),DA15+DB$8,DA15-DB$8) -> 0.041412666 | DC15: =2*EXP(Vl*DB15)/(1+EXP(2*Vl*DB15)) -> 0.94752233 | DL15: =DL14+10 -> 115 | DM15: =RADIANS(DL15) -> 2.0071286 | DN15: =ABS(_xlfn.COT(DM15/2)) -> 0.63707026 | DO15: =LN(DN15)*Vl -> -3.6070026 | DP15: =Al/Vl*_xlfn.COT(DM15) -> -1.9235191 | DQ15: =Al/Vl*(1/ABS(SIN(DM15))-1) -> 0.42643392 | EC15: =EC14-dr -> 5.82 | EE15: =IF(EC15>rarxiko,1,IF(EC15>Rg,1-dc*(rarxiko-EC15)/hatm,0)) -> 9.9777778 | EF15: =IF(EC15>Rg,1/EE15,0) -> 0.10022272 | EJ15: =rarxiko*SIN(epsi) -> 5.1888975 | EK15: =Rg+_xlfn.COT(theta)*(EJ15) -> 7.5468148 | EW15: =0 -> 0 | EX15: =Rg*COS(EW15) -> 5 | EY15: =Rg*SIN(EW15) -> 0 | EZ15: =rarxiko*COS(EY15) -> 5.9 | FA15: =Rg*SIN(EW15) -> 0 | FB15: {=xsel+Rs*COS(EW15)} -> 268.55196 | FC15: =ysel+Rs*SIN(EW15) -> 136.19715 | FD15: =alfagon -> 1.1145196 | FE15: =fia -> 1.0995574 | FF15: =FD15-FE15 -> 0.014962212 | FG15: =ASIN(FF15*FW16/FW15) -> 0.014935564 | FH15: =IF($FK15>=rarxiko,1,IF($FK15>=Rg, c_EXISOSI+bsel*($FK15-Rg),0)) -> 1 | FI15: =Rg+_xlfn.COT(FD15)*FJ15 -> 5.7165349 | FJ15: =(-Rg*COS(FD15)+SQRT(FK15^2-Rg^2*SIN(alfagon)^2))*SIN(alfagon) -> 1.459873 | FK15: =rarxiko -> 5.9 | FL15: =FI15-FJ15*_xlfn.COT(FD16) -> 4.9999517 | FM15: =(FK15-dr)^2-FL15^2*SIN(FD16)^2 -> 14.452242 | FN15: =(-FL15*COS(FD16)+SQRT(FM15))*SIN(FD16) -> 1.434925 | FO15: =FI15+_xlfn.COT(FD16)*(FN15-FJ15) -> 5.7042891 | FP15: =ATAN(FJ15/FI15) -> 0.25003317 | FR15: 100n | FS15: 105 | FT15: =fia -> 1.0995574 | FV15: =rarxiko -> 5.9 | FW15: {=taxytis(FV15)} -> 1 | FX15: =IF(GC15>=0,SIN(FD16)*(-FZ15*COS(FD16)+SQRT($GC15)),FT15) -> 5.4757417 | FY15: =FU15+_xlfn.COT(FD16)*(FX15-FT15) -> 2.1480635 | FZ15: =FU15-FT15*_xlfn.COT(FD16) -> -0.53972115 | GA15: =(FV15-dr)^2 -> 34.597924 | GB15: =(FZ15*SIN(FD16))^2 -> 0.23474115 | GC15: =GA15-GB15 -> 34.363183 | GJ15: Kv4b | GK15: =SIN(incid1)*c_EXISOSI^2/(4*bsel) -> 0.0060451127
A16: =A15+dtl -> 0.48 | B16: {=XtoYt($A16,Al,Vl,B$8)} -> 0.18001803 | C16: {=YtoyX(B16,Al,Vl,B$8)} -> -4.03617 | D16: =D15+F$4 -> 0.0052627749 | E16: =2*EXP(Vl*(D16-LN(F$8)/Vl))/(1+EXP(2*Vl*(D16-LN(F$8)/Vl))) -> 0.99117776 | F16: =IF(F$6<0,-1/(Vl*E$5)*(SIGN(SIN(F$8))*SQRT(1-E16^2)-COS(E$8)),IF(D16<F$6,-1/(Vl*E$5)*(SIGN(SIN(F$8))*SQRT(1-E16^2)-COS(E$8)),2*F$3+1/(Vl*E$5)*(SIGN(SIN(F$8))*SQRT(1-E16^2)-COS(E$8)))) -> 1.2825073 | G16: =Al*(SIGN(SIN(E$8))*SQRT(1-(Vl*SIN(E$8)*F16/Al-COS(E$8))^2)-SIN(E$8))/(Vl*SIN(E$8)) -> 0.026681619 | H16: =H15+J$4 -> 0.15656507 | I16: =2*EXP(Vl*(H16-LN(J$8)/Vl))/(1+EXP(2*Vl*(H16-LN(J$8)/Vl))) -> 0.2985834 | J16: =IF(H16<K$5,-1/(Vl*I$5)*(SIGN(SIN(J$8))*SQRT(1-I16^2)-COS(I$8)),2*J$3+1/(Vl*I$5)*(SIGN(SIN(J$8))*SQRT(1-I16^2)-COS(I$8))) -> 1.9788829 | K16: =Al*(SIGN(SIN(I$8))*SQRT(1-(Vl*SIN(I$8)*J16/Al-COS(I$8))^2)-SIN(I$8))/(Vl*SIN(I$8)) -> 10.006674 | CO16: =CO15+dt -> -0.34 | CP16: =IF(OR(CP$5<90,CP$5>270),CO16+CP$8,CO16-CP$8) -> -0.086551322 | CQ16: =2*EXP(Vl*CP16)/(1+EXP(2*Vl*CP16)) -> 0.80035351 | CR16: =CR15+dt -> -0.34 | CS16: =IF(OR(CS$5<90,CS$5>270),CR16+CS$8,CR16-CS$8) -> -0.52830678 | CT16: =2*EXP(Vl*CS16)/(1+EXP(2*Vl*CS16)) -> 0.029201935 | CU16: =CU15+dt -> -0.34 | CV16: =IF(OR(CV$5<90,CV$5>270),CU16+CV$8,CU16-CV$8) -> -0.42160457 | CW16: =2*EXP(Vl*CV16)/(1+EXP(2*Vl*CV16)) -> 0.068503896 | CX16: =CX15+dt -> -0.34 | CY16: =IF(OR(CY$5<90,CY$5>270),CX16+CY$8,CX16-CY$8) -> -0.2298283 | CZ16: =2*EXP(Vl*CY16)/(1+EXP(2*Vl*CY16)) -> 0.31022512 | DA16: =DA15+dt -> -0.34 | DB16: =IF(OR(DB$5<90,DB$5>270),DA16+DB$8,DA16-DB$8) -> 0.051412666 | DC16: =2*EXP(Vl*DB16)/(1+EXP(2*Vl*DB16)) -> 0.92099387 | DL16: =DL15+10 -> 125 | DM16: =RADIANS(DL16) -> 2.1816616 | DN16: =ABS(_xlfn.COT(DM16/2)) -> 0.52056705 | DO16: =LN(DN16)*Vl -> -5.2226926 | DP16: =Al/Vl*_xlfn.COT(DM16) -> -2.8883561 | DQ16: =Al/Vl*(1/ABS(SIN(DM16))-1) -> 0.91069518 | EC16: =EC15-dr -> 5.802 | EE16: =IF(EC16>rarxiko,1,IF(EC16>Rg,1-dc*(rarxiko-EC16)/hatm,0)) -> 11.997778 | EF16: =IF(EC16>Rg,1/EE16,0) -> 0.083348768 | EM16: Function batHMiaia(fia, alfa, r, dr) As xyaf | EW16: =EW15+PI()/100 -> 0.031415927 | EX16: =Rg*COS(EW16) -> 4.9975328 | EY16: =Rg*SIN(EW16) -> 0.1570538 | EZ16: =rarxiko*COS(EY16) -> 5.8273851 | FA16: =rarxiko*SIN(EY16) -> 0.92281278 | FB16: {=xsel+Rs*COS(EW16)} -> 268.55134 | FC16: =ysel+Rs*SIN(EW16) -> 136.23641 | FD16: =FD15-FF15+FG15 -> 1.114493 | FE16: =ATAN(FN15/FO15) -> 0.24643879 | FF16: =FD16-FE16 -> 0.86805421 | FG16: =ASIN(SIN(FF16)*FH16) -> 0.86591027 | FH16: =IF($FK16>=rarxiko,1,IF($FK16>=Rg, c_EXISOSI+bsel*($FK16),0)) -> 0.99818182 | FI16: =FO15 -> 5.7042891 | FJ16: =FN15 -> 1.434925 | FK16: =FK15-dr -> 5.882 | FL16: =FI16-FJ16*_xlfn.COT(FD16) -> 4.9999517 | FM16: =(FK16-dr)^2-FL16^2*SIN(FD17)^2 -> 14.283285 | FN16: =(-FL16*COS(FD17)+SQRT(FM16))*SIN(FD17) -> 1.4048013 | FO16: =FI16+_xlfn.COT(FD17)*(FN16-FJ16) -> 5.6894225 | FP16: {=taxytis(FK16)} -> 0.99818182 | FT16: =FT15-$HB16^2/($HD16*Kay) -> #DIV/0! | FV16: =FV15-dr -> 5.882 | FW16: {=taxytis(FV16)} -> 0.99818182 | FX16: =IF(GC16>=0,SIN(FD17)*(-FZ16*COS(FD17)+SQRT($GC16)),FT16) -> #DIV/0! | FY16: =FU16+_xlfn.COT(FD17)*(FX16-FT16) -> #DIV/0! | FZ16: =FU16-FT16*_xlfn.COT(FD17) -> #DIV/0! | GA16: =(FV16-dr)^2 -> 34.386496 | GB16: =(FZ16*SIN(FD17))^2 -> #DIV/0! | GC16: =GA16-GB16 -> #DIV/0! | GJ16: sina0*C^2/(4b)<1 | GL16: sina0<4b/C^2 | GQ16: =Kay -> 0.014961654 | GS16: AA | GT16: =-GQ18*GQ17 -> -2.2839617e-06 | GV16: =1/SQRT(-AA) -> 661.69155 | GW16: =GV16*Kay*bsel -> 1 | HM16: =alfagon -> 1.1145196
A17: =A16+dtl -> 0.56 | B17: {=XtoYt($A17,Al,Vl,B$8)} -> 0.18007821 | C17: {=YtoyX(B17,Al,Vl,B$8)} -> -4.0781606 | D17: =D16+F$4 -> 0.006139904 | E17: =2*EXP(Vl*(D17-LN(F$8)/Vl))/(1+EXP(2*Vl*(D17-LN(F$8)/Vl))) -> 0.992076 | F17: =IF(F$6<0,-1/(Vl*E$5)*(SIGN(SIN(F$8))*SQRT(1-E17^2)-COS(E$8)),IF(D17<F$6,-1/(Vl*E$5)*(SIGN(SIN(F$8))*SQRT(1-E17^2)-COS(E$8)),2*F$3+1/(Vl*E$5)*(SIGN(SIN(F$8))*SQRT(1-E17^2)-COS(E$8)))) -> 1.2536055 | G17: =Al*(SIGN(SIN(E$8))*SQRT(1-(Vl*SIN(E$8)*F17/Al-COS(E$8))^2)-SIN(E$8))/(Vl*SIN(E$8)) -> 0.030444044 | H17: =H16+J$4 -> 0.18265924 | I17: =2*EXP(Vl*(H17-LN(J$8)/Vl))/(1+EXP(2*Vl*(H17-LN(J$8)/Vl))) -> 0.36359966 | J17: =IF(H17<K$5,-1/(Vl*I$5)*(SIGN(SIN(J$8))*SQRT(1-I17^2)-COS(I$8)),2*J$3+1/(Vl*I$5)*(SIGN(SIN(J$8))*SQRT(1-I17^2)-COS(I$8))) -> 3.0593222 | K17: =Al*(SIGN(SIN(I$8))*SQRT(1-(Vl*SIN(I$8)*J17/Al-COS(I$8))^2)-SIN(I$8))/(Vl*SIN(I$8)) -> 13.083833 | CO17: =CO16+dt -> -0.33 | CP17: =IF(OR(CP$5<90,CP$5>270),CO17+CP$8,CO17-CP$8) -> -0.076551322 | CQ17: =2*EXP(Vl*CP17)/(1+EXP(2*Vl*CP17)) -> 0.83790132 | CR17: =CR16+dt -> -0.33 | CS17: =IF(OR(CS$5<90,CS$5>270),CR17+CS$8,CR17-CS$8) -> -0.51830678 | CT17: =2*EXP(Vl*CS17)/(1+EXP(2*Vl*CS17)) -> 0.031632908 | CU17: =CU16+dt -> -0.33 | CV17: =IF(OR(CV$5<90,CV$5>270),CU17+CV$8,CU17-CV$8) -> -0.41160457 | CW17: =2*EXP(Vl*CV17)/(1+EXP(2*Vl*CV17)) -> 0.074194263 | CX17: =CX16+dt -> -0.33 | CY17: =IF(OR(CY$5<90,CY$5>270),CX17+CY$8,CX17-CY$8) -> -0.2198283 | CZ17: =2*EXP(Vl*CY17)/(1+EXP(2*Vl*CY17)) -> 0.33463057 | DA17: =DA16+dt -> -0.33 | DB17: =IF(OR(DB$5<90,DB$5>270),DA17+DB$8,DA17-DB$8) -> 0.061412666 | DC17: =2*EXP(Vl*DB17)/(1+EXP(2*Vl*DB17)) -> 0.89036433 | DL17: =DL16+10 -> 135 | DM17: =RADIANS(DL17) -> 2.3561945 | DN17: =ABS(_xlfn.COT(DM17/2)) -> 0.41421356 | DO17: =LN(DN17)*Vl -> -7.0509887 | DP17: =Al/Vl*_xlfn.COT(DM17) -> -4.125 | DQ17: =Al/Vl*(1/ABS(SIN(DM17))-1) -> 1.7086309 | EC17: =EC16-dr -> 5.784 | EE17: =IF(EC17>rarxiko,1,IF(EC17>Rg,1-dc*(rarxiko-EC17)/hatm,0)) -> 14.017778 | EF17: =IF(EC17>Rg,1/EE17,0) -> 0.071337984 | EJ17: =(-Rg*COS(alfagon+SQRT(rarxiko^2-Rg^2*SIN(alfagon)^2))*SIN(alfagon)) -> -1.0294496 | EM17: 'fia η γωνία που κάνει η ακτίνα r από το κέντρο της γης στο σημείο πρόσπτωσης με τον πολικό άξονα | EW17: =EW16+PI()/100 -> 0.062831853 | EX17: =Rg*COS(EW17) -> 4.9901336 | EY17: =Rg*SIN(EW17) -> 0.3139526 | EZ17: =rarxiko*COS(EY17) -> 5.6116101 | FA17: =rarxiko*SIN(EY17) -> 1.8220406 | FB17: {=xsel+Rs*COS(EW17)} -> 268.54949 | FC17: =ysel+Rs*SIN(EW17) -> 136.27564 | FD17: =FD16-FF16+FG16 -> 1.1123491 | FE17: =ATAN(FN16/FO16) -> 0.24207263 | FF17: =FD17-FE17 -> 0.87027643 | FG17: =ASIN(SIN(FF17)*FH17) -> 0.8659747 | FH17: =IF($FK17>=rarxiko,1,IF($FK17>=Rg, c_EXISOSI+bsel*($FK17),0)) -> 0.99636364 | FI17: =FO16 -> 5.6894225 | FJ17: =FN16 -> 1.4048013 | FK17: =FK16-dr -> 5.864 | FL17: =FI17-FJ17*_xlfn.COT(FD17) -> 4.9961301 | FM17: =(FK17-dr)^2-FL17^2*SIN(FD18)^2 -> 14.188731 | FN17: =(-FL17*COS(FD18)+SQRT(FM17))*SIN(FD18) -> 1.3748796 | FO17: =FI17+_xlfn.COT(FD18)*(FN17-FJ17) -> 5.6744953 | FT17: =SQRT(FR15^2+FS15^2) -> #VALUE! | FU17: =FV16-dr -> 5.864 | FV17: {=taxytis(FU17)} -> 0.99636364 | GD17: =Kay*c_EXISOSI^2/(4*bsel)-1 -> -0.99395489 | GE17: =GD17/(Kay*bsel) -> -657.69155 | GG17: a-EXISOSIS | GK17: sina | GL17: =4*bsel/c_EXISOSI^2 -> 2.475 | GM17: =DEGREES(ASIN(GL17)) -> #NUM! | GQ17: =Kay^2 -> 0.00022385109 | GS17: BB | GT17: =-2*Kay*bsel^2*c_EXISOSI -> -0.00012335706 | GU17: =BB^2 -> 1.5216964e-08 | HM17: =fia -> 1.0995574
A18: =A17+dtl -> 0.64 | B18: {=XtoYt($A18,Al,Vl,B$8)} -> 0.18009495 | C18: {=YtoyX(B18,Al,Vl,B$8)} -> -4.1003019 | D18: =D17+F$4 -> 0.0070170332 | E18: =2*EXP(Vl*(D18-LN(F$8)/Vl))/(1+EXP(2*Vl*(D18-LN(F$8)/Vl))) -> 0.99292694 | F18: =IF(F$6<0,-1/(Vl*E$5)*(SIGN(SIN(F$8))*SQRT(1-E18^2)-COS(E$8)),IF(D18<F$6,-1/(Vl*E$5)*(SIGN(SIN(F$8))*SQRT(1-E18^2)-COS(E$8)),2*F$3+1/(Vl*E$5)*(SIGN(SIN(F$8))*SQRT(1-E18^2)-COS(E$8)))) -> 1.2246526 | G18: =Al*(SIGN(SIN(E$8))*SQRT(1-(Vl*SIN(E$8)*F18/Al-COS(E$8))^2)-SIN(E$8))/(Vl*SIN(E$8)) -> 0.034008323 | H18: =H17+J$4 -> 0.20875342 | I18: =2*EXP(Vl*(H18-LN(J$8)/Vl))/(1+EXP(2*Vl*(H18-LN(J$8)/Vl))) -> 0.44020001 | J18: =IF(H18<K$5,-1/(Vl*I$5)*(SIGN(SIN(J$8))*SQRT(1-I18^2)-COS(I$8)),2*J$3+1/(Vl*I$5)*(SIGN(SIN(J$8))*SQRT(1-I18^2)-COS(I$8))) -> 4.6522085 | K18: =Al*(SIGN(SIN(I$8))*SQRT(1-(Vl*SIN(I$8)*J18/Al-COS(I$8))^2)-SIN(I$8))/(Vl*SIN(I$8)) -> 16.709256 | CO18: =CO17+dt -> -0.32 | CP18: =IF(OR(CP$5<90,CP$5>270),CO18+CP$8,CO18-CP$8) -> -0.066551322 | CQ18: =2*EXP(Vl*CP18)/(1+EXP(2*Vl*CP18)) -> 0.87327837 | CR18: =CR17+dt -> -0.32 | CS18: =IF(OR(CS$5<90,CS$5>270),CR18+CS$8,CR18-CS$8) -> -0.50830678 | CT18: =2*EXP(Vl*CS18)/(1+EXP(2*Vl*CS18)) -> 0.034266032 | CU18: =CU17+dt -> -0.32 | CV18: =IF(OR(CV$5<90,CV$5>270),CU18+CV$8,CU18-CV$8) -> -0.40160457 | CW18: =2*EXP(Vl*CV18)/(1+EXP(2*Vl*CV18)) -> 0.080354472 | CX18: =CX17+dt -> -0.32 | CY18: =IF(OR(CY$5<90,CY$5>270),CX18+CY$8,CX18-CY$8) -> -0.2098283 | CZ18: =2*EXP(Vl*CY18)/(1+EXP(2*Vl*CY18)) -> 0.36069694 | DA18: =DA17+dt -> -0.32 | DB18: =IF(OR(DB$5<90,DB$5>270),DA18+DB$8,DA18-DB$8) -> 0.071412666 | DC18: =2*EXP(Vl*DB18)/(1+EXP(2*Vl*DB18)) -> 0.85639915 | DL18: =DL17+10 -> 145 | DM18: =RADIANS(DL18) -> 2.5307274 | DN18: =ABS(_xlfn.COT(DM18/2)) -> 0.31529879 | DO18: =LN(DN18)*Vl -> -9.2338764 | DP18: =Al/Vl*_xlfn.COT(DM18) -> -5.8911105 | DQ18: =Al/Vl*(1/ABS(SIN(DM18))-1) -> 3.066718 | DT18: =c_EXISOSI+bsel*0 -> 0.4040404 | EC18: =EC17-dr -> 5.766 | EE18: =IF(EC18>rarxiko,1,IF(EC18>Rg,1-dc*(rarxiko-EC18)/hatm,0)) -> 16.037778 | EF18: =IF(EC18>Rg,1/EE18,0) -> 0.062352778 | EM18: 'alfa η γωνία που κάνει η ΦΩΤΕΙΝΗ ΑΚΤΙΝΑ με τον πολικό άξονα της γης | EW18: =EW17+PI()/100 -> 0.09424778 | EX18: =Rg*COS(EW18) -> 4.9778098 | EY18: =Rg*SIN(EW18) -> 0.47054157 | EZ18: =rarxiko*COS(EY18) -> 5.258805 | FA18: =rarxiko*SIN(EY18) -> 2.6748775 | FB18: {=xsel+Rs*COS(EW18)} -> 268.54641 | FC18: =ysel+Rs*SIN(EW18) -> 136.31479 | FD18: =FD17-FF17+FG17 -> 1.1080473 | FE18: =ATAN(FN17/FO17) -> 0.23771015 | FF18: =FD18-FE18 -> 0.87033717 | FG18: =ASIN(SIN(FF18)*FH18) -> 0.86389193 | FH18: =IF($FK18>=rarxiko,1,IF($FK18>=Rg, c_EXISOSI+bsel*($FK18),0)) -> 0.99454545 | FI18: =FO17 -> 5.6744953 | FJ18: =FN17 -> 1.3748796 | FK18: =FK17-dr -> 5.846 | FL18: =FI18-FJ18*_xlfn.COT(FD18) -> 4.9885991 | FM18: =(FK18-dr)^2-FL18^2*SIN(FD19)^2 -> 14.167571 | FN18: =(-FL18*COS(FD19)+SQRT(FM18))*SIN(FD19) -> 1.3453022 | FO18: =FI18+_xlfn.COT(FD19)*(FN18-FJ18) -> 5.659501 | GD18: =1-(Kay*c_EXISOSI^2)/(4*bsel) -> 0.99395489 | GG18: a_exis | GH18: =-c_0/(2*bsel) -> -4.5 | GQ18: =bsel^2 -> 0.010203041 | GS18: CC | GT18: =1-Kay^2*c_EXISOSI^2 -> 0.99996346 | GU18: =4*AA*CC -> -9.1355131e-06 | HM18: =HM16-HM17 -> 0.014962212
A19: =A18+dtl -> 0.72 | B19: {=XtoYt($A19,Al,Vl,B$8)} -> 0.1800996 | C19: {=YtoyX(B19,Al,Vl,B$8)} -> -4.1119769 | D19: =D18+F$4 -> 0.0078941623 | E19: =2*EXP(Vl*(D19-LN(F$8)/Vl))/(1+EXP(2*Vl*(D19-LN(F$8)/Vl))) -> 0.99373037 | F19: =IF(F$6<0,-1/(Vl*E$5)*(SIGN(SIN(F$8))*SQRT(1-E19^2)-COS(E$8)),IF(D19<F$6,-1/(Vl*E$5)*(SIGN(SIN(F$8))*SQRT(1-E19^2)-COS(E$8)),2*F$3+1/(Vl*E$5)*(SIGN(SIN(F$8))*SQRT(1-E19^2)-COS(E$8)))) -> 1.1956514 | G19: =Al*(SIGN(SIN(E$8))*SQRT(1-(Vl*SIN(E$8)*F19/Al-COS(E$8))^2)-SIN(E$8))/(Vl*SIN(E$8)) -> 0.037373594 | H19: =H18+J$4 -> 0.2348476 | I19: =2*EXP(Vl*(H19-LN(J$8)/Vl))/(1+EXP(2*Vl*(H19-LN(J$8)/Vl))) -> 0.52841064 | J19: =IF(H19<K$5,-1/(Vl*I$5)*(SIGN(SIN(J$8))*SQRT(1-I19^2)-COS(I$8)),2*J$3+1/(Vl*I$5)*(SIGN(SIN(J$8))*SQRT(1-I19^2)-COS(I$8))) -> 6.9671119 | K19: =Al*(SIGN(SIN(I$8))*SQRT(1-(Vl*SIN(I$8)*J19/Al-COS(I$8))^2)-SIN(I$8))/(Vl*SIN(I$8)) -> 20.884183 | CO19: =CO18+dt -> -0.31 | CP19: =IF(OR(CP$5<90,CP$5>270),CO19+CP$8,CO19-CP$8) -> -0.056551322 | CQ19: =2*EXP(Vl*CP19)/(1+EXP(2*Vl*CP19)) -> 0.90571907 | CR19: =CR18+dt -> -0.31 | CS19: =IF(OR(CS$5<90,CS$5>270),CR19+CS$8,CR19-CS$8) -> -0.49830678 | CT19: =2*EXP(Vl*CS19)/(1+EXP(2*Vl*CS19)) -> 0.037118059 | CU19: =CU18+dt -> -0.31 | CV19: =IF(OR(CV$5<90,CV$5>270),CU19+CV$8,CU19-CV$8) -> -0.39160457 | CW19: =2*EXP(Vl*CV19)/(1+EXP(2*Vl*CV19)) -> 0.087022547 | CX19: =CX18+dt -> -0.31 | CY19: =IF(OR(CY$5<90,CY$5>270),CX19+CY$8,CX19-CY$8) -> -0.1998283 | CZ19: =2*EXP(Vl*CY19)/(1+EXP(2*Vl*CY19)) -> 0.38846962 | DA19: =DA18+dt -> -0.31 | DB19: =IF(OR(DB$5<90,DB$5>270),DA19+DB$8,DA19-DB$8) -> 0.081412666 | DC19: =2*EXP(Vl*DB19)/(1+EXP(2*Vl*DB19)) -> 0.81987304 | DL19: =DL18+10 -> 155 | DM19: =RADIANS(DL19) -> 2.7052603 | DN19: =ABS(_xlfn.COT(DM19/2)) -> 0.22169466 | DO19: =LN(DN19)*Vl -> -12.051634 | DP19: =Al/Vl*_xlfn.COT(DM19) -> -8.846091 | DQ19: =Al/Vl*(1/ABS(SIN(DM19))-1) -> 5.6355815 | EC19: =EC18-dr -> 5.748 | EE19: =IF(EC19>rarxiko,1,IF(EC19>Rg,1-dc*(rarxiko-EC19)/hatm,0)) -> 18.057778 | EF19: =IF(EC19>Rg,1/EE19,0) -> 0.0553778 | EM19: 'r η ακτίνα dr η μεταβολή της ακτίνας | EW19: =EW18+PI()/100 -> 0.12566371 | EX19: =Rg*COS(EW19) -> 4.9605735 | EY19: =Rg*SIN(EW19) -> 0.62666617 | EZ19: =rarxiko*COS(EY19) -> 4.778924 | FA19: =rarxiko*SIN(EY19) -> 3.4600412 | FB19: {=xsel+Rs*COS(EW19)} -> 268.5421 | FC19: =ysel+Rs*SIN(EW19) -> 136.35382 | FD19: =FD18-FF18+FG18 -> 1.1016021 | FE19: =ATAN(FN18/FO18) -> 0.23337561 | FF19: =FD19-FE19 -> 0.86822647 | FG19: =ASIN(SIN(FF19)*FH19) -> 0.85967992 | FH19: =IF($FK19>=rarxiko,1,IF($FK19>=Rg, c_EXISOSI+bsel*($FK19),0)) -> 0.99272727 | FI19: =FO18 -> 5.659501 | FJ19: =FN18 -> 1.3453022 | FK19: =FK18-dr -> 5.828 | FL19: =FI19-FJ19*_xlfn.COT(FD19) -> 4.9774964 | FM19: =(FK19-dr)^2-FL19^2*SIN(FD20)^2 -> 14.217971 | FN19: =(-FL19*COS(FD20)+SQRT(FM19))*SIN(FD20) -> 1.3162011 | FO19: =FI19+_xlfn.COT(FD20)*(FN19-FJ19) -> 5.6444341 | GT19: =BB^2-4*AA*CC -> 9.1507301e-06 | HM19: =SIN(HM18) -> 0.014961654 | HX19: `
