Workbook
Name _100n: linear!$FS$15
Name _1stint: linear!$GU$28
Name _2ndint: linear!$GW$28
Name a_exis: linear!$GH$18
Name a_exisosi: linear!$GC$1
Name a_M: linear!$GD$22
Name AA: linear!$GT$16
Name aell: linear!$GC$29
Name aell2: linear!$GC$28
Name aktina: kampyles!$P$77
Name Al: linear!$B$3
Name alfa: data!$F$3
Name alfagon: linear!$EZ$6
Name algo0: linear!$FP$219
Name aLPHA: data!#REF!
Name ApGS: linear!$EA$3
Name aploarx: linear!$GQ$22
Name Asel: linear!$GD$1
Name b_s: squareroot!$B$2
Name BB: linear!$GT$17
Name bell: linear!$GB$29
Name bell2: linear!$GB$28
Name bsel: linear!$GE$1
Name c_0: linear!$GE$3
Name c_earth: linear!$GH$13
Name c_EXISOSI: linear!$GE$6
Name c_s: squareroot!$B$1
Name cb: linear!$EC$1
Name CC: linear!$GT$18
Name cdiakato: linear!$HV$25
Name dc: linear!$EE$1
Name delt: kampyles!$B$1
Name delta: data!$F$6
Name deltay: CURVED!$L$1
Name delx: linear!$B$92
Name det: data!$E$12
Name detaf: data!$B$1
Name dex: data!$B$1
Name diakt: linear!$FY$4
Name dist1: linear!$EG$1
Name Distan_xa: linear!$FI$1
Name Distan_xb: linear!$FI$2
Name dr: linear!$EA$8
Name dt: CURVED!$EM$1951
Name dte: data!$AU$13
Name dtheta: data!$B$13
Name dtl: linear!$B$2
Name dtlin: linear!$Q$197
Name dtt: linear!$HB$26
Name dys: linear!$FY$3
Name ellearx: linear!$GP$22
Name epsi: linear!$EJ$13
Name fia: linear!$EA$4
Name fia_mires: linear!$DY$4
Name fisosti: linear!$FP$15
Name fm: linear!$EC$3
Name goniafeg: linear!$FW$7
Name hatm: linear!$EA$6
Name incid1: linear!$FV$1
Name incid22: linear!$HY$27

Sheet squareroot
A1: c_s | B1: =1/natm^2-b_s*Rg -> -0.13774105 | F1: t | G1: psi | J1: c | K1: t | L1: r | O1: incidence | U1: φ | V1: sin(diath) | W1: diath | X1: θ
A2: b_s | B2: =(1-1/natm^2)/hatm -> 0.19283747 | F2: 0 | G2: =-SQRT(kay2_)*F2/2 -> 0 | J2: =2*(1-COS(incid22))*EXP(-bsel*$HW2)/((1-COS(incid22))^2*EXP(-2*bsel*$HW2)+kay2_^2 ) -> 1 | K2: 0 | L2: =(-1/((kay2_-1)*TAN(G2)-1)-c_s)/b_s -> 5.9 | M2: =alfagon -> 1.1145196 | N2: =fia -> 1.0995574 | O2: =Y2-U2 -> 0.86448647 | P2: =rarxiko^2-Rg^2*SIN(alfagon)^2 -> 14.663402 | Q2: =(-Rg*COS(alfagon)+SQRT(P2))*SIN(alfagon) -> 1.459873 | R2: =Rg+_xlfn.COT(alfagon)*S2 -> 5.7165349 | S2: =(-Rg*COS(alfagon)+SQRT(T2^2-Rg^2*SIN(alfagon)^2))*SIN(alfagon) -> 1.459873 | T2: =rarxiko -> 5.9 | U2: =ATAN(Q2/R2) -> 0.25003317 | V2: =SIN(O2)*(c_EXISOSI+bsel*($FC2-dr))/(c_EXISOSI+bsel*$FC2) -> 0.75733864 | W2: =ASIN(V2) -> 0.85922798 | X2: =U2+W2 -> 1.1092611 | Y2: =ATAN(Q2/(R2-Rg)) -> 1.1145196
F3: =F2+dtt -> 0.00923 | G3: =-SQRT(kay2_)*F3/2 -> -0.0040252803 | J3: =2*(1-COS(incid22))*EXP(-bsel*$HW3)/((1-COS(incid22))^2*EXP(-2*bsel*$HW3)+kay2_^2 ) -> 1 | K3: =K2+dtt -> 0.00923 | L3: =(-1/((kay2_-1)*TAN(G3)-1)-c_s)/b_s -> 5.9049987 | O3: =X2-U3 -> 0.85824679 | P3: =$L3^2-(R2-Q2*_xlfn.COT(X2))^2*SIN(X2)^2 -> 14.903323 | Q3: =(-(R2-Q2*_xlfn.COT(X2))*COS(X2)+SQRT(P3))*SIN(X2) -> 1.4667229 | R3: =R2+(_xlfn.COT(X2)*(Q3-Q2)) -> 5.7199417 | S3: =$FC3^2-(R2-Q2*_xlfn.COT(X2))^2*SIN(X2)^2 -> -19.965687 | U3: =ATAN(Q3/R3) -> 0.25101435 | V3: =SIN(O3)*(c_EXISOSI+bsel*($FC3-dr))/(c_EXISOSI+bsel*$FC3) -> 0.7532924 | W3: =ASIN(V3) -> 0.85305387 | X3: =W3+U2 -> 1.103087
A4: =SQRT(c_s+b_s*rarxiko) -> 1 | F4: =F3+dtt -> 0.01846 | G4: =SQRT(kay2_)*F4/2 -> 0.0080505607 | I4: =(1-c_s)/b_s -> 5.9 | J4: =2*(1-COS(incid22))*EXP(-bsel*$HW4)/((1-COS(incid22))^2*EXP(-2*bsel*$HW4)+kay2_^2 ) -> 1 | K4: =K3+dtt -> 0.01846 | L4: =(-1/((kay2_-1)*TAN(G4)-1)-c_s)/b_s -> 5.8900313 | O4: =X3-U4 -> 0.85498231 | P4: =$L4^2-(R3-Q3*_xlfn.COT(X3))^2*SIN(X3)^2 -> 14.939974 | Q4: =(-(R3-Q3*_xlfn.COT(X3))*COS(X3)+SQRT(P4))*SIN(X3) -> 1.4463983 | R4: =R3+(_xlfn.COT(X3)*(Q4-Q3)) -> 5.7096761 | S4: =$FC4^2-(R3-Q3*_xlfn.COT(X3))^2*SIN(X3)^2 -> -19.752495 | U4: =ATAN(Q4/R4) -> 0.24810473 | V4: =SIN(O4)*(c_EXISOSI+bsel*($HX4-dr))/(c_EXISOSI+bsel*$HX4) -> 0.75116379 | W4: =ASIN(V4) -> 0.84982332 | X4: =W4+U3 -> 1.1008377
A5: =SQRT(c_s+b_s*Rg) -> 0.90909091 | F5: =F4+dtt -> 0.02769 | G5: =SQRT(kay2_)*F5/2 -> 0.012075841 | J5: =2*(1-COS(incid22))*EXP(-bsel*$HW5)/((1-COS(incid22))^2*EXP(-2*bsel*$HW5)+kay2_^2 ) -> 1 | K5: =K4+dtt -> 0.02769 | L5: =(-1/((kay2_-1)*TAN(G5)-1)-c_s)/b_s -> 5.8850609 | O5: =X4-U5 -> 0.85370021 | P5: =$L5^2-(R4-Q4*_xlfn.COT(X4))^2*SIN(X4)^2 -> 14.958752 | Q5: =(-(R4-Q4*_xlfn.COT(X4))*COS(X4)+SQRT(P5))*SIN(X4) -> 1.439659 | R5: =R4+(_xlfn.COT(X4)*(Q5-Q4)) -> 5.7062531 | S5: =$FC5^2-(R4-Q4*_xlfn.COT(X4))^2*SIN(X4)^2 -> -19.67519 | U5: =ATAN(Q5/R5) -> 0.24713747 | V5: =SIN(O5)*(c_EXISOSI+bsel*($HX5-dr))/(c_EXISOSI+bsel*$HX5) -> 0.7503256 | W5: =ASIN(V5) -> 0.84855448 | X5: =W5+U4 -> 1.0966592
F6: =F5+dtt -> 0.03692 | G6: =SQRT(kay2_)*F6/2 -> 0.016101121 | J6: =2*(1-COS(incid22))*EXP(-bsel*$HW6)/((1-COS(incid22))^2*EXP(-2*bsel*$HW6)+kay2_^2 ) -> 1 | K6: =K5+dtt -> 0.03692 | L6: =(-1/((kay2_-1)*TAN(G6)-1)-c_s)/b_s -> 5.8800996 | O6: =X5-U6 -> 0.85048181 | P6: =$L6^2-(R5-Q5*_xlfn.COT(X5))^2*SIN(X5)^2 -> 15.043831 | Q6: =(-(R5-Q5*_xlfn.COT(X5))*COS(X5)+SQRT(P6))*SIN(X5) -> 1.4329708 | R6: =R5+(_xlfn.COT(X5)*(Q6-Q5)) -> 5.7028208 | S6: =$FC6^2-(R5-Q5*_xlfn.COT(X5))^2*SIN(X5)^2 -> -19.53174 | U6: =ATAN(Q6/R6) -> 0.2461774 | V6: =SIN(O6)*(c_EXISOSI+bsel*($HX6-dr))/(c_EXISOSI+bsel*$HX6) -> 0.74821611 | W6: =ASIN(V6) -> 0.8453692 | X6: =W6+U5 -> 1.0925067
F7: =F6+dtt -> 0.04615 | G7: =SQRT(kay2_)*F7/2 -> 0.020126402 | J7: =2*(1-COS(incid22))*EXP(-bsel*$HW7)/((1-COS(incid22))^2*EXP(-2*bsel*$HW7)+kay2_^2 ) -> 1 | K7: =K6+dtt -> 0.04615 | L7: =(-1/((kay2_-1)*TAN(G7)-1)-c_s)/b_s -> 5.8751471 | O7: =X6-U7 -> 0.84728227 | P7: =$L7^2-(R6-Q6*_xlfn.COT(X6))^2*SIN(X6)^2 -> 15.128051 | Q7: =(-(R6-Q6*_xlfn.COT(X6))*COS(X6)+SQRT(P7))*SIN(X6) -> 1.4263331 | R7: =R6+(_xlfn.COT(X6)*(Q7-Q6)) -> 5.6993796 | S7: =$FC7^2-(R6-Q6*_xlfn.COT(X6))^2*SIN(X6)^2 -> -19.389303 | U7: =ATAN(Q7/R7) -> 0.2452244 | V7: =SIN(O7)*(c_EXISOSI+bsel*($HX7-dr))/(c_EXISOSI+bsel*$HX7) -> 0.7461113 | W7: =ASIN(V7) -> 0.84220235 | X7: =W7+U6 -> 1.0883797
F8: =F7+dtt -> 0.05538 | G8: =SQRT(kay2_)*F8/2 -> 0.024151682 | J8: =2*(1-COS(incid22))*EXP(-bsel*$HW8)/((1-COS(incid22))^2*EXP(-2*bsel*$HW8)+kay2_^2 ) -> 1 | K8: =K7+dtt -> 0.05538 | L8: =(-1/((kay2_-1)*TAN(G8)-1)-c_s)/b_s -> 5.8702033 | O8: =X7-U8 -> 0.8441014 | P8: =$L8^2-(R7-Q7*_xlfn.COT(X7))^2*SIN(X7)^2 -> 15.211416 | Q8: =(-(R7-Q7*_xlfn.COT(X7))*COS(X7)+SQRT(P8))*SIN(X7) -> 1.4197448 | R8: =R7+(_xlfn.COT(X7)*(Q8-Q7)) -> 5.6959294 | S8: =$FC8^2-(R7-Q7*_xlfn.COT(X7))^2*SIN(X7)^2 -> -19.247871 | U8: =ATAN(Q8/R8) -> 0.24427835 | V8: =SIN(O8)*(c_EXISOSI+bsel*($HX8-dr))/(c_EXISOSI+bsel*$HX8) -> 0.7440112 | W8: =ASIN(V8) -> 0.83905375 | X8: =W8+U7 -> 1.0842781
F9: =F8+dtt -> 0.06461 | G9: =SQRT(kay2_)*F9/2 -> 0.028176962 | J9: =2*(1-COS(incid22))*EXP(-bsel*$HW9)/((1-COS(incid22))^2*EXP(-2*bsel*$HW9)+kay2_^2 ) -> 1 | K9: =K8+dtt -> 0.06461 | L9: =(-1/((kay2_-1)*TAN(G9)-1)-c_s)/b_s -> 5.865268 | O9: =X8-U9 -> 0.84093903 | P9: =$L9^2-(R8-Q8*_xlfn.COT(X8))^2*SIN(X8)^2 -> 15.29393 | Q9: =(-(R8-Q8*_xlfn.COT(X8))*COS(X8)+SQRT(P9))*SIN(X8) -> 1.4132053 | R9: =R8+(_xlfn.COT(X8)*(Q9-Q8)) -> 5.6924705 | S9: =$FC9^2-(R8-Q8*_xlfn.COT(X8))^2*SIN(X8)^2 -> -19.10744 | U9: =ATAN(Q9/R9) -> 0.24333912 | V9: =SIN(O9)*(c_EXISOSI+bsel*($HX9-dr))/(c_EXISOSI+bsel*$HX9) -> 0.74191585 | W9: =ASIN(V9) -> 0.83592323 | X9: =W9+U8 -> 1.0802016
F10: =F9+dtt -> 0.07384 | G10: =SQRT(kay2_)*F10/2 -> 0.032202243 | J10: =2*(1-COS(incid22))*EXP(-bsel*$HW10)/((1-COS(incid22))^2*EXP(-2*bsel*$HW10)+kay2_^2 ) -> 1 | K10: =K9+dtt -> 0.07384 | L10: =(-1/((kay2_-1)*TAN(G10)-1)-c_s)/b_s -> 5.8603411 | O10: =X9-U10 -> 0.83779499 | P10: =$L10^2-(R9-Q9*_xlfn.COT(X9))^2*SIN(X9)^2 -> 15.375595 | Q10: =(-(R9-Q9*_xlfn.COT(X9))*COS(X9)+SQRT(P10))*SIN(X9) -> 1.4067136 | R10: =R9+(_xlfn.COT(X9)*(Q10-Q9)) -> 5.6890029 | S10: =$FC10^2-(R9-Q9*_xlfn.COT(X9))^2*SIN(X9)^2 -> -18.968002 | U10: =ATAN(Q10/R10) -> 0.24240659 | V10: =SIN(O10)*(c_EXISOSI+bsel*($HX10-dr))/(c_EXISOSI+bsel*$HX10) -> 0.73982528 | W10: =ASIN(V10) -> 0.83281063 | X10: =W10+U9 -> 1.0761498
F11: =F10+dtt -> 0.08307 | G11: =SQRT(kay2_)*F11/2 -> 0.036227523 | J11: =2*(1-COS(incid22))*EXP(-bsel*$HW11)/((1-COS(incid22))^2*EXP(-2*bsel*$HW11)+kay2_^2 ) -> 1 | K11: =K10+dtt -> 0.08307 | L11: =(-1/((kay2_-1)*TAN(G11)-1)-c_s)/b_s -> 5.8554223 | O11: =X10-U11 -> 0.8346691 | P11: =$L11^2-(R10-Q10*_xlfn.COT(X10))^2*SIN(X10)^2 -> 15.456416 | Q11: =(-(R10-Q10*_xlfn.COT(X10))*COS(X10)+SQRT(P11))*SIN(X10) -> 1.4002691 | R11: =R10+(_xlfn.COT(X10)*(Q11-Q10)) -> 5.6855269 | S11: =$FC11^2-(R10-Q10*_xlfn.COT(X10))^2*SIN(X10)^2 -> -18.829554 | U11: =ATAN(Q11/R11) -> 0.24148065 | V11: =SIN(O11)*(c_EXISOSI+bsel*($HX11-dr))/(c_EXISOSI+bsel*$HX11) -> 0.73773954 | W11: =ASIN(V11) -> 0.8297158 | X11: =W11+U10 -> 1.0721224
F12: =F11+dtt -> 0.0923 | G12: =SQRT(kay2_)*F12/2 -> 0.040252803 | J12: =2*(1-COS(incid22))*EXP(-bsel*$HW12)/((1-COS(incid22))^2*EXP(-2*bsel*$HW12)+kay2_^2 ) -> 1 | K12: =K11+dtt -> 0.0923 | L12: =(-1/((kay2_-1)*TAN(G12)-1)-c_s)/b_s -> 5.8505114 | O12: =X11-U12 -> 0.8315612 | P12: =$L12^2-(R11-Q11*_xlfn.COT(X11))^2*SIN(X11)^2 -> 15.536395 | Q12: =(-(R11-Q11*_xlfn.COT(X11))*COS(X11)+SQRT(P12))*SIN(X11) -> 1.3938709 | R12: =R11+(_xlfn.COT(X11)*(Q12-Q11)) -> 5.6820426 | S12: =$FC12^2-(R11-Q11*_xlfn.COT(X11))^2*SIN(X11)^2 -> -18.692089 | U12: =ATAN(Q12/R12) -> 0.24056119 | V12: =SIN(O12)*(c_EXISOSI+bsel*($HX12-dr))/(c_EXISOSI+bsel*$HX12) -> 0.73565866 | W12: =ASIN(V12) -> 0.82663857 | X12: =W12+U11 -> 1.0681192
F13: =F12+dtt -> 0.10153 | G13: =SQRT(kay2_)*F13/2 -> 0.044278084 | J13: =2*(1-COS(incid22))*EXP(-bsel*$HW13)/((1-COS(incid22))^2*EXP(-2*bsel*$HW13)+kay2_^2 ) -> 1 | K13: =K12+dtt -> 0.10153 | L13: =(-1/((kay2_-1)*TAN(G13)-1)-c_s)/b_s -> 5.8456084 | O13: =X12-U13 -> 0.82847113 | P13: =$L13^2-(R12-Q12*_xlfn.COT(X12))^2*SIN(X12)^2 -> 15.615536 | Q13: =(-(R12-Q12*_xlfn.COT(X12))*COS(X12)+SQRT(P13))*SIN(X12) -> 1.3875182 | R13: =R12+(_xlfn.COT(X12)*(Q13-Q12)) -> 5.67855 | S13: =$FC13^2-(R12-Q12*_xlfn.COT(X12))^2*SIN(X12)^2 -> -18.555601 | U13: =ATAN(Q13/R13) -> 0.2396481 | V13: =SIN(O13)*(c_EXISOSI+bsel*($HX13-dr))/(c_EXISOSI+bsel*$HX13) -> 0.73358266 | W13: =ASIN(V13) -> 0.82357878 | X13: =W13+U12 -> 1.06414
F14: =F13+dtt -> 0.11076 | G14: =SQRT(kay2_)*F14/2 -> 0.048303364 | J14: =2*(1-COS(incid22))*EXP(-bsel*$HW14)/((1-COS(incid22))^2*EXP(-2*bsel*$HW14)+kay2_^2 ) -> 1 | K14: =K13+dtt -> 0.11076 | L14: =(-1/((kay2_-1)*TAN(G14)-1)-c_s)/b_s -> 5.8407129 | O14: =X13-U14 -> 0.82539872 | P14: =$L14^2-(R13-Q13*_xlfn.COT(X13))^2*SIN(X13)^2 -> 15.693843 | Q14: =(-(R13-Q13*_xlfn.COT(X13))*COS(X13)+SQRT(P14))*SIN(X13) -> 1.3812105 | R14: =R13+(_xlfn.COT(X13)*(Q14-Q13)) -> 5.6750493 | S14: =$FC14^2-(R13-Q13*_xlfn.COT(X13))^2*SIN(X13)^2 -> -18.420085 | U14: =ATAN(Q14/R14) -> 0.23874126 | V14: =SIN(O14)*(c_EXISOSI+bsel*($HX14-dr))/(c_EXISOSI+bsel*$HX14) -> 0.7315116 | W14: =ASIN(V14) -> 0.8205363 | X14: =W14+U13 -> 1.0601844
F15: =F14+dtt -> 0.11999 | G15: =SQRT(kay2_)*F15/2 -> 0.052328644 | J15: =2*(1-COS(incid22))*EXP(-bsel*$HW15)/((1-COS(incid22))^2*EXP(-2*bsel*$HW15)+kay2_^2 ) -> 1 | K15: =K14+dtt -> 0.11999 | L15: =(-1/((kay2_-1)*TAN(G15)-1)-c_s)/b_s -> 5.8358249 | O15: =X14-U15 -> 0.82234383 | P15: =$L15^2-(R14-Q14*_xlfn.COT(X14))^2*SIN(X14)^2 -> 15.771318 | Q15: =(-(R14-Q14*_xlfn.COT(X14))*COS(X14)+SQRT(P15))*SIN(X14) -> 1.3749468 | R15: =R14+(_xlfn.COT(X14)*(Q15-Q14)) -> 5.6715407 | S15: =$FC15^2-(R14-Q14*_xlfn.COT(X14))^2*SIN(X14)^2 -> -18.285534 | U15: =ATAN(Q15/R15) -> 0.23784056 | V15: =SIN(O15)*(c_EXISOSI+bsel*($HX15-dr))/(c_EXISOSI+bsel*$HX15) -> 0.72944549 | W15: =ASIN(V15) -> 0.81751096 | X15: =W15+U14 -> 1.0562522
F16: =F15+dtt -> 0.12922 | G16: =SQRT(kay2_)*F16/2 -> 0.056353925 | J16: =2*(1-COS(incid22))*EXP(-bsel*$HW16)/((1-COS(incid22))^2*EXP(-2*bsel*$HW16)+kay2_^2 ) -> 1 | K16: =K15+dtt -> 0.12922 | L16: =(-1/((kay2_-1)*TAN(G16)-1)-c_s)/b_s -> 5.8309441 | O16: =X15-U16 -> 0.8193063 | P16: =$L16^2-(R15-Q15*_xlfn.COT(X15))^2*SIN(X15)^2 -> 15.847965 | Q16: =(-(R15-Q15*_xlfn.COT(X15))*COS(X15)+SQRT(P16))*SIN(X15) -> 1.3687265 | R16: =R15+(_xlfn.COT(X15)*(Q16-Q15)) -> 5.6680241 | S16: =$FC16^2-(R15-Q15*_xlfn.COT(X15))^2*SIN(X15)^2 -> -18.151945 | U16: =ATAN(Q16/R16) -> 0.23694591 | V16: =SIN(O16)*(c_EXISOSI+bsel*($HX16-dr))/(c_EXISOSI+bsel*$HX16) -> 0.72738437 | W16: =ASIN(V16) -> 0.81450262 | X16: =W16+U15 -> 1.0523432
F17: =F16+dtt -> 0.13845 | G17: =SQRT(kay2_)*F17/2 -> 0.060379205 | J17: =2*(1-COS(incid22))*EXP(-bsel*$HW17)/((1-COS(incid22))^2*EXP(-2*bsel*$HW17)+kay2_^2 ) -> 1 | K17: =K16+dtt -> 0.13845 | L17: =(-1/((kay2_-1)*TAN(G17)-1)-c_s)/b_s -> 5.8260704 | O17: =X16-U17 -> 0.81628598 | P17: =$L17^2-(R16-Q16*_xlfn.COT(X16))^2*SIN(X16)^2 -> 15.923787 | Q17: =(-(R16-Q16*_xlfn.COT(X16))*COS(X16)+SQRT(P17))*SIN(X16) -> 1.3625489 | R17: =R16+(_xlfn.COT(X16)*(Q17-Q16)) -> 5.6644997 | S17: =$FC17^2-(R16-Q16*_xlfn.COT(X16))^2*SIN(X16)^2 -> -18.01931 | U17: =ATAN(Q17/R17) -> 0.2360572 | V17: =SIN(O17)*(c_EXISOSI+bsel*($HX17-dr))/(c_EXISOSI+bsel*$HX17) -> 0.72532828 | W17: =ASIN(V17) -> 0.81151114 | X17: =W17+U16 -> 1.0484571
... F173: =F172+dtt -> 1.57833 | G173: =SQRT(kay2_)*F173/2 -> 0.68832294 | J173: =2*(1-COS(incid22))*EXP(-bsel*$HW173)/((1-COS(incid22))^2*EXP(-2*bsel*$HW173)+kay2_^2 ) -> 1 | K173: =K172+dtt -> 1.57833 | L173: =(-1/((kay2_-1)*TAN(G173)-1)-c_s)/b_s -> 5.0473481 | O173: =X172-U173 -> 0.50131701 | P173: =$L173^2-(R172-Q172*_xlfn.COT(X172))^2*SIN(X172)^2 -> 19.591901 | Q173: =(-(R172-Q172*_xlfn.COT(X172))*COS(X172)+SQRT(P173))*SIN(X172) -> 0.6585029 | R173: =R172+(_xlfn.COT(X172)*(Q173-Q172)) -> 5.0042079 | S173: =$FC173^2-(R172-Q172*_xlfn.COT(X172))^2*SIN(X172)^2 -> -5.8838223 | U173: =ATAN(Q173/R173) -> 0.1308381 | V173: =SIN(O173)*(c_EXISOSI+bsel*($HX173-dr))/(c_EXISOSI+bsel*$HX173) -> 0.47841829 | W173: =ASIN(V173) -> 0.49885261 | X173: =W173+U172 -> 0.6303233

Sheet linear
E1: 1-(Vl*SIN(R94C)*RC1/Al-COS(R94C))^2 | H1: =ABS(_xlfn.COT(I$8/2)) -> 0.043660943 | I1: =-LN(J8)/Vl -> -0.39141267 | J1: -6 | DY1: Gh | DZ1: Rg | EA1: =5 -> 5 | EB1: cb | EC1: =102 -> 102 | ED1: dc | EE1: =1-cb -> -101 | EF1: dist1 | EG1: =60*Rg*SQRT(1+(1-120*COS(fia))/3500) -> 297.69923 | EH1: Rg sinφ | EI1: =ApGS*SIN(fia) -> 267.30196 | EJ1: theta | EK1: =IF(proto>0,ATAN(EI1/proto),IF(proto=0, PI()/2, PI()/2+proto)) -> 1.1145196 | EV1: Function taXYtis(r) | FB1: TOMI EYTIAS APO XATHESI, YTHESI | FH1: Distan xa | FI1: =SQRT(xathesi1^2+yathesi1^2) -> 299.97865 | FJ1: efatp= | FK1: =SQRT(Distan_xa^2-rarxiko^2) -> 299.92063 | FL1: eps1 | FM1: =ATAN(rarxiko/FK1) -> 0.019669334 | FN1: eps1 | FO1: =ATAN(yathesi1/xathesi1) -> 0.46707269 | FP1: klisi1 | FQ1: =FO1-FM1 -> 0.44740335 | FR1: lysh1 | FS1: =-rarxiko/(SIN(ATAN(FQ1))) -> -14.446882 | FT1: 0 | FU1: incid1 | FV1: =alfagon-fia -> 0.014962212 | FW1: finding the tangents to the moon | FZ1: =FZ3-FZ4 -> 34697.054 | GC1: =-c_EXISOSI/(2*bsel) -> -2 | GD1: =1/natm -> 0.90909091 | GE1: =1*(1-1/natm)/hatm -> 0.1010101 | GF1: =bsel -> 0.1010101 | GG1: =(1-1/natm)/hatm -> 0.1010101 | GJ1: sina0 | GK1: =4*bsel/c_EXISOSI^2 -> 2.475
A2: dtl | B2: 0.08 | D2: Al*(SIGN(SIN(R94C[-1]))*SQRT(RC[-1])-SIN(R94C[-1]))/(Vl*SIN(R94C[-1])) | K2: =Al/Vl*(SIGN(SIN(I$8))*(1)-SIN(I$8))/SIN(I$8) -> 43.204067 | Q2: Γ(Α+Βy)=ζ | R2: Y=(Z/Γ-A)/B | CP2: =IF(OR(CP$5<90,CP$5>270),-CP$8,CP$8) -> -0.25344868 | CQ2: 1.1 | CS2: =IF(OR(CS$5<90,CS$5>270),-CS$8,CS$8) -> 0.18830678 | CT2: =CT3 -> 1.1 | CV2: =IF(OR(CV$5<90,CV$5>270),-CV$8,CV$8) -> 0.081604572 | CW2: =CW3 -> 1.1 | CY2: =IF(OR(CY$5<90,CY$5>270),-CY$8,CY$8) -> -0.1101717 | CZ2: =CZ3 -> 1.1 | DB2: =IF(OR(DB$5<90,DB$5>270),-DB$8,DB$8) -> -0.39141267 | DC2: =DC3 -> 1.1 | DY2: Selin | DZ2: Rs | EA2: =Rg/4 -> 1.25 | EB2: natm | EC2: 1.2 | EE2: natm | EF2: 1.1 | EH2: proto | EI2: =ApGS*COS(fia)-Rg -> 131.19715 | EJ2: R1 | EK2: xathesi | EL2: yathesi | EV2: c0 = 1 'ταχύτητα στο κενό | EY2: xarxiko= | EZ2: =(xathesi1+xbthesi1)/2 -> 267.29725 | FB2: Y=YTHESIS+TAN(ALFAGON)*(X-XATHESI) | FH2: Distan xb | FI2: =SQRT(xbthesi1^2+ybthesi1^2) -> 300.01606 | FJ2: efaptb | FK2: =SQRT(Distan_xb^2-rarxiko^2) -> 299.95804 | FL2: e;s2 | FM2: =ATAN(rarxiko/FK2) -> 0.019666882 | FN2: eps2 | FO2: =ATAN((ybthesi1/xbthesi1)) -> 0.47540511 | FP2: klisi2 | FQ2: =FO2-FM2 -> 0.45573823 | FR2: lysh2 | FS2: =-rarxiko/(SIN(ATAN(FQ2))) -> -14.227074 | FX2: Rs^2-xs^2 | FY2: =Rs^2-xs^2 -> -71448.774 | FZ2: =FZ3+FZ4 -> 35441.456 | GC2: A_exisosi | GD2: Asel | GE2: bsel | GJ2: a0 | GK2: =ASIN(GK1) -> #NUM! | GL2: =DEGREES(GK2) -> #NUM!
A3: Al | B3: 33 | C3: =Al/Vl*$F$8 -> 4.9159836 | E3: xreflection | G3: =-1/Vl*Al*_xlfn.COT(E$8) -> -0.7273488 | I3: xreflection | J3: =Al/Vl*_xlfn.COT(I$8) -> 47.148966 | K3: yrefection | CP3: =CP2 -> -0.25344868 | CQ3: 1.1 | CS3: =CS2 -> 0.18830678 | CT3: 1.1 | CV3: =CV2 -> 0.081604572 | CW3: 1.1 | CY3: =CY2 -> -0.1101717 | CZ3: 1.1 | DB3: =DB2 -> -0.39141267 | DC3: 1.1 | DX3: apostasi gis selinis | DZ3: ApGS | EA3: =60*Rg -> 300 | EB3: fm | EC3: =RADIANS(0.5) -> 0.0087266463 | EI3: =ATAN(ApGS*SIN(fia)/(ApGS*COS(fia)-Rg)) -> 1.1145196 | EK3: =dist1*SIN(theta)-Rs*COS(theta-fm/2) -> 266.68872 | EL3: =rarxiko+dist1*COS(theta)+Rs*SIN(theta-fm/2) -> 138.18859 | EV3: cb = c0 / Natm | EY3: yarxkio | EZ3: =(yathesi1+ybthesi1)/2 -> 136.19484 | FB3: DIAKRINOYSA | FC3: =rarxiko^2*(1+TAN(alfagon)^2)-(TAN(alfagon)*xathesi1-yathesi1)^2 -> -168448.04 | FE3: =rarxiko^2*(1+TAN(alfagon)^2) -> 179.30722 | FG3: =(TAN(alfagon)*xathesi1-yathesi1)^2 -> 168627.35 | FL3: gonia | FO3: klixi xaya | FX3: dys | FY3: =Rg-ys -> -131.19715 | FZ3: =-dys*xs -> 35069.255 | GB3: =(-ys-rarxiko) -> -142.09715 | GD3: c_0 | GE3: =1/natm -> 0.90909091
A4: Vl | B4: 8 | E4: dtref | F4: =ABS(F$6/25) -> 0.00087712915 | G4: yreflection | I4: dtref | J4: =ABS(J$6/15) -> 0.026094178 | K4: =Al*(SIGN(SIN(I$8))*SQRT(1)-SIN(I$8))/(Vl*SIN(I$8)) -> 43.204067 | L4: =L$6/25 -> 0 | N4: dtref | O4: =O$6/25 -> #REF! | Q4: dtref | R4: =R$6/25 -> #REF! | T4: dtref | U4: =U$6/25 -> #REF! | W4: dtref | X4: =X$6/25 -> #REF! | Z4: dtref | AA4: =AA$6/25 -> #REF! | AC4: dtref | AD4: =AD$6/25 -> #REF! | AF4: dtref | AG4: =AG$6/25 -> #REF! | AI4: dtref | AJ4: =AJ$6/25 -> #REF! | AL4: dtref | AM4: =AM$6/25 -> #REF! | AO4: dtref | AP4: =AP$6/25 -> #REF! | CP4: ="a0="&CP5 -> a0=15 | CS4: ="a0="&CS5 -> a0=155 | CV4: ="a0="&CV5 -> a0=235 | CY4: ="a0="&CY5 -> a0=45 | DB4: ="a0="&DB5 -> a0=5 | DL4: 5 | DM4: =RADIANS(DL4) -> 0.087266463 | DN4: =ABS(_xlfn.COT(DM4/2)) -> 22.903766 | DO4: =LN(DN4)*Vl -> 25.050411 | DP4: =Al/Vl*_xlfn.COT(DM4) -> 47.148966 | DQ4: =Al/Vl*(1/ABS(SIN(DM4))-1) -> 43.204067 | DU4: ="fia = "&fia_mires -> fia = 63 | DX4: fia_mires | DY4: 63 | DZ4: fia | EA4: =RADIANS(DY4) -> 1.0995574 | EB4: goniako megethos | EE4: c | EF4: INDEX | EG4: X | EH4: Y | EK4: xbthesi | EL4: ybthesi | EV4: If r >= RG + hATMOS Then | EY4: xteliko | EZ4: 0 | FB4: LINE FROM MOON TO UPPER POINT OF ATMOSPHERE | FL4: me efthia | FM4: =ASIN(rarxiko/Distan_xa) -> 0.019669334 | FO4: klisi xbyb | FS4: =FS1 -> -14.446882 | FT4: 0 | FU4: =Rg*SIN(ATAN(FY6)) -> 2.2218669 | FV4: =-Rg*COS(ATAN(FY6)) -> -4.4792084 | FX4: diakt | FY4: =Rs^2 *(dys^2+xs^2-Rs^2) -> 138533.54 | FZ4: =SQRT(diakt) -> 372.20094 | GB4: =-xs -> -267.30196 | GE4: =Rg -> 5
A5: Gl | B5: =SIN(B$8)/Al -> 0.0026410831 | D5: Gl | E5: =SIN(E$8)/Al -> -0.029842659 | F5: treflection | G5: =1/(Vl*E5)*(1-SIN(E$8)) -> -8.3136348 | H5: Gl | I5: =SIN(I$8)/Al -> -0.0026410831 | J5: treflection | K5: =LN(J$8)/Vl -> 0.39141267 | L5: treflection | M5: Gl | N5: =SIN(N$8)/Al -> #REF! | O5: treflection | P5: Gl | Q5: =SIN(Q$8)/Al -> #REF! | R5: treflection | S5: Gl | T5: =SIN(T$8)/Al -> #REF! | U5: treflection | V5: yreflection | W5: =SIN(W$8)/Al -> #REF! | X5: treflection | Y5: yreflection | Z5: =SIN(Z$8)/Al -> #REF! | AA5: treflection | AB5: yreflection | AC5: =SIN(AC$8)/Al -> #REF! | AD5: treflection | AE5: yreflection | AF5: =SIN(AF$8)/Al -> #REF! | AG5: treflection | AH5: yreflection | AI5: =SIN(AI$8)/Al -> #REF! | AJ5: treflection | AK5: yreflection | AL5: =SIN(AL$8)/Al -> #REF! | AM5: treflection | AN5: yreflection | AO5: =SIN(AO$8)/Al -> #REF! | AP5: treflection | AQ5: yreflection | AR5: =SIN(AR$8)/Al -> #REF! | AS5: treflection | AT5: yreflection | AU5: =SIN(AU$8)/Al -> #REF! | AV5: treflection | AW5: yreflection | CP5: 15 | CS5: 155 | CT5: =SIN(CS6) -> 0.42261826 | CV5: 235 | CW5: =CW10 -> 0.04241982 | CY5: 45 | CZ5: =CZ10 -> 0.19492958 | DB5: 5 | DC5: =DC10 -> 0.99764488 | DL5: =DL4+10 -> 15 | DM5: =RADIANS(DL5) -> 0.26179939 | DN5: =ABS(_xlfn.COT(DM5/2)) -> 7.5957541 | DO5: =LN(DN5)*Vl -> 16.220715 | DP5: =Al/Vl*_xlfn.COT(DM5) -> 15.39471 | DQ5: =Al/Vl*(1/ABS(SIN(DM5))-1) -> 11.812776 | DU5: 2.75 | DV5: 5.5 | DY5: 54 | DZ5: alfagon | EA5: =epsi -> 1.0747562 | EC5: 6 | EE5: =IF(EC5>rarxiko,1,IF(EC5>Rg,1-dc*(rarxiko-EC5)/hatm,0)) -> 1 | EF5: =IF(EC5>Rg,1/EE5,0) -> 1 | EK5: =dist1*SIN(theta)-Rs*COS(theta+fm/2) -> 266.69851 | EL5: =rarxiko+dist1*COS(theta)-Rs*COS(theta+fm/2) -> 136.52303 | EV5: c1 = c0 'ταχύτητα φωτός αν είμαστε έξω από την ατμόσφαιρα | EY5: tana | EZ5: {=(yarxiko-Rg)/xarxiko} -> 0.49082001 | FB5: =xathesi1 -> 267.848 | FC5: =yathesi1 -> 135.07272 | FH5: tanakA | FI5: =(yathesi1-ys)/(xathesi1-xs) -> -2.0592173 | FJ5: =ATAN(FI5) -> -1.1187176 | FL5: kentroy | FS5: =xathesi1 -> 267.848 | FT5: =yathesi1 -> 135.07272 | FU5: =xbthesi1 -> 266.74649 | FV5: =ybthesi1 -> 137.31695 | FW5: =ATAN(FY5) -> 0.45207871 | FX5: t1 | FY5: =(dys*xs+SQRT(diakt))/(Rs^2-xs^2) -> 0.48562141 | FZ5: =ATAN(FY5) -> 0.45207871 | GE5: =hatm -> 0.9
A6: z0 | B6: =B$5*Al -> 0.087155743 | C6: 5 | D6: z0 | E6: =E$5*Al -> -0.98480775 | F6: =ABS(LN(ABS(TAN(E$8/2)))/Vl) -> 0.021928229 | G6: z0 | H6: z0 | I6: =I$5*Al -> -0.087155743 | J6: =ABS(LN(ABS(TAN(I$8/2)))/Vl) -> 0.39141267 | K6: z0 | M6: z0 | N6: =N$5*Al -> #REF! | O6: =LN(O8)/Vl -> #REF! | P6: z0 | Q6: =Q$5*Al -> #REF! | R6: =LN(R8)/Vl -> #REF! | S6: z0 | T6: =T$5*Al -> #REF! | U6: =LN(U8)/Vl -> #REF! | V6: =Al/(Vl*SIN(T$8)*(1-SIN(T$8))) -> #REF! | W6: =W$5*Al -> #REF! | X6: =LN(X8)/Vl -> #REF! | Y6: =Al/(Vl*SIN(W$8)*(1-SIN(W$8))) -> #REF! | Z6: =Z$5*Al -> #REF! | AA6: =LN(AA8)/Vl -> #REF! | AB6: =Al/(Vl*SIN(Z$8)*(1-SIN(Z$8))) -> #REF! | AC6: =AC$5*Al -> #REF! | AD6: =LN(AD8)/Vl -> #REF! | AE6: =Al/(Vl*SIN(AC$8)*(1-SIN(AC$8))) -> #REF! | AF6: =AF$5*Al -> #REF! | AG6: =LN(AG8)/Vl -> #REF! | AH6: =Al/(Vl*SIN(AF$8)*(1-SIN(AF$8))) -> #REF! | AI6: =AI$5*Al -> #REF! | AJ6: =LN(AJ8)/Vl -> #REF! | AK6: =Al/(Vl*SIN(AI$8)*(1-SIN(AI$8))) -> #REF! | AL6: =AL$5*Al -> #REF! | AM6: =LN(AM8)/Vl -> #REF! | AN6: =Al/(Vl*SIN(AL$8)*(1-SIN(AL$8))) -> #REF! | AO6: =AO$5*Al -> #REF! | AP6: =LN(AP8)/Vl -> #REF! | AQ6: =Al/(Vl*SIN(AO$8)*(1-SIN(AO$8))) -> #REF! | AR6: =AR$5*Al -> #REF! | AS6: =LN(AS8)/Vl -> #REF! | AT6: =Al/(Vl*SIN(AR$8)*(1-SIN(AR$8))) -> #REF! | AU6: =AU$5*Al -> #REF! | AV6: =LN(AV8)/Vl -> #REF! | AW6: =Al/(Vl*SIN(AU$8)*(1-SIN(AU$8))) -> #REF! | CO6: =_xlfn.COT(CP6/2) -> 7.5957541 | CP6: =RADIANS(CP5) -> 0.26179939 | CR6: =_xlfn.COT(CS6/2) -> 0.22169466 | CS6: =RADIANS(CS5) -> 2.7052603 | CT6: =Al/Vl*(1/SIN(CS6)-1) -> 5.6355815 | CU6: =_xlfn.COT(CV6/2) -> -0.52056705 | CV6: =RADIANS(CV5) -> 4.1015237 | CW6: =Al/Vl*(SIGN(SIN(CV6))*1/SIN(CV6)-1) -> 0.91069518 | CX6: =_xlfn.COT(CY6/2) -> 2.4142136 | CY6: =RADIANS(CY5) -> 0.78539816 | CZ6: =Al/Vl*(SIGN(SIN(CY6))*1/SIN(CY6)-1) -> 1.7086309 | DA6: =_xlfn.COT(DB6/2) -> 22.903766 | DB6: =RADIANS(DB5) -> 0.087266463 | DC6: =Al/Vl*(1/SIN(DB6)-1) -> 43.204067 | DL6: =DL5+10 -> 25 | DM6: =RADIANS(DL6) -> 0.43633231 | DN6: =ABS(_xlfn.COT(DM6/2)) -> 4.5107085 | DO6: =LN(DN6)*Vl -> 12.051634 | DP6: =Al/Vl*_xlfn.COT(DM6) -> 8.846091 | DQ6: =Al/Vl*(1/ABS(SIN(DM6))-1) -> 5.6355815 | DU6: =DU5 -> 2.75 | DV6: 0 | DZ6: hatm | EA6: 0.9 | EC6: =EC5-dr -> 5.982 | EE6: =IF(EC6>rarxiko,1,IF(EC6>Rg,1-dc*(rarxiko-EC6)/hatm,0)) -> 1 | EF6: =IF(EC6>Rg,1/EE6,0) -> 1 | EK6: {=xbthesi(theta)} -> #NAME? | EL6: {=yBthesi(theta, dist1)} -> #NAME? | EV6: ElseIf r >= RG And r < RG + hATMOS Then | EY6: alfagon | EZ6: {=PI()/2-ATAN(tana)} -> 1.1145196 | FB6: 0 | FC6: =yathesi1+TAN(alfagon)*(FB6-xathesi1) -> -410.6426 | FF6: xs | FG6: =ApGS*SIN(fia) -> 267.30196 | FJ6: =ATAN2(xs-xathesi1,ys-yathesi1) -> 2.022875 | FL6: efaptomenis | FU6: xathesi1 | FV6: yathesi1 | FW6: =ATAN(FY6) -> 0.46047466 | FX6: t2 | FY6: =(dys*xs-SQRT(diakt))/(Rs^2-xs^2) -> 0.49604009 | FZ6: =ATAN(FY6) -> 0.46047466 | GD6: c_EXISOSI | GE6: =c_0-Rg*(1-1/natm)/hatm -> 0.4040404
B7: 0 | C7: 5 | E7: -100 | F7: k | G7: =-Al/Vl*TAN(E$8/2) -> 4.9159836 | H7: =COS(I8) -> -0.9961947 | I7: -175 | J7: k | K7: =-Al/Vl*TAN(I$8/2) -> 94.478033 | L7: k | N7: =#REF!+10 -> #REF! | O7: k | Q7: =N7+10 -> #REF! | R7: k | T7: =Q7+10 -> #REF! | U7: k | W7: =T7+10 -> #REF! | X7: k | Z7: =W7+10 -> #REF! | AA7: k | AC7: =Z7+10 -> #REF! | AD7: k | AF7: =AC7+10 -> #REF! | AG7: k | AI7: =AF7+10 -> #REF! | AJ7: k | AL7: =AI7+10 -> #REF! | AM7: k | AO7: =AL7+10 -> #REF! | AP7: k | AR7: =AO7+10 -> #REF! | AS7: k | AU7: =AR7+10 -> #REF! | AV7: k | AX7: =AU7+10 -> #REF! | BA7: =AX7+10 -> #REF! | BD7: =BA7+10 -> #REF! | BG7: =BD7-10 -> #REF! | BJ7: =BG7-10 -> #REF! | BM7: =BJ7-10 -> #REF! | BP7: =BM7-10 -> #REF! | BS7: =BP7-10 -> #REF! | BV7: =BS7-10 -> #REF! | BY7: =BV7-10 -> #REF! | CB7: =BY7-10 -> #REF! | CE7: =CB7-10 -> #REF! | CH7: =CE7-10 -> #REF! | CK7: =CH7-10 -> #REF! | CN7: =CK7-10 -> #REF! | CP7: =ABS(_xlfn.COT(CP6/2)) -> 7.5957541 | CR7: =Al/Vl*_xlfn.COT(CP6) -> 15.39471 | CS7: =ABS(_xlfn.COT(CS6/2)) -> 0.22169466 | CT7: =Al/Vl*_xlfn.COT(CS6) -> -8.846091 | CV7: =ABS(_xlfn.COT(CV6/2)) -> 0.52056705 | CW7: =Al/Vl*_xlfn.COT(CV6) -> 2.8883561 | CY7: =ABS(_xlfn.COT(CY6/2)) -> 2.4142136 | CZ7: =Al/Vl*_xlfn.COT(CY6) -> 4.125 | DB7: =ABS(_xlfn.COT(DB6/2)) -> 22.903766 | DC7: =Al/Vl*_xlfn.COT(DB6) -> 47.148966 | DF7: =DC7-10 -> 37.148966 | DL7: =DL6+10 -> 35 | DM7: =RADIANS(DL7) -> 0.61086524 | DN7: =ABS(_xlfn.COT(DM7/2)) -> 3.1715948 | DO7: =LN(DN7)*Vl -> 9.2338764 | DP7: =Al/Vl*_xlfn.COT(DM7) -> 5.8911105 | DQ7: =Al/Vl*(1/ABS(SIN(DM7))-1) -> 3.066718 | DZ7: rarxiko | EA7: =Rg+hatm -> 5.9 | EC7: =EC6-dr -> 5.964 | EE7: =IF(EC7>rarxiko,1,IF(EC7>Rg,1-dc*(rarxiko-EC7)/hatm,0)) -> 1 | EF7: =IF(EC7>Rg,1/EE7,0) -> 1 | EH7: prota = RG - RGS * Cos(fi) | EV7: cb = c0 / Natm 'ταχύτητα στην επιφάνεια της γης | FC7: =TAN(alfagon) -> 2.0374067 | FD7: =alfagon -> 1.1145196 | FF7: ys | FG7: =ApGS*COS(fia) -> 136.19715 | FI7: SHMEIOEP | FP7: =2*Rs/ApGS -> 0.0083333333 | FR7: roots | FS7: =ys -> 136.19715 | FT7: xbb | FU7: =-(dys*t1_-xs)/(t1_^2+1) -> 267.848 | FV7: =Rg+FY5*FU7 -> 135.07272 | FW7: =AVERAGE(FW5:FW6) -> 0.45627669 | FX7: the 2 tangents to moon | FZ7: =ABS(FZ5-FZ6) -> 0.0083959531 | GA7: angle of moon
B8: =RADIANS(C7) -> 0.087266463 | D8: =SIN(E8) -> -0.98480775 | E8: =RADIANS(E7) -> -1.7453293 | F8: =ABS(TAN(E8/2)) -> 1.1917536 | G8: xlmit | H8: =SIN(I8) -> -0.087155743 | I8: =RADIANS(I7) -> -3.0543262 | J8: =ABS(TAN(I8/2)) -> 22.903766 | K8: xlmit | N8: =RADIANS(N7) -> #REF! | O8: =_xlfn.COT(N8/2) -> #REF! | Q8: =RADIANS(Q7) -> #REF! | R8: =_xlfn.COT(Q8/2) -> #REF! | T8: =RADIANS(T7) -> #REF! | U8: =_xlfn.COT(T8/2) -> #REF! | W8: =RADIANS(W7) -> #REF! | X8: =_xlfn.COT(W8/2) -> #REF! | Z8: =RADIANS(Z7) -> #REF! | AA8: =_xlfn.COT(Z8/2) -> #REF! | AC8: =RADIANS(AC7) -> #REF! | AD8: =_xlfn.COT(AC8/2) -> #REF! | AF8: =RADIANS(AF7) -> #REF! | AG8: =_xlfn.COT(AF8/2) -> #REF! | AI8: =RADIANS(AI7) -> #REF! | AJ8: =_xlfn.COT(AI8/2) -> #REF! | AL8: =RADIANS(AL7) -> #REF! | AM8: =_xlfn.COT(AL8/2) -> #REF! | AO8: =RADIANS(AO7) -> #REF! | AP8: =_xlfn.COT(AO8/2) -> #REF! | AR8: =RADIANS(AR7) -> #REF! | AS8: =_xlfn.COT(AR8/2) -> #REF! | AU8: =RADIANS(AU7) -> #REF! | AV8: =_xlfn.COT(AU8/2) -> #REF! | AX8: =RADIANS(AX7) -> #REF! | BA8: =RADIANS(BA7) -> #REF! | BD8: =RADIANS(BD7) -> #REF! | BG8: =RADIANS(BG7) -> #REF! | BJ8: =RADIANS(BJ7) -> #REF! | BM8: =RADIANS(BM7) -> #REF! | BP8: =RADIANS(BP7) -> #REF! | BS8: =RADIANS(BS7) -> #REF! | BV8: =RADIANS(BV7) -> #REF! | BY8: =RADIANS(BY7) -> #REF! | CB8: =RADIANS(CB7) -> #REF! | CE8: =RADIANS(CE7) -> #REF! | CH8: =RADIANS(CH7) -> #REF! | CK8: =RADIANS(CK7) -> #REF! | CN8: =RADIANS(CN7) -> #REF! | CO8: tm | CP8: =LN(CP7)/Vl -> 0.25344868 | CR8: =1.1 -> 1.1 | CS8: =ABS(LN(CS7)/Vl) -> 0.18830678 | CT8: =CT5 -> 0.42261826 | CV8: =-LN(CV7)/Vl -> 0.081604572 | CW8: =CW5 -> 0.04241982 | CY8: =LN(CY7)/Vl -> 0.1101717 | CZ8: 1.1 | DB8: =LN(DB7)/Vl -> 0.39141267 | DC8: 1.1 | DF8: =RADIANS(DF7) -> 0.64837177 | DL8: =DL7+10 -> 45 | DM8: =RADIANS(DL8) -> 0.78539816 | DN8: =ABS(_xlfn.COT(DM8/2)) -> 2.4142136 | DO8: =LN(DN8)*Vl -> 7.0509887 | DP8: =Al/Vl*_xlfn.COT(DM8) -> 4.125 | DQ8: =Al/Vl*(1/ABS(SIN(DM8))-1) -> 1.7086309 | DU8: "CHANGE ANGLE FIA FOR POSITION OF CELESTIAL BODY" | DZ8: dr | EA8: =hatm/50 -> 0.018 | EC8: =EC7-dr -> 5.946 | EE8: =IF(EC8>rarxiko,1,IF(EC8>Rg,1-dc*(rarxiko-EC8)/hatm,0)) -> 1 | EF8: =IF(EC8>Rg,1/EE8,0) -> 1 | EH8: a = RGS * Sin(fi) / prota | EL8: =DEGREES(EM8) -> 62.175943 | EM8: =PI()/2-EN8 -> 1.0851749 | EN8: =(dys*xs+Rs*SQRT(dys^2+xs^2-Rs^2))/(Rs^2-xs^2) -> 0.48562141 | EV8: ca = c0: dc = cb - ca: deltar = hATMOS 'η μεταβολή ανάλογη με το ύψος | FI8: =-Rg*COS(FJ5) -> -2.1841818 | FJ8: =FI8*FI5 -> 4.497705 | FK8: y=tan*x | FL8: =FI8 -> -2.1841818 | FM8: =FJ8 -> 4.497705 | FN8: =-FL8 -> 2.1841818 | FO8: =-FM8 -> -4.497705 | FP8: =DEGREES(FP7) -> 0.47746483 | FS8: =xs -> 267.30196 | FY8: α | FZ8: =DEGREES(FZ7) -> 0.48105268 | GA8: in degrees | GE8: =Kay*bsel/(1+Kay*c_EXISOSI^2/(4*bsel)) -> 0.0015021972 | GG8: with
B9: X | D9: t after refle | E9: z | F9: x | G9: y | H9: t after refle | I9: z | J9: x | K9: y | L9: x | M9: t after refle | N9: z | O9: x | P9: t after refle | Q9: z | R9: x | S9: t after refle | T9: z | U9: x | V9: y | W9: z | X9: x | Y9: y | Z9: z | AA9: x | AB9: y | AC9: z | AD9: x | AE9: y | AF9: z | AG9: x | AH9: y | AI9: z | AJ9: x | AK9: y | AL9: z | AM9: x | AN9: y | AO9: z | AP9: x | AQ9: y | AR9: z | AS9: x | AT9: y | AU9: z | AV9: x | AW9: y | CO9: t | CP9: ξ | CR9: =CR8 -> 1.1 | CS9: =CS8 -> 0.18830678 | CT9: =CT8 -> 0.42261826 | CV9: =CV8 -> 0.081604572 | CW9: =CW8 -> 0.04241982 | CY9: =CY8 -> 0.1101717 | CZ9: =CZ8 -> 1.1 | DB9: =DB8 -> 0.39141267 | DC9: =DC8 -> 1.1 | DL9: =DL8+10 -> 55 | DM9: =RADIANS(DL9) -> 0.95993109 | DN9: =ABS(_xlfn.COT(DM9/2)) -> 1.9209821 | DO9: =LN(DN9)*Vl -> 5.2226926 | DP9: =Al/Vl*_xlfn.COT(DM9) -> 2.8883561 | DQ9: =Al/Vl*(1/ABS(SIN(DM9))-1) -> 0.91069518 | DU9: =DU5 -> 2.75 | DV9: =6 -> 6 | EC9: =EC8-dr -> 5.928 | EE9: =IF(EC9>rarxiko,1,IF(EC9>Rg,1-dc*(rarxiko-EC9)/hatm,0)) -> 1 | EF9: =IF(EC9>Rg,1/EE9,0) -> 1 | EH9: =ApGS*COS(fia) -> 136.19715 | EL9: =DEGREES(EM9) -> 61.578997 | EM9: =PI()/2-EN9 -> 1.0747562 | EN9: =(dys*xs-Rs*SQRT(dys^2+xs^2-Rs^2))/(Rs^2-xs^2) -> 0.49604009 | EV9: c1 = ca + dc / deltar * (RG + hATMOS - r) 'c0 * (1 - 1 * paragontas * ((RG + hATMOS) / r) ^ 1) ^ 0.5 | FI9: 0 | FJ9: 0 | FK9: x^2(1+tanf^2)=R^2 | FL9: =xathesi1 -> 267.848 | FM9: =yathesi1 -> 135.07272 | FN9: =xbthesi1 -> 266.74649 | FO9: =ybthesi1 -> 137.31695 | FU9: 0 | FV9: =rarxiko -> 5.9 | FY9: with wrong assumptions
A10: 0 | B10: {=XtoYt($A10,Al,Vl,B$8)} -> 0 | C10: {=YtoyX(B10,Al,Vl,B$8)} -> -9.7699626e-15 | D10: 0 | E10: =2*EXP(Vl*(D10-LN(F$8)/Vl))/(1+EXP(2*Vl*(D10-LN(F$8)/Vl))) -> 0.98480775 | F10: =IF(D10<G$5,-1/(Vl*E$5)*(SIGN(SIN(F$8))*SQRT(1-E10^2)-COS(E$8)),2*F$3+1/(Vl*E$5)*(SIGN(SIN(F$8))*SQRT(1-E10^2)-COS(E$8))) -> -1.4546976 | G10: =Al*(SIGN(SIN(E$8))*SQRT(1-(Vl*SIN(E$8)*F10/Al-COS(E$8))^2)-SIN(E$8))/(Vl*SIN(E$8)) -> -0.54962102 | H10: 0 | I10: =2*EXP(Vl*(H10-LN(J$8)/Vl))/(1+EXP(2*Vl*(H10-LN(J$8)/Vl))) -> 0.087155743 | J10: =IF(H10<K$5,-1/(Vl*I$5)*(SIGN(SIN(J$8))*SQRT(1-I10^2)-COS(I$8)),2*J$3+1/(Vl*I$5)*(SIGN(SIN(J$8))*SQRT(1-I10^2)-COS(I$8))) -> 0 | K10: =Al*(SIGN(SIN(I$8))*SQRT(1-(Vl*SIN(I$8)*J10/Al-COS(I$8))^2)-SIN(I$8))/(Vl*SIN(I$8)) -> -1.0509164e-14 | CO10: -0.4 | CP10: =IF(OR(CP$5<90,CP$5>270),CO10+CP$8,CO10-CP$8) -> -0.14655132 | CQ10: =2*EXP(Vl*CP10)/(1+EXP(2*Vl*CP10)) -> 0.56506935 | CR10: -0.4 | CS10: =IF(OR(CS$5<90,CS$5>270),CR10+CS$8,CR10-CS$8) -> -0.58830678 | CT10: =2*EXP(Vl*CS10)/(1+EXP(2*Vl*CS10)) -> 0.01807205 | CU10: -0.4 | CV10: =IF(OR(CV$5<90,CV$5>270),CU10+CV$8,CU10-CV$8) -> -0.48160457 | CW10: =2*EXP(Vl*CV10)/(1+EXP(2*Vl*CV10)) -> 0.04241982 | CX10: -0.4 | CY10: =IF(OR(CY$5<90,CY$5>270),CX10+CY$8,CX10-CY$8) -> -0.2898283 | CZ10: =2*EXP(Vl*CY10)/(1+EXP(2*Vl*CY10)) -> 0.19492958 | DA10: -0.4 | DB10: =IF(OR(DB$5<90,DB$5>270),DA10+DB$8,DA10-DB$8) -> -0.0085873336 | DC10: =2*EXP(Vl*DB10)/(1+EXP(2*Vl*DB10)) -> 0.99764488 | DL10: =DL9+10 -> 65 | DM10: =RADIANS(DL10) -> 1.134464 | DN10: =ABS(_xlfn.COT(DM10/2)) -> 1.5696856 | DO10: =LN(DN10)*Vl -> 3.6070026 | DP10: =Al/Vl*_xlfn.COT(DM10) -> 1.9235191 | DQ10: =Al/Vl*(1/ABS(SIN(DM10))-1) -> 0.42643392 | DU10: =DU9 -> 2.75 | DV10: =0 -> 0 | EC10: =EC9-dr -> 5.91 | EE10: =IF(EC10>rarxiko,1,IF(EC10>Rg,1-dc*(rarxiko-EC10)/hatm,0)) -> 1 | EF10: =IF(EC10>Rg,1/EE10,0) -> 1 | EH10: =ApGS*SIN(fia)/EH9 -> 1.9626105 | FC10: xsel | FD10: ysel | FH10: xa_s | FK10: x=+-R cosφ | FP10: x^2+(y0+cota*(x-x0))^2=r^2 | FU10: =FU12 -> 0 | FV10: =-FV12 -> -5.9
A11: =A10+dtl -> 0.08 | B11: {=XtoYt($A11,Al,Vl,B$8)} -> 0.12995761 | C11: {=YtoyX(B11,Al,Vl,B$8)} -> -1.9469269 | D11: =D10+F$4 -> 0.00087712915 | E11: =2*EXP(Vl*(D11-LN(F$8)/Vl))/(1+EXP(2*Vl*(D11-LN(F$8)/Vl))) -> 0.98598491 | F11: =IF(F$6<0,-1/(Vl*E$5)*(SIGN(SIN(F$8))*SQRT(1-E11^2)-COS(E$8)),IF(D11<F$6,-1/(Vl*E$5)*(SIGN(SIN(F$8))*SQRT(1-E11^2)-COS(E$8)),2*F$3+1/(Vl*E$5)*(SIGN(SIN(F$8))*SQRT(1-E11^2)-COS(E$8)))) -> 1.4261578 | G11: =Al*(SIGN(SIN(E$8))*SQRT(1-(Vl*SIN(E$8)*F11/Al-COS(E$8))^2)-SIN(E$8))/(Vl*SIN(E$8)) -> 0.0049306645 | H11: =H10+J$4 -> 0.026094178 | I11: =2*EXP(Vl*(H11-LN(J$8)/Vl))/(1+EXP(2*Vl*(H11-LN(J$8)/Vl))) -> 0.10728241 | J11: =IF(H11<K$5,-1/(Vl*I$5)*(SIGN(SIN(J$8))*SQRT(1-I11^2)-COS(I$8)),2*J$3+1/(Vl*I$5)*(SIGN(SIN(J$8))*SQRT(1-I11^2)-COS(I$8))) -> 0.093054156 | K11: =Al*(SIGN(SIN(I$8))*SQRT(1-(Vl*SIN(I$8)*J11/Al-COS(I$8))^2)-SIN(I$8))/(Vl*SIN(I$8)) -> 0.95257623 | CO11: =CO10+dt -> -0.39 | CP11: =IF(OR(CP$5<90,CP$5>270),CO11+CP$8,CO11-CP$8) -> -0.13655132 | CQ11: =2*EXP(Vl*CP11)/(1+EXP(2*Vl*CP11)) -> 0.60298003 | CR11: =CR10+dt -> -0.39 | CS11: =IF(OR(CS$5<90,CS$5>270),CR11+CS$8,CR11-CS$8) -> -0.57830678 | CT11: =2*EXP(Vl*CS11)/(1+EXP(2*Vl*CS11)) -> 0.019576941 | CU11: =CU10+dt -> -0.39 | CV11: =IF(OR(CV$5<90,CV$5>270),CU11+CV$8,CU11-CV$8) -> -0.47160457 | CW11: =2*EXP(Vl*CV11)/(1+EXP(2*Vl*CV11)) -> 0.045949255 | CX11: =CX10+dt -> -0.39 | CY11: =IF(OR(CY$5<90,CY$5>270),CX11+CY$8,CX11-CY$8) -> -0.2798283 | CZ11: =2*EXP(Vl*CY11)/(1+EXP(2*Vl*CY11)) -> 0.21081386 | DA11: =DA10+dt -> -0.39 | DB11: =IF(OR(DB$5<90,DB$5>270),DA11+DB$8,DA11-DB$8) -> 0.0014126664 | DC11: =2*EXP(Vl*DB11)/(1+EXP(2*Vl*DB11)) -> 0.99993614 | DL11: =DL10+10 -> 75 | DM11: =RADIANS(DL11) -> 1.3089969 | DN11: =ABS(_xlfn.COT(DM11/2)) -> 1.3032254 | DO11: =LN(DN11)*Vl -> 2.118738 | DP11: =Al/Vl*_xlfn.COT(DM11) -> 1.1052904 | DQ11: =Al/Vl*(1/ABS(SIN(DM11))-1) -> 0.14551424 | EC11: =EC10-dr -> 5.892 | EE11: =IF(EC11>rarxiko,1,IF(EC11>Rg,1-dc*(rarxiko-EC11)/hatm,0)) -> 1.8977778 | EF11: =IF(EC11>Rg,1/EE11,0) -> 0.52693208 | EH11: =ATAN(EH10) -> 1.0995574 | EJ11: =alfagon -> 1.1145196 | EK11: Dys | EL11: =dys -> -131.19715 | EN11: =alfagon -> 1.1145196 | EY11: KLISELHNH | FB11: xsdl | FC11: =ApGS*SIN(fia) -> 267.30196 | FD11: =ApGS*COS(fia) -> 136.19715 | FF11: =xs -> 267.30196 | FG11: =ys -> 136.19715 | FH11: =5*(xathesi1-xs) -> 2.7302273 | FI11: =5*(yathesi1-ys) -> -5.6221312 | FJ11: line to moon xathesi | FO11: =ATAN(ApGS*SIN(fia)/(ApGS*COS(fia)-Rg)) -> 1.1145196 | FP11: x^2(1+cota^2)+2x*cota*y0-2y0cota x0+cota^2*x0^2+y0^2=r^2 | FU11: x | FV11: y | FW11: =0 -> 0 | FX11: =Rg -> 5 | FZ11: =1-Kay^2*bsel^2/(16) -> 0.99999986
A12: =A11+dtl -> 0.16 | B12: {=XtoYt($A12,Al,Vl,B$8)} -> 0.16615421 | C12: {=YtoyX(B12,Al,Vl,B$8)} -> -2.9760791 | D12: =D11+F$4 -> 0.0017542583 | E12: =2*EXP(Vl*(D12-LN(F$8)/Vl))/(1+EXP(2*Vl*(D12-LN(F$8)/Vl))) -> 0.98711621 | F12: =IF(F$6<0,-1/(Vl*E$5)*(SIGN(SIN(F$8))*SQRT(1-E12^2)-COS(E$8)),IF(D12<F$6,-1/(Vl*E$5)*(SIGN(SIN(F$8))*SQRT(1-E12^2)-COS(E$8)),2*F$3+1/(Vl*E$5)*(SIGN(SIN(F$8))*SQRT(1-E12^2)-COS(E$8)))) -> 1.397551 | G12: =Al*(SIGN(SIN(E$8))*SQRT(1-(Vl*SIN(E$8)*F12/Al-COS(E$8))^2)-SIN(E$8))/(Vl*SIN(E$8)) -> 0.0096693001 | H12: =H11+J$4 -> 0.052188356 | I12: =2*EXP(Vl*(H12-LN(J$8)/Vl))/(1+EXP(2*Vl*(H12-LN(J$8)/Vl))) -> 0.1319897 | J12: =IF(H12<K$5,-1/(Vl*I$5)*(SIGN(SIN(J$8))*SQRT(1-I12^2)-COS(I$8)),2*J$3+1/(Vl*I$5)*(SIGN(SIN(J$8))*SQRT(1-I12^2)-COS(I$8))) -> 0.23397649 | K12: =Al*(SIGN(SIN(I$8))*SQRT(1-(Vl*SIN(I$8)*J12/Al-COS(I$8))^2)-SIN(I$8))/(Vl*SIN(I$8)) -> 2.1219496 | CO12: =CO11+dt -> -0.38 | CP12: =IF(OR(CP$5<90,CP$5>270),CO12+CP$8,CO12-CP$8) -> -0.12655132 | CQ12: =2*EXP(Vl*CP12)/(1+EXP(2*Vl*CP12)) -> 0.6419372 | CR12: =CR11+dt -> -0.38 | CS12: =IF(OR(CS$5<90,CS$5>270),CR12+CS$8,CR12-CS$8) -> -0.56830678 | CT12: =2*EXP(Vl*CS12)/(1+EXP(2*Vl*CS12)) -> 0.021207094 | CU12: =CU11+dt -> -0.38 | CV12: =IF(OR(CV$5<90,CV$5>270),CU12+CV$8,CU12-CV$8) -> -0.46160457 | CW12: =2*EXP(Vl*CV12)/(1+EXP(2*Vl*CV12)) -> 0.049771673 | CX12: =CX11+dt -> -0.38 | CY12: =IF(OR(CY$5<90,CY$5>270),CX12+CY$8,CX12-CY$8) -> -0.2698283 | CZ12: =2*EXP(Vl*CY12)/(1+EXP(2*Vl*CY12)) -> 0.22792753 | DA12: =DA11+dt -> -0.38 | DB12: =IF(OR(DB$5<90,DB$5>270),DA12+DB$8,DA12-DB$8) -> 0.011412666 | DC12: =2*EXP(Vl*DB12)/(1+EXP(2*Vl*DB12)) -> 0.99584646 | DL12: =DL11+10 -> 85 | DM12: =RADIANS(DL12) -> 1.4835299 | DN12: =ABS(_xlfn.COT(DM12/2)) -> 1.0913085 | DO12: =LN(DN12)*Vl -> 0.69901949 | DP12: =Al/Vl*_xlfn.COT(DM12) -> 0.36089074 | DQ12: =Al/Vl*(1/ABS(SIN(DM12))-1) -> 0.01575683 | EC12: =EC11-dr -> 5.874 | EE12: =IF(EC12>rarxiko,1,IF(EC12>Rg,1-dc*(rarxiko-EC12)/hatm,0)) -> 3.9177778 | EF12: =IF(EC12>Rg,1/EE12,0) -> 0.25524674 | EJ12: =ApGS*COS(fia)-Rg -> 131.19715 | EN12: =ATAN(ApGS*SIN(fia)/(ApGS*COS(fia)-rarxiko)) -> 1.1172366 | EY12: 5 | EZ12: KLIMAKA | FD12: 42 | FF12: =xathesi1 -> 267.848 | FG12: =yathesi1 -> 135.07272 | FH12: 0 | FI12: 0 | FJ12: =FI8 -> -2.1841818 | FK12: =FJ8 -> 4.497705 | FM12: =rarxiko*COS(ATAN(FY5)) -> 5.3072918 | FN12: =rarxiko*SIN(ATAN(FY5)) -> 2.5773345 | FO12: =Rs -> 1.25 | FP12: x^2/sina^2+2xcota(y0-x0 cota)+(y0-x0cota)^2-r^2 | FV12: =rarxiko+FY5*FU12 -> 5.9 | FW12: {=-(dys*t2_-xs)/(t2_^2+1)} -> 266.74649 | FX12: =Rg+FY6*FW12 -> 137.31695 | GD12: Kay | GE12: =SIN(incid1)/1 -> 0.014961654 | GG12: msel | GH12: =8*bsel/(4*bsel+Kay*c_EXISOSI^2) -> 1.9879824
A13: =A12+dtl -> 0.24 | B13: {=XtoYt($A13,Al,Vl,B$8)} -> 0.17622314 | C13: {=YtoyX(B13,Al,Vl,B$8)} -> -3.5191183 | D13: =D12+F$4 -> 0.0026313874 | E13: =2*EXP(Vl*(D13-LN(F$8)/Vl))/(1+EXP(2*Vl*(D13-LN(F$8)/Vl))) -> 0.98820141 | F13: =IF(F$6<0,-1/(Vl*E$5)*(SIGN(SIN(F$8))*SQRT(1-E13^2)-COS(E$8)),IF(D13<F$6,-1/(Vl*E$5)*(SIGN(SIN(F$8))*SQRT(1-E13^2)-COS(E$8)),2*F$3+1/(Vl*E$5)*(SIGN(SIN(F$8))*SQRT(1-E13^2)-COS(E$8)))) -> 1.36888 | G13: =Al*(SIGN(SIN(E$8))*SQRT(1-(Vl*SIN(E$8)*F13/Al-COS(E$8))^2)-SIN(E$8))/(Vl*SIN(E$8)) -> 0.014214778 | H13: =H12+J$4 -> 0.078282533 | I13: =2*EXP(Vl*(H13-LN(J$8)/Vl))/(1+EXP(2*Vl*(H13-LN(J$8)/Vl))) -> 0.16226214 | J13: =IF(H13<K$5,-1/(Vl*I$5)*(SIGN(SIN(J$8))*SQRT(1-I13^2)-COS(I$8)),2*J$3+1/(Vl*I$5)*(SIGN(SIN(J$8))*SQRT(1-I13^2)-COS(I$8))) -> 0.44711823 | K13: =Al*(SIGN(SIN(I$8))*SQRT(1-(Vl*SIN(I$8)*J13/Al-COS(I$8))^2)-SIN(I$8))/(Vl*SIN(I$8)) -> 3.5547158 | CO13: =CO12+dt -> -0.37 | CP13: =IF(OR(CP$5<90,CP$5>270),CO13+CP$8,CO13-CP$8) -> -0.11655132 | CQ13: =2*EXP(Vl*CP13)/(1+EXP(2*Vl*CP13)) -> 0.68160984 | CR13: =CR12+dt -> -0.37 | CS13: =IF(OR(CS$5<90,CS$5>270),CR13+CS$8,CR13-CS$8) -> -0.55830678 | CT13: =2*EXP(Vl*CS13)/(1+EXP(2*Vl*CS13)) -> 0.022972923 | CU13: =CU12+dt -> -0.37 | CV13: =IF(OR(CV$5<90,CV$5>270),CU13+CV$8,CU13-CV$8) -> -0.45160457 | CW13: =2*EXP(Vl*CV13)/(1+EXP(2*Vl*CV13)) -> 0.053911213 | CX13: =CX12+dt -> -0.37 | CY13: =IF(OR(CY$5<90,CY$5>270),CX13+CY$8,CX13-CY$8) -> -0.2598283 | CZ13: =2*EXP(Vl*CY13)/(1+EXP(2*Vl*CY13)) -> 0.24634839 | DA13: =DA12+dt -> -0.37 | DB13: =IF(OR(DB$5<90,DB$5>270),DA13+DB$8,DA13-DB$8) -> 0.021412666 | DC13: =2*EXP(Vl*DB13)/(1+EXP(2*Vl*DB13)) -> 0.9855052 | DL13: =DL12+10 -> 95 | DM13: =RADIANS(DL13) -> 1.6580628 | DN13: =ABS(_xlfn.COT(DM13/2)) -> 0.91633117 | DO13: =LN(DN13)*Vl -> -0.69901949 | DP13: =Al/Vl*_xlfn.COT(DM13) -> -0.36089074 | DQ13: =Al/Vl*(1/ABS(SIN(DM13))-1) -> 0.01575683 | EC13: =EC12-dr -> 5.856 | EE13: =IF(EC13>rarxiko,1,IF(EC13>Rg,1-dc*(rarxiko-EC13)/hatm,0)) -> 5.9377778 | EF13: =IF(EC13>Rg,1/EE13,0) -> 0.16841317 | EG13: =DEGREES(fia) -> 63 | EH13: =DEGREES(theta) -> 63.857272 | EI13: =DEGREES(epsi) -> 61.578997 | EJ13: =EM9 -> 1.0747562 | EK13: angle with y of point of cut | EY13: =Rs -> 1.25 | FE13: =dr -> 0.018 | FJ13: =xathesi1 -> 267.848 | FK13: =yathesi1 -> 135.07272 | FM13: =rarxiko*COS(ATAN(FY6)) -> 5.2854659 | FN13: =rarxiko*SIN(ATAN(FY6)) -> 2.6218029 | FP13: x=(-cosa(y0-x0cota)+(r^2-(y0-x0cota)^2*cosa^2)^(1/2))*sina | FR13: sqrt | FW13: xbthesi1 | FX13: ybthesi1 | GG13: c_earth | GH13: =1/natm -> 0.90909091
A14: =A13+dtl -> 0.32 | B14: {=XtoYt($A14,Al,Vl,B$8)} -> 0.17902306 | C14: {=YtoyX(B14,Al,Vl,B$8)} -> -3.8055137 | D14: =D13+F$4 -> 0.0035085166 | E14: =2*EXP(Vl*(D14-LN(F$8)/Vl))/(1+EXP(2*Vl*(D14-LN(F$8)/Vl))) -> 0.98924023 | F14: =IF(F$6<0,-1/(Vl*E$5)*(SIGN(SIN(F$8))*SQRT(1-E14^2)-COS(E$8)),IF(D14<F$6,-1/(Vl*E$5)*(SIGN(SIN(F$8))*SQRT(1-E14^2)-COS(E$8)),2*F$3+1/(Vl*E$5)*(SIGN(SIN(F$8))*SQRT(1-E14^2)-COS(E$8)))) -> 1.3401473 | G14: =Al*(SIGN(SIN(E$8))*SQRT(1-(Vl*SIN(E$8)*F14/Al-COS(E$8))^2)-SIN(E$8))/(Vl*SIN(E$8)) -> 0.018566011 | H14: =H13+J$4 -> 0.10437671 | I14: =2*EXP(Vl*(H14-LN(J$8)/Vl))/(1+EXP(2*Vl*(H14-LN(J$8)/Vl))) -> 0.19924575 | J14: =IF(H14<K$5,-1/(Vl*I$5)*(SIGN(SIN(J$8))*SQRT(1-I14^2)-COS(I$8)),2*J$3+1/(Vl*I$5)*(SIGN(SIN(J$8))*SQRT(1-I14^2)-COS(I$8))) -> 0.76886748 | K14: =Al*(SIGN(SIN(I$8))*SQRT(1-(Vl*SIN(I$8)*J14/Al-COS(I$8))^2)-SIN(I$8))/(Vl*SIN(I$8)) -> 5.3051156 | CO14: =CO13+dt -> -0.36 | CP14: =IF(OR(CP$5<90,CP$5>270),CO14+CP$8,CO14-CP$8) -> -0.10655132 | CQ14: =2*EXP(Vl*CP14)/(1+EXP(2*Vl*CP14)) -> 0.72158417 | CR14: =CR13+dt -> -0.36 | CS14: =IF(OR(CS$5<90,CS$5>270),CR14+CS$8,CR14-CS$8) -> -0.54830678 | CT14: =2*EXP(Vl*CS14)/(1+EXP(2*Vl*CS14)) -> 0.024885701 | CU14: =CU13+dt -> -0.36 | CV14: =IF(OR(CV$5<90,CV$5>270),CU14+CV$8,CU14-CV$8) -> -0.44160457 | CW14: =2*EXP(Vl*CV14)/(1+EXP(2*Vl*CV14)) -> 0.058393952 | CX14: =CX13+dt -> -0.36 | CY14: =IF(OR(CY$5<90,CY$5>270),CX14+CY$8,CX14-CY$8) -> -0.2498283 | CZ14: =2*EXP(Vl*CY14)/(1+EXP(2*Vl*CY14)) -> 0.26615441 | DA14: =DA13+dt -> -0.36 | DB14: =IF(OR(DB$5<90,DB$5>270),DA14+DB$8,DA14-DB$8) -> 0.031412666 | DC14: =2*EXP(Vl*DB14)/(1+EXP(2*Vl*DB14)) -> 0.96923389 | DL14: =DL13+10 -> 105 | DM14: =RADIANS(DL14) -> 1.8325957 | DN14: =ABS(_xlfn.COT(DM14/2)) -> 0.76732699 | DO14: =LN(DN14)*Vl -> -2.118738 | DP14: =Al/Vl*_xlfn.COT(DM14) -> -1.1052904 | DQ14: =Al/Vl*(1/ABS(SIN(DM14))-1) -> 0.14551424 | EC14: =EC13-dr -> 5.838 | EE14: =IF(EC14>rarxiko,1,IF(EC14>Rg,1-dc*(rarxiko-EC14)/hatm,0)) -> 7.9577778 | EF14: =IF(EC14>Rg,1/EE14,0) -> 0.12566322 | EI14: xcut | EJ14: =(-Rg*COS(theta)+SQRT(rarxiko^2-Rg^2*SIN(theta)^2))*SIN(theta) -> 1.459873 | EK14: ycut | EL14: =rarxiko*COS(epsi) -> 2.8080852 | FD14: alfa | FE14: fia | FF14: inc1 | FG14: thetade | FH14: c2/c1=\ | FI14: y0 | FJ14: x0 | FK14: r | FL14: Ayx | FM14: determinan | FN14: x1 | FO14: y1 | FP14: fisosti | FR14: =c_EXISOSI -> 0.4040404 | FS14: =bsel -> 0.1010101 | FV14: r | FW14: C | FX14: x1 | FY14: y1 | FZ14: AyX = y0 - x0 * Cot(aLFa1) | GA14: t1 | GB14: t2 | GC14: yporizo
A15: =A14+dtl -> 0.4 | B15: {=XtoYt($A15,Al,Vl,B$8)} -> 0.17980157 | C15: {=YtoyX(B15,Al,Vl,B$8)} -> -3.9565359 | D15: =D14+F$4 -> 0.0043856457 | E15: =2*EXP(Vl*(D15-LN(F$8)/Vl))/(1+EXP(2*Vl*(D15-LN(F$8)/Vl))) -> 0.99023242 | F15: =IF(F$6<0,-1/(Vl*E$5)*(SIGN(SIN(F$8))*SQRT(1-E15^2)-COS(E$8)),IF(D15<F$6,-1/(Vl*E$5)*(SIGN(SIN(F$8))*SQRT(1-E15^2)-COS(E$8)),2*F$3+1/(Vl*E$5)*(SIGN(SIN(F$8))*SQRT(1-E15^2)-COS(E$8)))) -> 1.3113555 | G15: =Al*(SIGN(SIN(E$8))*SQRT(1-(Vl*SIN(E$8)*F15/Al-COS(E$8))^2)-SIN(E$8))/(Vl*SIN(E$8)) -> 0.022721957 | H15: =H14+J$4 -> 0.13047089 | I15: =2*EXP(Vl*(H15-LN(J$8)/Vl))/(1+EXP(2*Vl*(H15-LN(J$8)/Vl))) -> 0.24423017 | J15: =IF(H15<K$5,-1/(Vl*I$5)*(SIGN(SIN(J$8))*SQRT(1-I15^2)-COS(I$8)),2*J$3+1/(Vl*I$5)*(SIGN(SIN(J$8))*SQRT(1-I15^2)-COS(I$8))) -> 1.2531509 | K15: =Al*(SIGN(SIN(I$8))*SQRT(1-(Vl*SIN(I$8)*J15/Al-COS(I$8))^2)-SIN(I$8))/(Vl*SIN(I$8)) -> 7.4341859 | CO15: =CO14+dt -> -0.35 | CP15: =IF(OR(CP$5<90,CP$5>270),CO15+CP$8,CO15-CP$8) -> -0.096551322 | CQ15: =2*EXP(Vl*CP15)/(1+EXP(2*Vl*CP15)) -> 0.76136032 | CR15: =CR14+dt -> -0.35 | CS15: =IF(OR(CS$5<90,CS$5>270),CR15+CS$8,CR15-CS$8) -> -0.53830678 | CT15: =2*EXP(Vl*CS15)/(1+EXP(2*Vl*CS15)) -> 0.026957633 | CU15: =CU14+dt -> -0.35 | CV15: =IF(OR(CV$5<90,CV$5>270),CU15+CV$8,CU15-CV$8) -> -0.43160457 | CW15: =2*EXP(Vl*CV15)/(1+EXP(2*Vl*CV15)) -> 0.06324805 | CX15: =CX14+dt -> -0.35 | CY15: =IF(OR(CY$5<90,CY$5>270),CX15+CY$8,CX15-CY$8) -> -0.2398283 | CZ15: =2*EXP(Vl*CY15)/(1+EXP(2*Vl*CY15)) -> 0.28742222 | DA15: =DA14+dt -> -0.35 | DB15: =IF(OR(DB$5<90,DB$5>270),DA15+DB$8,DA15-DB$8) -> 0.041412666 | DC15: =2*EXP(Vl*DB15)/(1+EXP(2*Vl*DB15)) -> 0.94752233 | DL15: =DL14+10 -> 115 | DM15: =RADIANS(DL15) -> 2.0071286 | DN15: =ABS(_xlfn.COT(DM15/2)) -> 0.63707026 | DO15: =LN(DN15)*Vl -> -3.6070026 | DP15: =Al/Vl*_xlfn.COT(DM15) -> -1.9235191 | DQ15: =Al/Vl*(1/ABS(SIN(DM15))-1) -> 0.42643392 | EC15: =EC14-dr -> 5.82 | EE15: =IF(EC15>rarxiko,1,IF(EC15>Rg,1-dc*(rarxiko-EC15)/hatm,0)) -> 9.9777778 | EF15: =IF(EC15>Rg,1/EE15,0) -> 0.10022272 | EJ15: =rarxiko*SIN(epsi) -> 5.1888975 | EK15: =Rg+_xlfn.COT(theta)*(EJ15) -> 7.5468148 | EW15: =0 -> 0 | EX15: =Rg*COS(EW15) -> 5 | EY15: =Rg*SIN(EW15) -> 0 | EZ15: =rarxiko*COS(EY15) -> 5.9 | FA15: =Rg*SIN(EW15) -> 0 | FB15: {=xsel+Rs*COS(EW15)} -> 268.55196 | FC15: =ysel+Rs*SIN(EW15) -> 136.19715 | FD15: =alfagon -> 1.1145196 | FE15: =fia -> 1.0995574 | FF15: =FD15-FE15 -> 0.014962212 | FG15: =ASIN(FF15*FW16/FW15) -> 0.014935564 | FH15: =IF($FK15>=rarxiko,1,IF($FK15>=Rg, c_EXISOSI+bsel*($FK15-Rg),0)) -> 1 | FI15: =Rg+_xlfn.COT(FD15)*FJ15 -> 5.7165349 | FJ15: =(-Rg*COS(FD15)+SQRT(FK15^2-Rg^2*SIN(alfagon)^2))*SIN(alfagon) -> 1.459873 | FK15: =rarxiko -> 5.9 | FL15: =FI15-FJ15*_xlfn.COT(FD16) -> 4.9999517 | FM15: =(FK15-dr)^2-FL15^2*SIN(FD16)^2 -> 14.452242 | FN15: =(-FL15*COS(FD16)+SQRT(FM15))*SIN(FD16) -> 1.434925 | FO15: =FI15+_xlfn.COT(FD16)*(FN15-FJ15) -> 5.7042891 | FP15: =ATAN(FJ15/FI15) -> 0.25003317 | FR15: 100n | FS15: 105 | FT15: =fia -> 1.0995574 | FV15: =rarxiko -> 5.9 | FW15: {=taxytis(FV15)} -> 1 | FX15: =IF(GC15>=0,SIN(FD16)*(-FZ15*COS(FD16)+SQRT($GC15)),FT15) -> 5.4757417 | FY15: =FU15+_xlfn.COT(FD16)*(FX15-FT15) -> 2.1480635 | FZ15: =FU15-FT15*_xlfn.COT(FD16) -> -0.53972115 | GA15: =(FV15-dr)^2 -> 34.597924 | GB15: =(FZ15*SIN(FD16))^2 -> 0.23474115 | GC15: =GA15-GB15 -> 34.363183 | GJ15: Kv4b | GK15: =SIN(incid1)*c_EXISOSI^2/(4*bsel) -> 0.0060451127
A16: =A15+dtl -> 0.48 | B16: {=XtoYt($A16,Al,Vl,B$8)} -> 0.18001803 | C16: {=YtoyX(B16,Al,Vl,B$8)} -> -4.03617 | D16: =D15+F$4 -> 0.0052627749 | E16: =2*EXP(Vl*(D16-LN(F$8)/Vl))/(1+EXP(2*Vl*(D16-LN(F$8)/Vl))) -> 0.99117776 | F16: =IF(F$6<0,-1/(Vl*E$5)*(SIGN(SIN(F$8))*SQRT(1-E16^2)-COS(E$8)),IF(D16<F$6,-1/(Vl*E$5)*(SIGN(SIN(F$8))*SQRT(1-E16^2)-COS(E$8)),2*F$3+1/(Vl*E$5)*(SIGN(SIN(F$8))*SQRT(1-E16^2)-COS(E$8)))) -> 1.2825073 | G16: =Al*(SIGN(SIN(E$8))*SQRT(1-(Vl*SIN(E$8)*F16/Al-COS(E$8))^2)-SIN(E$8))/(Vl*SIN(E$8)) -> 0.026681619 | H16: =H15+J$4 -> 0.15656507 | I16: =2*EXP(Vl*(H16-LN(J$8)/Vl))/(1+EXP(2*Vl*(H16-LN(J$8)/Vl))) -> 0.2985834 | J16: =IF(H16<K$5,-1/(Vl*I$5)*(SIGN(SIN(J$8))*SQRT(1-I16^2)-COS(I$8)),2*J$3+1/(Vl*I$5)*(SIGN(SIN(J$8))*SQRT(1-I16^2)-COS(I$8))) -> 1.9788829 | K16: =Al*(SIGN(SIN(I$8))*SQRT(1-(Vl*SIN(I$8)*J16/Al-COS(I$8))^2)-SIN(I$8))/(Vl*SIN(I$8)) -> 10.006674 | CO16: =CO15+dt -> -0.34 | CP16: =IF(OR(CP$5<90,CP$5>270),CO16+CP$8,CO16-CP$8) -> -0.086551322 | CQ16: =2*EXP(Vl*CP16)/(1+EXP(2*Vl*CP16)) -> 0.80035351 | CR16: =CR15+dt -> -0.34 | CS16: =IF(OR(CS$5<90,CS$5>270),CR16+CS$8,CR16-CS$8) -> -0.52830678 | CT16: =2*EXP(Vl*CS16)/(1+EXP(2*Vl*CS16)) -> 0.029201935 | CU16: =CU15+dt -> -0.34 | CV16: =IF(OR(CV$5<90,CV$5>270),CU16+CV$8,CU16-CV$8) -> -0.42160457 | CW16: =2*EXP(Vl*CV16)/(1+EXP(2*Vl*CV16)) -> 0.068503896 | CX16: =CX15+dt -> -0.34 | CY16: =IF(OR(CY$5<90,CY$5>270),CX16+CY$8,CX16-CY$8) -> -0.2298283 | CZ16: =2*EXP(Vl*CY16)/(1+EXP(2*Vl*CY16)) -> 0.31022512 | DA16: =DA15+dt -> -0.34 | DB16: =IF(OR(DB$5<90,DB$5>270),DA16+DB$8,DA16-DB$8) -> 0.051412666 | DC16: =2*EXP(Vl*DB16)/(1+EXP(2*Vl*DB16)) -> 0.92099387 | DL16: =DL15+10 -> 125 | DM16: =RADIANS(DL16) -> 2.1816616 | DN16: =ABS(_xlfn.COT(DM16/2)) -> 0.52056705 | DO16: =LN(DN16)*Vl -> -5.2226926 | DP16: =Al/Vl*_xlfn.COT(DM16) -> -2.8883561 | DQ16: =Al/Vl*(1/ABS(SIN(DM16))-1) -> 0.91069518 | EC16: =EC15-dr -> 5.802 | EE16: =IF(EC16>rarxiko,1,IF(EC16>Rg,1-dc*(rarxiko-EC16)/hatm,0)) -> 11.997778 | EF16: =IF(EC16>Rg,1/EE16,0) -> 0.083348768 | EM16: Function batHMiaia(fia, alfa, r, dr) As xyaf | EW16: =EW15+PI()/100 -> 0.031415927 | EX16: =Rg*COS(EW16) -> 4.9975328 | EY16: =Rg*SIN(EW16) -> 0.1570538 | EZ16: =rarxiko*COS(EY16) -> 5.8273851 | FA16: =rarxiko*SIN(EY16) -> 0.92281278 | FB16: {=xsel+Rs*COS(EW16)} -> 268.55134 | FC16: =ysel+Rs*SIN(EW16) -> 136.23641 | FD16: =FD15-FF15+FG15 -> 1.114493 | FE16: =ATAN(FN15/FO15) -> 0.24643879 | FF16: =FD16-FE16 -> 0.86805421 | FG16: =ASIN(SIN(FF16)*FH16) -> 0.86591027 | FH16: =IF($FK16>=rarxiko,1,IF($FK16>=Rg, c_EXISOSI+bsel*($FK16),0)) -> 0.99818182 | FI16: =FO15 -> 5.7042891 | FJ16: =FN15 -> 1.434925 | FK16: =FK15-dr -> 5.882 | FL16: =FI16-FJ16*_xlfn.COT(FD16) -> 4.9999517 | FM16: =(FK16-dr)^2-FL16^2*SIN(FD17)^2 -> 14.283285 | FN16: =(-FL16*COS(FD17)+SQRT(FM16))*SIN(FD17) -> 1.4048013 | FO16: =FI16+_xlfn.COT(FD17)*(FN16-FJ16) -> 5.6894225 | FP16: {=taxytis(FK16)} -> 0.99818182 | FT16: =FT15-$HB16^2/($HD16*Kay) -> #DIV/0! | FV16: =FV15-dr -> 5.882 | FW16: {=taxytis(FV16)} -> 0.99818182 | FX16: =IF(GC16>=0,SIN(FD17)*(-FZ16*COS(FD17)+SQRT($GC16)),FT16) -> #DIV/0! | FY16: =FU16+_xlfn.COT(FD17)*(FX16-FT16) -> #DIV/0! | FZ16: =FU16-FT16*_xlfn.COT(FD17) -> #DIV/0! | GA16: =(FV16-dr)^2 -> 34.386496 | GB16: =(FZ16*SIN(FD17))^2 -> #DIV/0! | GC16: =GA16-GB16 -> #DIV/0! | GJ16: sina0*C^2/(4b)<1 | GL16: sina0<4b/C^2 | GQ16: =Kay -> 0.014961654 | GS16: AA | GT16: =-GQ18*GQ17 -> -2.2839617e-06 | GV16: =1/SQRT(-AA) -> 661.69155 | GW16: =GV16*Kay*bsel -> 1 | HM16: =alfagon -> 1.1145196
A17: =A16+dtl -> 0.56 | B17: {=XtoYt($A17,Al,Vl,B$8)} -> 0.18007821 | C17: {=YtoyX(B17,Al,Vl,B$8)} -> -4.0781606 | D17: =D16+F$4 -> 0.006139904 | E17: =2*EXP(Vl*(D17-LN(F$8)/Vl))/(1+EXP(2*Vl*(D17-LN(F$8)/Vl))) -> 0.992076 | F17: =IF(F$6<0,-1/(Vl*E$5)*(SIGN(SIN(F$8))*SQRT(1-E17^2)-COS(E$8)),IF(D17<F$6,-1/(Vl*E$5)*(SIGN(SIN(F$8))*SQRT(1-E17^2)-COS(E$8)),2*F$3+1/(Vl*E$5)*(SIGN(SIN(F$8))*SQRT(1-E17^2)-COS(E$8)))) -> 1.2536055 | G17: =Al*(SIGN(SIN(E$8))*SQRT(1-(Vl*SIN(E$8)*F17/Al-COS(E$8))^2)-SIN(E$8))/(Vl*SIN(E$8)) -> 0.030444044 | H17: =H16+J$4 -> 0.18265924 | I17: =2*EXP(Vl*(H17-LN(J$8)/Vl))/(1+EXP(2*Vl*(H17-LN(J$8)/Vl))) -> 0.36359966 | J17: =IF(H17<K$5,-1/(Vl*I$5)*(SIGN(SIN(J$8))*SQRT(1-I17^2)-COS(I$8)),2*J$3+1/(Vl*I$5)*(SIGN(SIN(J$8))*SQRT(1-I17^2)-COS(I$8))) -> 3.0593222 | K17: =Al*(SIGN(SIN(I$8))*SQRT(1-(Vl*SIN(I$8)*J17/Al-COS(I$8))^2)-SIN(I$8))/(Vl*SIN(I$8)) -> 13.083833 | CO17: =CO16+dt -> -0.33 | CP17: =IF(OR(CP$5<90,CP$5>270),CO17+CP$8,CO17-CP$8) -> -0.076551322 | CQ17: =2*EXP(Vl*CP17)/(1+EXP(2*Vl*CP17)) -> 0.83790132 | CR17: =CR16+dt -> -0.33 | CS17: =IF(OR(CS$5<90,CS$5>270),CR17+CS$8,CR17-CS$8) -> -0.51830678 | CT17: =2*EXP(Vl*CS17)/(1+EXP(2*Vl*CS17)) -> 0.031632908 | CU17: =CU16+dt -> -0.33 | CV17: =IF(OR(CV$5<90,CV$5>270),CU17+CV$8,CU17-CV$8) -> -0.41160457 | CW17: =2*EXP(Vl*CV17)/(1+EXP(2*Vl*CV17)) -> 0.074194263 | CX17: =CX16+dt -> -0.33 | CY17: =IF(OR(CY$5<90,CY$5>270),CX17+CY$8,CX17-CY$8) -> -0.2198283 | CZ17: =2*EXP(Vl*CY17)/(1+EXP(2*Vl*CY17)) -> 0.33463057 | DA17: =DA16+dt -> -0.33 | DB17: =IF(OR(DB$5<90,DB$5>270),DA17+DB$8,DA17-DB$8) -> 0.061412666 | DC17: =2*EXP(Vl*DB17)/(1+EXP(2*Vl*DB17)) -> 0.89036433 | DL17: =DL16+10 -> 135 | DM17: =RADIANS(DL17) -> 2.3561945 | DN17: =ABS(_xlfn.COT(DM17/2)) -> 0.41421356 | DO17: =LN(DN17)*Vl -> -7.0509887 | DP17: =Al/Vl*_xlfn.COT(DM17) -> -4.125 | DQ17: =Al/Vl*(1/ABS(SIN(DM17))-1) -> 1.7086309 | EC17: =EC16-dr -> 5.784 | EE17: =IF(EC17>rarxiko,1,IF(EC17>Rg,1-dc*(rarxiko-EC17)/hatm,0)) -> 14.017778 | EF17: =IF(EC17>Rg,1/EE17,0) -> 0.071337984 | EJ17: =(-Rg*COS(alfagon+SQRT(rarxiko^2-Rg^2*SIN(alfagon)^2))*SIN(alfagon)) -> -1.0294496 | EM17: 'fia η γωνία που κάνει η ακτίνα r από το κέντρο της γης στο σημείο πρόσπτωσης με τον πολικό άξονα | EW17: =EW16+PI()/100 -> 0.062831853 | EX17: =Rg*COS(EW17) -> 4.9901336 | EY17: =Rg*SIN(EW17) -> 0.3139526 | EZ17: =rarxiko*COS(EY17) -> 5.6116101 | FA17: =rarxiko*SIN(EY17) -> 1.8220406 | FB17: {=xsel+Rs*COS(EW17)} -> 268.54949 | FC17: =ysel+Rs*SIN(EW17) -> 136.27564 | FD17: =FD16-FF16+FG16 -> 1.1123491 | FE17: =ATAN(FN16/FO16) -> 0.24207263 | FF17: =FD17-FE17 -> 0.87027643 | FG17: =ASIN(SIN(FF17)*FH17) -> 0.8659747 | FH17: =IF($FK17>=rarxiko,1,IF($FK17>=Rg, c_EXISOSI+bsel*($FK17),0)) -> 0.99636364 | FI17: =FO16 -> 5.6894225 | FJ17: =FN16 -> 1.4048013 | FK17: =FK16-dr -> 5.864 | FL17: =FI17-FJ17*_xlfn.COT(FD17) -> 4.9961301 | FM17: =(FK17-dr)^2-FL17^2*SIN(FD18)^2 -> 14.188731 | FN17: =(-FL17*COS(FD18)+SQRT(FM17))*SIN(FD18) -> 1.3748796 | FO17: =FI17+_xlfn.COT(FD18)*(FN17-FJ17) -> 5.6744953 | FT17: =SQRT(FR15^2+FS15^2) -> #VALUE! | FU17: =FV16-dr -> 5.864 | FV17: {=taxytis(FU17)} -> 0.99636364 | GD17: =Kay*c_EXISOSI^2/(4*bsel)-1 -> -0.99395489 | GE17: =GD17/(Kay*bsel) -> -657.69155 | GG17: a-EXISOSIS | GK17: sina | GL17: =4*bsel/c_EXISOSI^2 -> 2.475 | GM17: =DEGREES(ASIN(GL17)) -> #NUM! | GQ17: =Kay^2 -> 0.00022385109 | GS17: BB | GT17: =-2*Kay*bsel^2*c_EXISOSI -> -0.00012335706 | GU17: =BB^2 -> 1.5216964e-08 | HM17: =fia -> 1.0995574
A18: =A17+dtl -> 0.64 | B18: {=XtoYt($A18,Al,Vl,B$8)} -> 0.18009495 | C18: {=YtoyX(B18,Al,Vl,B$8)} -> -4.1003019 | D18: =D17+F$4 -> 0.0070170332 | E18: =2*EXP(Vl*(D18-LN(F$8)/Vl))/(1+EXP(2*Vl*(D18-LN(F$8)/Vl))) -> 0.99292694 | F18: =IF(F$6<0,-1/(Vl*E$5)*(SIGN(SIN(F$8))*SQRT(1-E18^2)-COS(E$8)),IF(D18<F$6,-1/(Vl*E$5)*(SIGN(SIN(F$8))*SQRT(1-E18^2)-COS(E$8)),2*F$3+1/(Vl*E$5)*(SIGN(SIN(F$8))*SQRT(1-E18^2)-COS(E$8)))) -> 1.2246526 | G18: =Al*(SIGN(SIN(E$8))*SQRT(1-(Vl*SIN(E$8)*F18/Al-COS(E$8))^2)-SIN(E$8))/(Vl*SIN(E$8)) -> 0.034008323 | H18: =H17+J$4 -> 0.20875342 | I18: =2*EXP(Vl*(H18-LN(J$8)/Vl))/(1+EXP(2*Vl*(H18-LN(J$8)/Vl))) -> 0.44020001 | J18: =IF(H18<K$5,-1/(Vl*I$5)*(SIGN(SIN(J$8))*SQRT(1-I18^2)-COS(I$8)),2*J$3+1/(Vl*I$5)*(SIGN(SIN(J$8))*SQRT(1-I18^2)-COS(I$8))) -> 4.6522085 | K18: =Al*(SIGN(SIN(I$8))*SQRT(1-(Vl*SIN(I$8)*J18/Al-COS(I$8))^2)-SIN(I$8))/(Vl*SIN(I$8)) -> 16.709256 | CO18: =CO17+dt -> -0.32 | CP18: =IF(OR(CP$5<90,CP$5>270),CO18+CP$8,CO18-CP$8) -> -0.066551322 | CQ18: =2*EXP(Vl*CP18)/(1+EXP(2*Vl*CP18)) -> 0.87327837 | CR18: =CR17+dt -> -0.32 | CS18: =IF(OR(CS$5<90,CS$5>270),CR18+CS$8,CR18-CS$8) -> -0.50830678 | CT18: =2*EXP(Vl*CS18)/(1+EXP(2*Vl*CS18)) -> 0.034266032 | CU18: =CU17+dt -> -0.32 | CV18: =IF(OR(CV$5<90,CV$5>270),CU18+CV$8,CU18-CV$8) -> -0.40160457 | CW18: =2*EXP(Vl*CV18)/(1+EXP(2*Vl*CV18)) -> 0.080354472 | CX18: =CX17+dt -> -0.32 | CY18: =IF(OR(CY$5<90,CY$5>270),CX18+CY$8,CX18-CY$8) -> -0.2098283 | CZ18: =2*EXP(Vl*CY18)/(1+EXP(2*Vl*CY18)) -> 0.36069694 | DA18: =DA17+dt -> -0.32 | DB18: =IF(OR(DB$5<90,DB$5>270),DA18+DB$8,DA18-DB$8) -> 0.071412666 | DC18: =2*EXP(Vl*DB18)/(1+EXP(2*Vl*DB18)) -> 0.85639915 | DL18: =DL17+10 -> 145 | DM18: =RADIANS(DL18) -> 2.5307274 | DN18: =ABS(_xlfn.COT(DM18/2)) -> 0.31529879 | DO18: =LN(DN18)*Vl -> -9.2338764 | DP18: =Al/Vl*_xlfn.COT(DM18) -> -5.8911105 | DQ18: =Al/Vl*(1/ABS(SIN(DM18))-1) -> 3.066718 | DT18: =c_EXISOSI+bsel*0 -> 0.4040404 | EC18: =EC17-dr -> 5.766 | EE18: =IF(EC18>rarxiko,1,IF(EC18>Rg,1-dc*(rarxiko-EC18)/hatm,0)) -> 16.037778 | EF18: =IF(EC18>Rg,1/EE18,0) -> 0.062352778 | EM18: 'alfa η γωνία που κάνει η ΦΩΤΕΙΝΗ ΑΚΤΙΝΑ με τον πολικό άξονα της γης | EW18: =EW17+PI()/100 -> 0.09424778 | EX18: =Rg*COS(EW18) -> 4.9778098 | EY18: =Rg*SIN(EW18) -> 0.47054157 | EZ18: =rarxiko*COS(EY18) -> 5.258805 | FA18: =rarxiko*SIN(EY18) -> 2.6748775 | FB18: {=xsel+Rs*COS(EW18)} -> 268.54641 | FC18: =ysel+Rs*SIN(EW18) -> 136.31479 | FD18: =FD17-FF17+FG17 -> 1.1080473 | FE18: =ATAN(FN17/FO17) -> 0.23771015 | FF18: =FD18-FE18 -> 0.87033717 | FG18: =ASIN(SIN(FF18)*FH18) -> 0.86389193 | FH18: =IF($FK18>=rarxiko,1,IF($FK18>=Rg, c_EXISOSI+bsel*($FK18),0)) -> 0.99454545 | FI18: =FO17 -> 5.6744953 | FJ18: =FN17 -> 1.3748796 | FK18: =FK17-dr -> 5.846 | FL18: =FI18-FJ18*_xlfn.COT(FD18) -> 4.9885991 | FM18: =(FK18-dr)^2-FL18^2*SIN(FD19)^2 -> 14.167571 | FN18: =(-FL18*COS(FD19)+SQRT(FM18))*SIN(FD19) -> 1.3453022 | FO18: =FI18+_xlfn.COT(FD19)*(FN18-FJ18) -> 5.659501 | GD18: =1-(Kay*c_EXISOSI^2)/(4*bsel) -> 0.99395489 | GG18: a_exis | GH18: =-c_0/(2*bsel) -> -4.5 | GQ18: =bsel^2 -> 0.010203041 | GS18: CC | GT18: =1-Kay^2*c_EXISOSI^2 -> 0.99996346 | GU18: =4*AA*CC -> -9.1355131e-06 | HM18: =HM16-HM17 -> 0.014962212
A19: =A18+dtl -> 0.72 | B19: {=XtoYt($A19,Al,Vl,B$8)} -> 0.1800996 | C19: {=YtoyX(B19,Al,Vl,B$8)} -> -4.1119769 | D19: =D18+F$4 -> 0.0078941623 | E19: =2*EXP(Vl*(D19-LN(F$8)/Vl))/(1+EXP(2*Vl*(D19-LN(F$8)/Vl))) -> 0.99373037 | F19: =IF(F$6<0,-1/(Vl*E$5)*(SIGN(SIN(F$8))*SQRT(1-E19^2)-COS(E$8)),IF(D19<F$6,-1/(Vl*E$5)*(SIGN(SIN(F$8))*SQRT(1-E19^2)-COS(E$8)),2*F$3+1/(Vl*E$5)*(SIGN(SIN(F$8))*SQRT(1-E19^2)-COS(E$8)))) -> 1.1956514 | G19: =Al*(SIGN(SIN(E$8))*SQRT(1-(Vl*SIN(E$8)*F19/Al-COS(E$8))^2)-SIN(E$8))/(Vl*SIN(E$8)) -> 0.037373594 | H19: =H18+J$4 -> 0.2348476 | I19: =2*EXP(Vl*(H19-LN(J$8)/Vl))/(1+EXP(2*Vl*(H19-LN(J$8)/Vl))) -> 0.52841064 | J19: =IF(H19<K$5,-1/(Vl*I$5)*(SIGN(SIN(J$8))*SQRT(1-I19^2)-COS(I$8)),2*J$3+1/(Vl*I$5)*(SIGN(SIN(J$8))*SQRT(1-I19^2)-COS(I$8))) -> 6.9671119 | K19: =Al*(SIGN(SIN(I$8))*SQRT(1-(Vl*SIN(I$8)*J19/Al-COS(I$8))^2)-SIN(I$8))/(Vl*SIN(I$8)) -> 20.884183 | CO19: =CO18+dt -> -0.31 | CP19: =IF(OR(CP$5<90,CP$5>270),CO19+CP$8,CO19-CP$8) -> -0.056551322 | CQ19: =2*EXP(Vl*CP19)/(1+EXP(2*Vl*CP19)) -> 0.90571907 | CR19: =CR18+dt -> -0.31 | CS19: =IF(OR(CS$5<90,CS$5>270),CR19+CS$8,CR19-CS$8) -> -0.49830678 | CT19: =2*EXP(Vl*CS19)/(1+EXP(2*Vl*CS19)) -> 0.037118059 | CU19: =CU18+dt -> -0.31 | CV19: =IF(OR(CV$5<90,CV$5>270),CU19+CV$8,CU19-CV$8) -> -0.39160457 | CW19: =2*EXP(Vl*CV19)/(1+EXP(2*Vl*CV19)) -> 0.087022547 | CX19: =CX18+dt -> -0.31 | CY19: =IF(OR(CY$5<90,CY$5>270),CX19+CY$8,CX19-CY$8) -> -0.1998283 | CZ19: =2*EXP(Vl*CY19)/(1+EXP(2*Vl*CY19)) -> 0.38846962 | DA19: =DA18+dt -> -0.31 | DB19: =IF(OR(DB$5<90,DB$5>270),DA19+DB$8,DA19-DB$8) -> 0.081412666 | DC19: =2*EXP(Vl*DB19)/(1+EXP(2*Vl*DB19)) -> 0.81987304 | DL19: =DL18+10 -> 155 | DM19: =RADIANS(DL19) -> 2.7052603 | DN19: =ABS(_xlfn.COT(DM19/2)) -> 0.22169466 | DO19: =LN(DN19)*Vl -> -12.051634 | DP19: =Al/Vl*_xlfn.COT(DM19) -> -8.846091 | DQ19: =Al/Vl*(1/ABS(SIN(DM19))-1) -> 5.6355815 | EC19: =EC18-dr -> 5.748 | EE19: =IF(EC19>rarxiko,1,IF(EC19>Rg,1-dc*(rarxiko-EC19)/hatm,0)) -> 18.057778 | EF19: =IF(EC19>Rg,1/EE19,0) -> 0.0553778 | EM19: 'r η ακτίνα dr η μεταβολή της ακτίνας | EW19: =EW18+PI()/100 -> 0.12566371 | EX19: =Rg*COS(EW19) -> 4.9605735 | EY19: =Rg*SIN(EW19) -> 0.62666617 | EZ19: =rarxiko*COS(EY19) -> 4.778924 | FA19: =rarxiko*SIN(EY19) -> 3.4600412 | FB19: {=xsel+Rs*COS(EW19)} -> 268.5421 | FC19: =ysel+Rs*SIN(EW19) -> 136.35382 | FD19: =FD18-FF18+FG18 -> 1.1016021 | FE19: =ATAN(FN18/FO18) -> 0.23337561 | FF19: =FD19-FE19 -> 0.86822647 | FG19: =ASIN(SIN(FF19)*FH19) -> 0.85967992 | FH19: =IF($FK19>=rarxiko,1,IF($FK19>=Rg, c_EXISOSI+bsel*($FK19),0)) -> 0.99272727 | FI19: =FO18 -> 5.659501 | FJ19: =FN18 -> 1.3453022 | FK19: =FK18-dr -> 5.828 | FL19: =FI19-FJ19*_xlfn.COT(FD19) -> 4.9774964 | FM19: =(FK19-dr)^2-FL19^2*SIN(FD20)^2 -> 14.217971 | FN19: =(-FL19*COS(FD20)+SQRT(FM19))*SIN(FD20) -> 1.3162011 | FO19: =FI19+_xlfn.COT(FD20)*(FN19-FJ19) -> 5.6444341 | GT19: =BB^2-4*AA*CC -> 9.1507301e-06 | HM19: =SIN(HM18) -> 0.014961654 | HX19: `
A20: =A19+dtl -> 0.8 | B20: {=XtoYt($A20,Al,Vl,B$8)} -> 0.18010089 | C20: {=YtoyX(B20,Al,Vl,B$8)} -> -4.118133 | D20: =D19+F$4 -> 0.0087712915 | E20: =2*EXP(Vl*(D20-LN(F$8)/Vl))/(1+EXP(2*Vl*(D20-LN(F$8)/Vl))) -> 0.9944861 | F20: =IF(F$6<0,-1/(Vl*E$5)*(SIGN(SIN(F$8))*SQRT(1-E20^2)-COS(E$8)),IF(D20<F$6,-1/(Vl*E$5)*(SIGN(SIN(F$8))*SQRT(1-E20^2)-COS(E$8)),2*F$3+1/(Vl*E$5)*(SIGN(SIN(F$8))*SQRT(1-E20^2)-COS(E$8)))) -> 1.1666047 | G20: =Al*(SIGN(SIN(E$8))*SQRT(1-(Vl*SIN(E$8)*F20/Al-COS(E$8))^2)-SIN(E$8))/(Vl*SIN(E$8)) -> 0.040539043 | H20: =H19+J$4 -> 0.26094178 | I20: =2*EXP(Vl*(H20-LN(J$8)/Vl))/(1+EXP(2*Vl*(H20-LN(J$8)/Vl))) -> 0.62656234 | J20: =IF(H20<K$5,-1/(Vl*I$5)*(SIGN(SIN(J$8))*SQRT(1-I20^2)-COS(I$8)),2*J$3+1/(Vl*I$5)*(SIGN(SIN(J$8))*SQRT(1-I20^2)-COS(I$8))) -> 10.262049 | K20: =Al*(SIGN(SIN(I$8))*SQRT(1-(Vl*SIN(I$8)*J20/Al-COS(I$8))^2)-SIN(I$8))/(Vl*SIN(I$8)) -> 25.529611 | CO20: =CO19+dt -> -0.3 | CP20: =IF(OR(CP$5<90,CP$5>270),CO20+CP$8,CO20-CP$8) -> -0.046551322 | CQ20: =2*EXP(Vl*CP20)/(1+EXP(2*Vl*CP20)) -> 0.93444846 | CR20: =CR19+dt -> -0.3 | CS20: =IF(OR(CS$5<90,CS$5>270),CR20+CS$8,CR20-CS$8) -> -0.48830678 | CT20: =2*EXP(Vl*CS20)/(1+EXP(2*Vl*CS20)) -> 0.040207109 | CU20: =CU19+dt -> -0.3 | CV20: =IF(OR(CV$5<90,CV$5>270),CU20+CV$8,CU20-CV$8) -> -0.38160457 | CW20: =2*EXP(Vl*CV20)/(1+EXP(2*Vl*CV20)) -> 0.094239384 | CX20: =CX19+dt -> -0.3 | CY20: =IF(OR(CY$5<90,CY$5>270),CX20+CY$8,CX20-CY$8) -> -0.1898283 | CZ20: =2*EXP(Vl*CY20)/(1+EXP(2*Vl*CY20)) -> 0.41797618 | DA20: =DA19+dt -> -0.3 | DB20: =IF(OR(DB$5<90,DB$5>270),DA20+DB$8,DA20-DB$8) -> 0.091412666 | DC20: =2*EXP(Vl*DB20)/(1+EXP(2*Vl*DB20)) -> 0.78153544 | DL20: =DL19+10 -> 165 | DM20: =RADIANS(DL20) -> 2.8797933 | DN20: =ABS(_xlfn.COT(DM20/2)) -> 0.1316525 | DO20: =LN(DN20)*Vl -> -16.220715 | DP20: =Al/Vl*_xlfn.COT(DM20) -> -15.39471 | DQ20: =Al/Vl*(1/ABS(SIN(DM20))-1) -> 11.812776 | EC20: =EC19-dr -> 5.73 | EE20: =IF(EC20>rarxiko,1,IF(EC20>Rg,1-dc*(rarxiko-EC20)/hatm,0)) -> 20.077778 | EF20: =IF(EC20>Rg,1/EE20,0) -> 0.049806309 | EM20: 'αν έχω μια βαθμιαία μεταβολή του δείκτη διάθλασης τότε υπολογίζω τις νέες θέσεις ' που θα έχει η ακτίνα | EW20: =EW19+PI()/100 -> 0.15707963 | EX20: =Rg*COS(EW20) -> 4.9384417 | EY20: =Rg*SIN(EW20) -> 0.78217233 | EZ20: =rarxiko*COS(EY20) -> 4.1853663 | FA20: =rarxiko*SIN(EY20) -> 4.1584504 | FB20: {=xsel+Rs*COS(EW20)} -> 268.53657 | FC20: =ysel+Rs*SIN(EW20) -> 136.39269 | FD20: =FD19-FF19+FG19 -> 1.0930555 | FE20: =ATAN(FN19/FO19) -> 0.22909189 | FF20: =FD20-FE20 -> 0.86396364 | FG20: =ASIN(SIN(FF20)*FH20) -> 0.85338433 | FH20: =IF($FK20>=rarxiko,1,IF($FK20>=Rg, c_EXISOSI+bsel*($FK20),0)) -> 0.99090909 | FI20: =FO19 -> 5.6444341 | FJ20: =FN19 -> 1.3162011 | FK20: =FK19-dr -> 5.81 | FL20: =FI20-FJ20*_xlfn.COT(FD20) -> 4.9629806 | FM20: =(FK20-dr)^2-FL20^2*SIN(FD21)^2 -> 14.337291 | FN20: =(-FL20*COS(FD21)+SQRT(FM20))*SIN(FD21) -> 1.2876927 | FO20: =FI20+_xlfn.COT(FD21)*(FN20-FJ20) -> 5.6292895 | GE20: =GG20^2-GG21^2 -> #NUM! | GF20: A_ELL | GG20: =SQRT((1+(Kay*c_EXISOSI^2)/(4*bsel))/(Kay*bsel)) -> 25.800999 | GK20: =Rg+hatm -> 5.9 | GL20: =GK20-a_exisosi -> 7.9 | GN20: =GL20^2*(aell2+bell2)/(bell2*(aell2+GL20^2)) -> 0.17229512 | GO20: =ASIN(SQRT(GN20)) -> 0.42803565 | GP20: {=ftoue(GO20,mmm)} -> #NAME? | HM20: =Kay -> 0.014961654 | HN20: =c_EXISOSI+bsel*rarxiko -> 1 | HO20: =bsel -> 0.1010101
A21: =A20+dtl -> 0.88 | B21: {=XtoYt($A21,Al,Vl,B$8)} -> 0.18010125 | C21: {=YtoyX(B21,Al,Vl,B$8)} -> -4.1213791 | D21: =D20+F$4 -> 0.0096484206 | E21: =2*EXP(Vl*(D21-LN(F$8)/Vl))/(1+EXP(2*Vl*(D21-LN(F$8)/Vl))) -> 0.99519393 | F21: =IF(F$6<0,-1/(Vl*E$5)*(SIGN(SIN(F$8))*SQRT(1-E21^2)-COS(E$8)),IF(D21<F$6,-1/(Vl*E$5)*(SIGN(SIN(F$8))*SQRT(1-E21^2)-COS(E$8)),2*F$3+1/(Vl*E$5)*(SIGN(SIN(F$8))*SQRT(1-E21^2)-COS(E$8)))) -> 1.1375152 | G21: =Al*(SIGN(SIN(E$8))*SQRT(1-(Vl*SIN(E$8)*F21/Al-COS(E$8))^2)-SIN(E$8))/(Vl*SIN(E$8)) -> 0.043503902 | H21: =H20+J$4 -> 0.28703596 | I21: =2*EXP(Vl*(H21-LN(J$8)/Vl))/(1+EXP(2*Vl*(H21-LN(J$8)/Vl))) -> 0.73026972 | J21: =IF(H21<K$5,-1/(Vl*I$5)*(SIGN(SIN(J$8))*SQRT(1-I21^2)-COS(I$8)),2*J$3+1/(Vl*I$5)*(SIGN(SIN(J$8))*SQRT(1-I21^2)-COS(I$8))) -> 14.81569 | K21: =Al*(SIGN(SIN(I$8))*SQRT(1-(Vl*SIN(I$8)*J21/Al-COS(I$8))^2)-SIN(I$8))/(Vl*SIN(I$8)) -> 30.437984 | CO21: =CO20+dt -> -0.29 | CP21: =IF(OR(CP$5<90,CP$5>270),CO21+CP$8,CO21-CP$8) -> -0.036551322 | CQ21: =2*EXP(Vl*CP21)/(1+EXP(2*Vl*CP21)) -> 0.95871995 | CR21: =CR20+dt -> -0.29 | CS21: =IF(OR(CS$5<90,CS$5>270),CR21+CS$8,CR21-CS$8) -> -0.47830678 | CT21: =2*EXP(Vl*CS21)/(1+EXP(2*Vl*CS21)) -> 0.043552786 | CU21: =CU20+dt -> -0.29 | CV21: =IF(OR(CV$5<90,CV$5>270),CU21+CV$8,CU21-CV$8) -> -0.37160457 | CW21: =2*EXP(Vl*CV21)/(1+EXP(2*Vl*CV21)) -> 0.1020489 | CX21: =CX20+dt -> -0.29 | CY21: =IF(OR(CY$5<90,CY$5>270),CX21+CY$8,CX21-CY$8) -> -0.1798283 | CZ21: =2*EXP(Vl*CY21)/(1+EXP(2*Vl*CY21)) -> 0.44922058 | DA21: =DA20+dt -> -0.29 | DB21: =IF(OR(DB$5<90,DB$5>270),DA21+DB$8,DA21-DB$8) -> 0.10141267 | DC21: =2*EXP(Vl*DB21)/(1+EXP(2*Vl*DB21)) -> 0.74208344 | DL21: =DL20+10 -> 175 | DM21: =RADIANS(DL21) -> 3.0543262 | DN21: =ABS(_xlfn.COT(DM21/2)) -> 0.043660943 | DO21: =LN(DN21)*Vl -> -25.050411 | DP21: =Al/Vl*_xlfn.COT(DM21) -> -47.148966 | DQ21: =Al/Vl*(1/ABS(SIN(DM21))-1) -> 43.204067 | EC21: =EC20-dr -> 5.712 | EE21: =IF(EC21>rarxiko,1,IF(EC21>Rg,1-dc*(rarxiko-EC21)/hatm,0)) -> 22.097778 | EF21: =IF(EC21>Rg,1/EE21,0) -> 0.045253419 | EM21: 'alfa = γωνία που κάνει με τον άξονα της γης η προσπίπτουσα ακτίνα | EW21: =EW20+PI()/100 -> 0.18849556 | EX21: =Rg*COS(EW21) -> 4.9114363 | EY21: =Rg*SIN(EW21) -> 0.93690657 | EZ21: =rarxiko*COS(EY21) -> 3.4944716 | FA21: =rarxiko*SIN(EY21) -> 4.7538057 | FB21: {=xsel+Rs*COS(EW21)} -> 268.52982 | FC21: =ysel+Rs*SIN(EW21) -> 136.43138 | FD21: =FD20-FF20+FG20 -> 1.0824762 | FE21: =ATAN(FN20/FO20) -> 0.22487965 | FF21: =FD21-FE21 -> 0.85759657 | FG21: =ASIN(SIN(FF21)*FH21) -> 0.84507674 | FH21: =IF($FK21>=rarxiko,1,IF($FK21>=Rg, c_EXISOSI+bsel*($FK21),0)) -> 0.98909091 | FI21: =FO20 -> 5.6292895 | FJ21: =FN20 -> 1.2876927 | FK21: =FK20-dr -> 5.792 | FL21: =FI21-FJ21*_xlfn.COT(FD21) -> 4.9452256 | FM21: =(FK21-dr)^2-FL21^2*SIN(FD22)^2 -> 14.522126 | FN21: =(-FL21*COS(FD22)+SQRT(FM21))*SIN(FD22) -> 1.2598745 | FO21: =FI21+_xlfn.COT(FD22)*(FN21-FJ21) -> 5.614062 | GC21: R=Z+Am | GE21: =GE20/GG20^2 -> #NUM! | GF21: b_ELL | GG21: =SQRT(((Kay*c_EXISOSI^2)/(4*bsel)-1)/(Kay*bsel)) -> #NUM! | GL21: farxiko | GO21: farxiko | GP21: ellearx | GQ21: aploarx
A22: =A21+dtl -> 0.96 | B22: {=XtoYt($A22,Al,Vl,B$8)} -> 0.18010135 | C22: {=YtoyX(B22,Al,Vl,B$8)} -> -4.1230907 | D22: =D21+F$4 -> 0.01052555 | E22: =2*EXP(Vl*(D22-LN(F$8)/Vl))/(1+EXP(2*Vl*(D22-LN(F$8)/Vl))) -> 0.9958537 | F22: =IF(F$6<0,-1/(Vl*E$5)*(SIGN(SIN(F$8))*SQRT(1-E22^2)-COS(E$8)),IF(D22<F$6,-1/(Vl*E$5)*(SIGN(SIN(F$8))*SQRT(1-E22^2)-COS(E$8)),2*F$3+1/(Vl*E$5)*(SIGN(SIN(F$8))*SQRT(1-E22^2)-COS(E$8)))) -> 1.1083857 | G22: =Al*(SIGN(SIN(E$8))*SQRT(1-(Vl*SIN(E$8)*F22/Al-COS(E$8))^2)-SIN(E$8))/(Vl*SIN(E$8)) -> 0.046267448 | H22: =H21+J$4 -> 0.31313013 | I22: =2*EXP(Vl*(H22-LN(J$8)/Vl))/(1+EXP(2*Vl*(H22-LN(J$8)/Vl))) -> 0.83153541 | J22: =IF(H22<K$5,-1/(Vl*I$5)*(SIGN(SIN(J$8))*SQRT(1-I22^2)-COS(I$8)),2*J$3+1/(Vl*I$5)*(SIGN(SIN(J$8))*SQRT(1-I22^2)-COS(I$8))) -> 20.859006 | K22: =Al*(SIGN(SIN(I$8))*SQRT(1-(Vl*SIN(I$8)*J22/Al-COS(I$8))^2)-SIN(I$8))/(Vl*SIN(I$8)) -> 35.230795 | CO22: =CO21+dt -> -0.28 | CP22: =IF(OR(CP$5<90,CP$5>270),CO22+CP$8,CO22-CP$8) -> -0.026551322 | CQ22: =2*EXP(Vl*CP22)/(1+EXP(2*Vl*CP22)) -> 0.97785733 | CR22: =CR21+dt -> -0.28 | CS22: =IF(OR(CS$5<90,CS$5>270),CR22+CS$8,CR22-CS$8) -> -0.46830678 | CT22: =2*EXP(Vl*CS22)/(1+EXP(2*Vl*CS22)) -> 0.047176286 | CU22: =CU21+dt -> -0.28 | CV22: =IF(OR(CV$5<90,CV$5>270),CU22+CV$8,CU22-CV$8) -> -0.36160457 | CW22: =2*EXP(Vl*CV22)/(1+EXP(2*Vl*CV22)) -> 0.11049821 | CX22: =CX21+dt -> -0.28 | CY22: =IF(OR(CY$5<90,CY$5>270),CX22+CY$8,CX22-CY$8) -> -0.1698283 | CZ22: =2*EXP(Vl*CY22)/(1+EXP(2*Vl*CY22)) -> 0.48217649 | DA22: =DA21+dt -> -0.28 | DB22: =IF(OR(DB$5<90,DB$5>270),DA22+DB$8,DA22-DB$8) -> 0.11141267 | DC22: =2*EXP(Vl*DB22)/(1+EXP(2*Vl*DB22)) -> 0.70214307 | DL22: =DL21+10 -> 185 | DM22: =RADIANS(DL22) -> 3.2288591 | DN22: =ABS(_xlfn.COT(DM22/2)) -> 0.043660943 | DO22: =LN(DN22)*Vl -> -25.050411 | DP22: =Al/Vl*_xlfn.COT(DM22) -> 47.148966 | DQ22: =Al/Vl*(1/ABS(SIN(DM22))-1) -> 43.204067 | EC22: =EC21-dr -> 5.694 | EE22: =IF(EC22>rarxiko,1,IF(EC22>Rg,1-dc*(rarxiko-EC22)/hatm,0)) -> 24.117778 | EF22: =IF(EC22>Rg,1/EE22,0) -> 0.04146319 | EM22: 'alfa1= γωνία που κάνει με τον άξονα της γης η διαθλώμενη ακτίνα | EW22: =EW21+PI()/100 -> 0.21991149 | EX22: =Rg*COS(EW22) -> 4.8795838 | EY22: =Rg*SIN(EW22) -> 1.0907162 | EZ22: =rarxiko*COS(EY22) -> 2.7249164 | FA22: =rarxiko*SIN(EY22) -> 5.2330517 | FB22: {=xsel+Rs*COS(EW22)} -> 268.52185 | FC22: =ysel+Rs*SIN(EW22) -> 136.46983 | FD22: =FD21-FF21+FG21 -> 1.0699564 | FE22: =ATAN(FN21/FO21) -> 0.22075668 | FF22: =FD22-FE22 -> 0.8491997 | FG22: =ASIN(SIN(FF22)*FH22) -> 0.83485168 | FH22: =IF($FK22>=rarxiko,1,IF($FK22>=Rg, c_EXISOSI+bsel*($FK22),0)) -> 0.98727273 | FI22: =FO21 -> 5.614062 | FJ22: =FN21 -> 1.2598745 | FK22: =FK21-dr -> 5.774 | FL22: =FI22-FJ22*_xlfn.COT(FD22) -> 4.9244147 | FM22: =(FK22-dr)^2-FL22^2*SIN(FD23)^2 -> 14.768371 | FN22: =(-FL22*COS(FD23)+SQRT(FM22))*SIN(FD23) -> 1.2328234 | FO22: =FI22+_xlfn.COT(FD23)*(FN22-FJ22) -> 5.5987459 | GA22: =2/(Kay*bsel) -> 1323.3831 | GC22: a_M | GD22: =-c_EXISOSI/bsel -> -4 | GK22: =Rg+hatm -> 5.9 | GL22: =GK22-a_exisosi -> 7.9 | GN22: =GL22^2*(aell2+bell2)/(bell2*(aell2+GL22^2)) -> 0.17229512 | GO22: =ASIN(SQRT(GN22)) -> 0.42803565 | GP22: {=-ftoue(GO22,mmm)} -> #NAME? | GQ22: =-ATAN(SQRT((aell2+GL22^2)/(bell2-GL22^2))) -> -0.82959257 | GS22: =mm -> 0.49697744
A23: =A22+dtl -> 1.04 | B23: {=XtoYt($A23,Al,Vl,B$8)} -> 0.18010138 | C23: {=YtoyX(B23,Al,Vl,B$8)} -> -4.1239933 | D23: =D22+F$4 -> 0.011402679 | E23: =2*EXP(Vl*(D23-LN(F$8)/Vl))/(1+EXP(2*Vl*(D23-LN(F$8)/Vl))) -> 0.99646525 | F23: =IF(F$6<0,-1/(Vl*E$5)*(SIGN(SIN(F$8))*SQRT(1-E23^2)-COS(E$8)),IF(D23<F$6,-1/(Vl*E$5)*(SIGN(SIN(F$8))*SQRT(1-E23^2)-COS(E$8)),2*F$3+1/(Vl*E$5)*(SIGN(SIN(F$8))*SQRT(1-E23^2)-COS(E$8)))) -> 1.079219 | G23: =Al*(SIGN(SIN(E$8))*SQRT(1-(Vl*SIN(E$8)*F23/Al-COS(E$8))^2)-SIN(E$8))/(Vl*SIN(E$8)) -> 0.048829011 | H23: =H22+J$4 -> 0.33922431 | I23: =2*EXP(Vl*(H23-LN(J$8)/Vl))/(1+EXP(2*Vl*(H23-LN(J$8)/Vl))) -> 0.91875505 | J23: =IF(H23<K$5,-1/(Vl*I$5)*(SIGN(SIN(J$8))*SQRT(1-I23^2)-COS(I$8)),2*J$3+1/(Vl*I$5)*(SIGN(SIN(J$8))*SQRT(1-I23^2)-COS(I$8))) -> 28.462125 | K23: =Al*(SIGN(SIN(I$8))*SQRT(1-(Vl*SIN(I$8)*J23/Al-COS(I$8))^2)-SIN(I$8))/(Vl*SIN(I$8)) -> 39.35882 | CO23: =CO22+dt -> -0.27 | CP23: =IF(OR(CP$5<90,CP$5>270),CO23+CP$8,CO23-CP$8) -> -0.016551322 | CQ23: =2*EXP(Vl*CP23)/(1+EXP(2*Vl*CP23)) -> 0.99129731 | CR23: =CR22+dt -> -0.27 | CS23: =IF(OR(CS$5<90,CS$5>270),CR23+CS$8,CR23-CS$8) -> -0.45830678 | CT23: =2*EXP(Vl*CS23)/(1+EXP(2*Vl*CS23)) -> 0.051100525 | CU23: =CU22+dt -> -0.27 | CV23: =IF(OR(CV$5<90,CV$5>270),CU23+CV$8,CU23-CV$8) -> -0.35160457 | CW23: =2*EXP(Vl*CV23)/(1+EXP(2*Vl*CV23)) -> 0.11963773 | CX23: =CX22+dt -> -0.27 | CY23: =IF(OR(CY$5<90,CY$5>270),CX23+CY$8,CX23-CY$8) -> -0.1598283 | CZ23: =2*EXP(Vl*CY23)/(1+EXP(2*Vl*CY23)) -> 0.51677954 | DA23: =DA22+dt -> -0.27 | DB23: =IF(OR(DB$5<90,DB$5>270),DA23+DB$8,DA23-DB$8) -> 0.12141267 | DC23: =2*EXP(Vl*DB23)/(1+EXP(2*Vl*DB23)) -> 0.66225833 | DH23: xmax | DI23: ymax | DL23: =DL22+10 -> 195 | DM23: =RADIANS(DL23) -> 3.403392 | DN23: =ABS(_xlfn.COT(DM23/2)) -> 0.1316525 | DO23: =LN(DN23)*Vl -> -16.220715 | DP23: =Al/Vl*_xlfn.COT(DM23) -> 15.39471 | DQ23: =Al/Vl*(1/ABS(SIN(DM23))-1) -> 11.812776 | EC23: =EC22-dr -> 5.676 | EE23: =IF(EC23>rarxiko,1,IF(EC23>Rg,1-dc*(rarxiko-EC23)/hatm,0)) -> 26.137778 | EF23: =IF(EC23>Rg,1/EE23,0) -> 0.0382588 | EM23: 'υπολογίζω την προσπίπτουσα από | EW23: =EW22+PI()/100 -> 0.25132741 | EX23: =Rg*COS(EW23) -> 4.8429158 | EY23: =Rg*SIN(EW23) -> 1.2434494 | EZ23: =rarxiko*COS(EY23) -> 1.8970384 | FA23: =rarxiko*SIN(EY23) -> 5.5867025 | FB23: {=xsel+Rs*COS(EW23)} -> 268.51269 | FC23: =ysel+Rs*SIN(EW23) -> 136.50801 | FD23: =FD22-FF22+FG22 -> 1.0556084 | FE23: =ATAN(FN22/FO22) -> 0.21673758 | FF23: =FD23-FE23 -> 0.83887078 | FG23: =ASIN(SIN(FF23)*FH23) -> 0.82282287 | FH23: =IF($FK23>=rarxiko,1,IF($FK23>=Rg, c_EXISOSI+bsel*($FK23),0)) -> 0.98545455 | FI23: =FO22 -> 5.5987459 | FJ23: =FN22 -> 1.2328234 | FK23: =FK22-dr -> 5.756 | FL23: =FI23-FJ23*_xlfn.COT(FD23) -> 4.9007339 | FM23: =(FK23-dr)^2-FL23^2*SIN(FD24)^2 -> 15.071292 | FN23: =(-FL23*COS(FD24)+SQRT(FM23))*SIN(FD24) -> 1.2065955 | FO23: =FI23+_xlfn.COT(FD24)*(FN23-FJ23) -> 5.583335 | GE23: =8*bsel/(4*bsel+Kay*c_EXISOSI^2) -> 1.9879824 | GP23: z_initial | GQ23: =Rg+hatm-a_exisosi -> 7.9 | GS23: =FJ15 -> 1.459873 | GT23: =FI15 -> 5.7165349 | HP23: =
A24: =A23+dtl -> 1.12 | B24: {=XtoYt($A24,Al,Vl,B$8)} -> 0.18010139 | C24: {=YtoyX(B24,Al,Vl,B$8)} -> -4.1244691 | D24: =D23+F$4 -> 0.012279808 | E24: =2*EXP(Vl*(D24-LN(F$8)/Vl))/(1+EXP(2*Vl*(D24-LN(F$8)/Vl))) -> 0.99702843 | F24: =IF(F$6<0,-1/(Vl*E$5)*(SIGN(SIN(F$8))*SQRT(1-E24^2)-COS(E$8)),IF(D24<F$6,-1/(Vl*E$5)*(SIGN(SIN(F$8))*SQRT(1-E24^2)-COS(E$8)),2*F$3+1/(Vl*E$5)*(SIGN(SIN(F$8))*SQRT(1-E24^2)-COS(E$8)))) -> 1.0500179 | G24: =Al*(SIGN(SIN(E$8))*SQRT(1-(Vl*SIN(E$8)*F24/Al-COS(E$8))^2)-SIN(E$8))/(Vl*SIN(E$8)) -> 0.051187963 | H24: =H23+J$4 -> 0.36531849 | I24: =2*EXP(Vl*(H24-LN(J$8)/Vl))/(1+EXP(2*Vl*(H24-LN(J$8)/Vl))) -> 0.97859975 | J24: =IF(H24<K$5,-1/(Vl*I$5)*(SIGN(SIN(J$8))*SQRT(1-I24^2)-COS(I$8)),2*J$3+1/(Vl*I$5)*(SIGN(SIN(J$8))*SQRT(1-I24^2)-COS(I$8))) -> 37.409921 | K24: =Al*(SIGN(SIN(I$8))*SQRT(1-(Vl*SIN(I$8)*J24/Al-COS(I$8))^2)-SIN(I$8))/(Vl*SIN(I$8)) -> 42.191213 | CO24: =CO23+dt -> -0.26 | CP24: =IF(OR(CP$5<90,CP$5>270),CO24+CP$8,CO24-CP$8) -> -0.0065513223 | CQ24: =2*EXP(Vl*CP24)/(1+EXP(2*Vl*CP24)) -> 0.99862814 | CR24: =CR23+dt -> -0.26 | CS24: =IF(OR(CS$5<90,CS$5>270),CR24+CS$8,CR24-CS$8) -> -0.44830678 | CT24: =2*EXP(Vl*CS24)/(1+EXP(2*Vl*CS24)) -> 0.055350264 | CU24: =CU23+dt -> -0.26 | CV24: =IF(OR(CV$5<90,CV$5>270),CU24+CV$8,CU24-CV$8) -> -0.34160457 | CW24: =2*EXP(Vl*CV24)/(1+EXP(2*Vl*CV24)) -> 0.12952129 | CX24: =CX23+dt -> -0.26 | CY24: =IF(OR(CY$5<90,CY$5>270),CX24+CY$8,CX24-CY$8) -> -0.1498283 | CZ24: =2*EXP(Vl*CY24)/(1+EXP(2*Vl*CY24)) -> 0.55291878 | DA24: =DA23+dt -> -0.26 | DB24: =IF(OR(DB$5<90,DB$5>270),DA24+DB$8,DA24-DB$8) -> 0.13141267 | DC24: =2*EXP(Vl*DB24)/(1+EXP(2*Vl*DB24)) -> 0.62288706 | DD24: 5 | DE24: =RADIANS(DD24) -> 0.087266463 | DF24: =Al/Vl*_xlfn.COT(DE24/2) -> 94.478033 | DG24: =-Al/Vl -> -4.125 | DH24: =Al/Vl*_xlfn.COT($DE24) -> 47.148966 | DI24: =Al/Vl*(SIGN(SIN($DE24))*1/SIN($DE24)-1) -> 43.204067 | DL24: =DL23+10 -> 205 | DM24: =RADIANS(DL24) -> 3.577925 | DN24: =ABS(_xlfn.COT(DM24/2)) -> 0.22169466 | DO24: =LN(DN24)*Vl -> -12.051634 | DP24: =Al/Vl*_xlfn.COT(DM24) -> 8.846091 | DQ24: =Al/Vl*(1/ABS(SIN(DM24))-1) -> 5.6355815 | EC24: =EC23-dr -> 5.658 | EE24: =IF(EC24>rarxiko,1,IF(EC24>Rg,1-dc*(rarxiko-EC24)/hatm,0)) -> 28.157778 | EF24: =IF(EC24>Rg,1/EE24,0) -> 0.035514166 | EM24: x0 = r * Sin(fia): y0 = r * Cos(fia) 'σημεία της ακτίνας r που συναντά η φωτεινή ακτίνα | EW24: =EW23+PI()/100 -> 0.28274334 | EX24: =Rg*COS(EW24) -> 4.8014684 | EY24: =Rg*SIN(EW24) -> 1.3949555 | EZ24: =rarxiko*COS(EY24) -> 1.0321226 | FA24: =rarxiko*SIN(EY24) -> 5.8090208 | FB24: {=xsel+Rs*COS(EW24)} -> 268.50232 | FC24: =ysel+Rs*SIN(EW24) -> 136.54589 | FD24: =FD23-FF23+FG23 -> 1.0395604 | FE24: =ATAN(FN23/FO23) -> 0.21283362 | FF24: =FD24-FE24 -> 0.82672683 | FG24: =ASIN(SIN(FF24)*FH24) -> 0.80911895 | FH24: =IF($FK24>=rarxiko,1,IF($FK24>=Rg, c_EXISOSI+bsel*($FK24),0)) -> 0.98363636 | FI24: =FO23 -> 5.583335 | FJ24: =FN23 -> 1.2065955 | FK24: =FK23-dr -> 5.738 | FL24: =FI24-FJ24*_xlfn.COT(FD24) -> 4.8743656 | FM24: =(FK24-dr)^2-FL24^2*SIN(FD25)^2 -> 15.425617 | FN24: =(-FL24*COS(FD25)+SQRT(FM24))*SIN(FD25) -> 1.1812276 | FO24: =FI24+_xlfn.COT(FD25)*(FN24-FJ24) -> 5.5678221 | GB24: =(4*bsel+Kay*c_EXISOSI^2)/(8*bsel) -> 0.50302256 | HC24: =HO121 -> -3.3564563 | HI24: =(1-c_EXISOSI)/bsel -> 5.9 | HV24: cdiakato | IA24: kay2 | IB24: =SIN(incid22) -> 0.76076207
A25: =A24+dtl -> 1.2 | B25: {=XtoYt($A25,Al,Vl,B$8)} -> 0.18010139 | C25: {=YtoyX(B25,Al,Vl,B$8)} -> -4.1247201 | D25: =D24+F$4 -> 0.013156937 | E25: =2*EXP(Vl*(D25-LN(F$8)/Vl))/(1+EXP(2*Vl*(D25-LN(F$8)/Vl))) -> 0.9975431 | F25: =IF(F$6<0,-1/(Vl*E$5)*(SIGN(SIN(F$8))*SQRT(1-E25^2)-COS(E$8)),IF(D25<F$6,-1/(Vl*E$5)*(SIGN(SIN(F$8))*SQRT(1-E25^2)-COS(E$8)),2*F$3+1/(Vl*E$5)*(SIGN(SIN(F$8))*SQRT(1-E25^2)-COS(E$8)))) -> 1.0207852 | G25: =Al*(SIGN(SIN(E$8))*SQRT(1-(Vl*SIN(E$8)*F25/Al-COS(E$8))^2)-SIN(E$8))/(Vl*SIN(E$8)) -> 0.05334373 | H25: =H24+J$4 -> 0.39141267 | I25: =2*EXP(Vl*(H25-LN(J$8)/Vl))/(1+EXP(2*Vl*(H25-LN(J$8)/Vl))) -> 1 | J25: =IF(H25<K$5,-1/(Vl*I$5)*(SIGN(SIN(J$8))*SQRT(1-I25^2)-COS(I$8)),2*J$3+1/(Vl*I$5)*(SIGN(SIN(J$8))*SQRT(1-I25^2)-COS(I$8))) -> 47.148966 | K25: =Al*(SIGN(SIN(I$8))*SQRT(1-(Vl*SIN(I$8)*J25/Al-COS(I$8))^2)-SIN(I$8))/(Vl*SIN(I$8)) -> 43.204067 | CO25: =CO24+dt -> -0.25 | CP25: =IF(OR(CP$5<90,CP$5>270),CO25+CP$8,CO25-CP$8) -> 0.0034486777 | CQ25: =2*EXP(Vl*CP25)/(1+EXP(2*Vl*CP25)) -> 0.99961953 | CR25: =CR24+dt -> -0.25 | CS25: =IF(OR(CS$5<90,CS$5>270),CR25+CS$8,CR25-CS$8) -> -0.43830678 | CT25: =2*EXP(Vl*CS25)/(1+EXP(2*Vl*CS25)) -> 0.059952252 | CU25: =CU24+dt -> -0.25 | CV25: =IF(OR(CV$5<90,CV$5>270),CU25+CV$8,CU25-CV$8) -> -0.33160457 | CW25: =2*EXP(Vl*CV25)/(1+EXP(2*Vl*CV25)) -> 0.14020628 | CX25: =CX24+dt -> -0.25 | CY25: =IF(OR(CY$5<90,CY$5>270),CX25+CY$8,CX25-CY$8) -> -0.1398283 | CZ25: =2*EXP(Vl*CY25)/(1+EXP(2*Vl*CY25)) -> 0.5904276 | DA25: =DA24+dt -> -0.25 | DB25: =IF(OR(DB$5<90,DB$5>270),DA25+DB$8,DA25-DB$8) -> 0.14141267 | DC25: =2*EXP(Vl*DB25)/(1+EXP(2*Vl*DB25)) -> 0.58440217 | DD25: =DD24+10 -> 15 | DE25: =RADIANS(DD25) -> 0.26179939 | DF25: =Al/Vl*_xlfn.COT(DE25/2) -> 31.332486 | DG25: =-Al/Vl -> -4.125 | DH25: =Al/Vl*_xlfn.COT($DE25) -> 15.39471 | DI25: =Al/Vl*(SIGN(SIN($DE25))*1/SIN($DE25)-1) -> 11.812776 | DL25: =DL24+10 -> 215 | DM25: =RADIANS(DL25) -> 3.7524579 | DN25: =ABS(_xlfn.COT(DM25/2)) -> 0.31529879 | DO25: =LN(DN25)*Vl -> -9.2338764 | DP25: =Al/Vl*_xlfn.COT(DM25) -> 5.8911105 | DQ25: =Al/Vl*(1/ABS(SIN(DM25))-1) -> 3.066718 | EC25: =EC24-dr -> 5.64 | EE25: =IF(EC25>rarxiko,1,IF(EC25>Rg,1-dc*(rarxiko-EC25)/hatm,0)) -> 30.177778 | EF25: =IF(EC25>Rg,1/EE25,0) -> 0.033136966 | EM25: prosptoseos = alfa - fia | EW25: =EW24+PI()/100 -> 0.31415927 | EX25: =Rg*COS(EW25) -> 4.7552826 | EY25: =Rg*SIN(EW25) -> 1.545085 | EZ25: =rarxiko*COS(EY25) -> 0.15168028 | FA25: =rarxiko*SIN(EY25) -> 5.8980499 | FB25: {=xsel+Rs*COS(EW25)} -> 268.49078 | FC25: =ysel+Rs*SIN(EW25) -> 136.58342 | FD25: =FD24-FF24+FG24 -> 1.0219526 | FE25: =ATAN(FN24/FO24) -> 0.20905292 | FF25: =FD25-FE25 -> 0.81289964 | FG25: =ASIN(SIN(FF25)*FH25) -> 0.79387919 | FH25: =IF($FK25>=rarxiko,1,IF($FK25>=Rg, c_EXISOSI+bsel*($FK25),0)) -> 0.98181818 | FI25: =FO24 -> 5.5678221 | FJ25: =FN24 -> 1.1812276 | FK25: =FK24-dr -> 5.72 | FL25: =FI25-FJ25*_xlfn.COT(FD25) -> 4.8454832 | FM25: =(FK25-dr)^2-FL25^2*SIN(FD26)^2 -> 15.825642 | FN25: =(-FL25*COS(FD26)+SQRT(FM25))*SIN(FD26) -> 1.1567395 | FO25: =FI25+_xlfn.COT(FD26)*(FN25-FJ25) -> 5.5521997 | GV25: =1+Kay*c_EXISOSI^2/(4*bsel) -> 1.0060451 | GW25: =1-Kay*c_EXISOSI^2/(4*bsel) -> 0.99395489 | HB25: =bsel -> 0.1010101 | HG25: {=c_} -> #NAME? | HQ25: ="n=" &natm -> n=1.1 | HV25: =2*(1-COS(incid22))*EXP(bsel*$HW25)/((1-COS(incid22))^2*EXP(2*bsel*$HW25)+kay2_^2 ) -> 1 | HW25: 0 | HX25: =Rg+hatm -> 5.9
A26: =A25+dtl -> 1.28 | B26: {=XtoYt($A26,Al,Vl,B$8)} -> 0.18010139 | C26: {=YtoyX(B26,Al,Vl,B$8)} -> -4.1248524 | D26: =D25+F$4 -> 0.014034066 | E26: =2*EXP(Vl*(D26-LN(F$8)/Vl))/(1+EXP(2*Vl*(D26-LN(F$8)/Vl))) -> 0.99800914 | F26: =IF(F$6<0,-1/(Vl*E$5)*(SIGN(SIN(F$8))*SQRT(1-E26^2)-COS(E$8)),IF(D26<F$6,-1/(Vl*E$5)*(SIGN(SIN(F$8))*SQRT(1-E26^2)-COS(E$8)),2*F$3+1/(Vl*E$5)*(SIGN(SIN(F$8))*SQRT(1-E26^2)-COS(E$8)))) -> 0.99152379 | G26: =Al*(SIGN(SIN(E$8))*SQRT(1-(Vl*SIN(E$8)*F26/Al-COS(E$8))^2)-SIN(E$8))/(Vl*SIN(E$8)) -> 0.055295784 | H26: =H25+J$4 -> 0.41750684 | I26: =2*EXP(Vl*(H26-LN(J$8)/Vl))/(1+EXP(2*Vl*(H26-LN(J$8)/Vl))) -> 0.97859975 | J26: =IF(H26<K$5,-1/(Vl*I$5)*(SIGN(SIN(J$8))*SQRT(1-I26^2)-COS(I$8)),2*J$3+1/(Vl*I$5)*(SIGN(SIN(J$8))*SQRT(1-I26^2)-COS(I$8))) -> 56.88801 | K26: =Al*(SIGN(SIN(I$8))*SQRT(1-(Vl*SIN(I$8)*J26/Al-COS(I$8))^2)-SIN(I$8))/(Vl*SIN(I$8)) -> 42.191213 | CO26: =CO25+dt -> -0.24 | CP26: =IF(OR(CP$5<90,CP$5>270),CO26+CP$8,CO26-CP$8) -> 0.013448678 | CQ26: =2*EXP(Vl*CP26)/(1+EXP(2*Vl*CP26)) -> 0.99424004 | CR26: =CR25+dt -> -0.24 | CS26: =IF(OR(CS$5<90,CS$5>270),CR26+CS$8,CR26-CS$8) -> -0.42830678 | CT26: =2*EXP(Vl*CS26)/(1+EXP(2*Vl*CS26)) -> 0.064935366 | CU26: =CU25+dt -> -0.24 | CV26: =IF(OR(CV$5<90,CV$5>270),CU26+CV$8,CU26-CV$8) -> -0.32160457 | CW26: =2*EXP(Vl*CV26)/(1+EXP(2*Vl*CV26)) -> 0.15175361 | CX26: =CX25+dt -> -0.24 | CY26: =IF(OR(CY$5<90,CY$5>270),CX26+CY$8,CX26-CY$8) -> -0.1298283 | CZ26: =2*EXP(Vl*CY26)/(1+EXP(2*Vl*CY26)) -> 0.62907443 | DA26: =DA25+dt -> -0.24 | DB26: =IF(OR(DB$5<90,DB$5>270),DA26+DB$8,DA26-DB$8) -> 0.15141267 | DC26: =2*EXP(Vl*DB26)/(1+EXP(2*Vl*DB26)) -> 0.54709669 | DD26: =DD25+10 -> 25 | DE26: =RADIANS(DD26) -> 0.43633231 | DF26: =Al/Vl*_xlfn.COT(DE26/2) -> 18.606673 | DG26: =-Al/Vl -> -4.125 | DH26: =Al/Vl*_xlfn.COT($DE26) -> 8.846091 | DI26: =Al/Vl*(SIGN(SIN($DE26))*1/SIN($DE26)-1) -> 5.6355815 | DL26: =DL25+10 -> 225 | DM26: =RADIANS(DL26) -> 3.9269908 | DN26: =ABS(_xlfn.COT(DM26/2)) -> 0.41421356 | DO26: =LN(DN26)*Vl -> -7.0509887 | DP26: =Al/Vl*_xlfn.COT(DM26) -> 4.125 | DQ26: =Al/Vl*(1/ABS(SIN(DM26))-1) -> 1.7086309 | EC26: =EC25-dr -> 5.622 | EE26: =IF(EC26>rarxiko,1,IF(EC26>Rg,1-dc*(rarxiko-EC26)/hatm,0)) -> 32.197778 | EF26: =IF(EC26>Rg,1/EE26,0) -> 0.031058044 | EM26: Dim thetad As Double 'γωνία διάθλασης | EW26: =EW25+PI()/100 -> 0.34557519 | EX26: =Rg*COS(EW26) -> 4.7044038 | EY26: =Rg*SIN(EW26) -> 1.6936896 | EZ26: =rarxiko*COS(EY26) -> -0.7232466 | FA26: =rarxiko*SIN(EY26) -> 5.8555029 | FB26: {=xsel+Rs*COS(EW26)} -> 268.47806 | FC26: =ysel+Rs*SIN(EW26) -> 136.62057 | FD26: =FD25-FF25+FG25 -> 1.0029321 | FE26: =ATAN(FN25/FO25) -> 0.20540078 | FF26: =FD26-FE26 -> 0.79753133 | FG26: =ASIN(SIN(FF26)*FH26) -> 0.77724936 | FH26: =IF($FK26>=rarxiko,1,IF($FK26>=Rg, c_EXISOSI+bsel*($FK26),0)) -> 0.98 | FI26: =FO25 -> 5.5521997 | FJ26: =FN25 -> 1.1567395 | FK26: =FK25-dr -> 5.702 | FL26: =FI26-FJ26*_xlfn.COT(FD26) -> 4.8142468 | FM26: =(FK26-dr)^2-FL26^2*SIN(FD27)^2 -> 16.265332 | FN26: =(-FL26*COS(FD27)+SQRT(FM26))*SIN(FD27) -> 1.1331367 | FO26: =FI26+_xlfn.COT(FD27)*(FN26-FJ26) -> 5.5364596 | GP26: 1/(Kb) | GQ26: =1/(Kay*bsel) -> 661.69155 | GR26: =rarxiko*SIN(fia) -> 5.2569385 | GS26: =rarxiko*COS(fia) -> 2.6785439 | GV26: =GV25/(Kay*bsel) -> 665.69155 | GW26: =GW25/(Kay*bsel) -> 657.69155 | HA26: dtt | HB26: =0.00923 -> 0.00923 | HC26: =HD121 -> 5.0947932 | HE26: =fia -> 1.0995574 | HH26: for | HQ26: 0.5 | HR26: 5.9 | IC26: RC232^2-(R[-1]C[2]-R[-1]C[1]*COT(R[-1]C[8]))^2*SIN(R[-1]C[8])^2
A27: =A26+dtl -> 1.36 | B27: {=XtoYt($A27,Al,Vl,B$8)} -> 0.18010139 | C27: {=YtoyX(B27,Al,Vl,B$8)} -> -4.1249222 | D27: =D26+F$4 -> 0.014911196 | E27: =2*EXP(Vl*(D27-LN(F$8)/Vl))/(1+EXP(2*Vl*(D27-LN(F$8)/Vl))) -> 0.99842643 | F27: =IF(F$6<0,-1/(Vl*E$5)*(SIGN(SIN(F$8))*SQRT(1-E27^2)-COS(E$8)),IF(D27<F$6,-1/(Vl*E$5)*(SIGN(SIN(F$8))*SQRT(1-E27^2)-COS(E$8)),2*F$3+1/(Vl*E$5)*(SIGN(SIN(F$8))*SQRT(1-E27^2)-COS(E$8)))) -> 0.96223643 | G27: =Al*(SIGN(SIN(E$8))*SQRT(1-(Vl*SIN(E$8)*F27/Al-COS(E$8))^2)-SIN(E$8))/(Vl*SIN(E$8)) -> 0.057043648 | H27: =H26+J$4 -> 0.44360102 | I27: =2*EXP(Vl*(H27-LN(J$8)/Vl))/(1+EXP(2*Vl*(H27-LN(J$8)/Vl))) -> 0.91875505 | J27: =IF(H27<K$5,-1/(Vl*I$5)*(SIGN(SIN(J$8))*SQRT(1-I27^2)-COS(I$8)),2*J$3+1/(Vl*I$5)*(SIGN(SIN(J$8))*SQRT(1-I27^2)-COS(I$8))) -> 65.835807 | K27: =Al*(SIGN(SIN(I$8))*SQRT(1-(Vl*SIN(I$8)*J27/Al-COS(I$8))^2)-SIN(I$8))/(Vl*SIN(I$8)) -> 39.35882 | CO27: =CO26+dt -> -0.23 | CP27: =IF(OR(CP$5<90,CP$5>270),CO27+CP$8,CO27-CP$8) -> 0.023448678 | CQ27: =2*EXP(Vl*CP27)/(1+EXP(2*Vl*CP27)) -> 0.98265945 | CR27: =CR26+dt -> -0.23 | CS27: =IF(OR(CS$5<90,CS$5>270),CR27+CS$8,CR27-CS$8) -> -0.41830678 | CT27: =2*EXP(Vl*CS27)/(1+EXP(2*Vl*CS27)) -> 0.070330764 | CU27: =CU26+dt -> -0.23 | CV27: =IF(OR(CV$5<90,CV$5>270),CU27+CV$8,CU27-CV$8) -> -0.31160457 | CW27: =2*EXP(Vl*CV27)/(1+EXP(2*Vl*CV27)) -> 0.16422771 | CX27: =CX26+dt -> -0.23 | CY27: =IF(OR(CY$5<90,CY$5>270),CX27+CY$8,CX27-CY$8) -> -0.1198283 | CZ27: =2*EXP(Vl*CY27)/(1+EXP(2*Vl*CY27)) -> 0.66855406 | DA27: =DA26+dt -> -0.23 | DB27: =IF(OR(DB$5<90,DB$5>270),DA27+DB$8,DA27-DB$8) -> 0.16141267 | DC27: =2*EXP(Vl*DB27)/(1+EXP(2*Vl*DB27)) -> 0.51119127 | DD27: =DD26+10 -> 35 | DE27: =RADIANS(DD27) -> 0.61086524 | DF27: =Al/Vl*_xlfn.COT(DE27/2) -> 13.082829 | DG27: =-Al/Vl -> -4.125 | DH27: =Al/Vl*_xlfn.COT($DE27) -> 5.8911105 | DI27: =Al/Vl*(SIGN(SIN($DE27))*1/SIN($DE27)-1) -> 3.066718 | DL27: =DL26+10 -> 235 | DM27: =RADIANS(DL27) -> 4.1015237 | DN27: =ABS(_xlfn.COT(DM27/2)) -> 0.52056705 | DO27: =LN(DN27)*Vl -> -5.2226926 | DP27: =Al/Vl*_xlfn.COT(DM27) -> 2.8883561 | DQ27: =Al/Vl*(1/ABS(SIN(DM27))-1) -> 0.91069518 | EC27: =EC26-dr -> 5.604 | EE27: =IF(EC27>rarxiko,1,IF(EC27>Rg,1-dc*(rarxiko-EC27)/hatm,0)) -> 34.217778 | EF27: =IF(EC27>Rg,1/EE27,0) -> 0.029224575 | EM27: Dim aLFa1 As Double | EQ27: =natm -> 1.1 | EW27: =EW26+PI()/100 -> 0.37699112 | EX27: =Rg*COS(EW27) -> 4.6488824 | EY27: =Rg*SIN(EW27) -> 1.8406228 | EZ27: =rarxiko*COS(EY27) -> -1.5727285 | FA27: =rarxiko*SIN(EY27) -> 5.6865213 | FB27: {=xsel+Rs*COS(EW27)} -> 268.46418 | FC27: =ysel+Rs*SIN(EW27) -> 136.65731 | FD27: =FD26-FF26+FG26 -> 0.98265014 | FE27: =ATAN(FN26/FO26) -> 0.20188007 | FF27: =FD27-FE27 -> 0.78077006 | FG27: =ASIN(SIN(FF27)*FH27) -> 0.75937797 | FH27: =IF($FK27>=rarxiko,1,IF($FK27>=Rg, c_EXISOSI+bsel*($FK27),0)) -> 0.97818182 | FI27: =FO26 -> 5.5364596 | FJ27: =FN26 -> 1.1331367 | FK27: =FK26-dr -> 5.684 | FL27: =FI27-FJ27*_xlfn.COT(FD27) -> 4.7808001 | FM27: =(FK27-dr)^2-FL27^2*SIN(FD28)^2 -> 16.73843 | FN27: =(-FL27*COS(FD28)+SQRT(FM27))*SIN(FD28) -> 1.1104135 | FO27: =FI27+_xlfn.COT(FD28)*(FN27-FJ27) -> 5.5205935 | GB27: =IF(1-Kay*c_EXISOSI^2/(4*bsel)>0,1+Kay*c_EXISOSI^2/(4*bsel),1-Kay*c_EXISOSI^2/(4*bsel)) -> 1.0060451 | GC27: =IF(1-Kay*c_EXISOSI^2/(4*bsel)>0,1-Kay*c_EXISOSI^2/(4*bsel),1+Kay*c_EXISOSI^2/(4*bsel)) -> 0.99395489 | GD27: =GC27-GB27 -> -0.012090225 | GE27: =GD27-GB27 -> -1.0181353 | GF27: =GE27/(Kay*bsel) -> -673.69155 | GH27: mm | GI27: =aell^2/(aell^2+bell^2) -> 0.49697744 | GJ27: case | GL27: mmm | GM27: =bell^2/(aell^2+bell^2) -> 0.50302256 | GN27: =SQRT(aell2+bell2) -> 36.378333 | GO27: parmpros | GR27: =alfagon -> 1.1145196 | GU27: 1stint | GW27: 2ndint | HD27: rsh | HV27: =bsel -> 0.1010101 | HX27: incid22 | HY27: =IA30 -> 0.86448647
A28: =A27+dtl -> 1.44 | B28: {=XtoYt($A28,Al,Vl,B$8)} -> 0.18010139 | C28: {=YtoyX(B28,Al,Vl,B$8)} -> -4.124959 | D28: =D27+F$4 -> 0.015788325 | E28: =2*EXP(Vl*(D28-LN(F$8)/Vl))/(1+EXP(2*Vl*(D28-LN(F$8)/Vl))) -> 0.99879486 | F28: =IF(F$6<0,-1/(Vl*E$5)*(SIGN(SIN(F$8))*SQRT(1-E28^2)-COS(E$8)),IF(D28<F$6,-1/(Vl*E$5)*(SIGN(SIN(F$8))*SQRT(1-E28^2)-COS(E$8)),2*F$3+1/(Vl*E$5)*(SIGN(SIN(F$8))*SQRT(1-E28^2)-COS(E$8)))) -> 0.93292601 | G28: =Al*(SIGN(SIN(E$8))*SQRT(1-(Vl*SIN(E$8)*F28/Al-COS(E$8))^2)-SIN(E$8))/(Vl*SIN(E$8)) -> 0.058586891 | H28: =H27+J$4 -> 0.4696952 | I28: =2*EXP(Vl*(H28-LN(J$8)/Vl))/(1+EXP(2*Vl*(H28-LN(J$8)/Vl))) -> 0.83153541 | J28: =IF(H28<K$5,-1/(Vl*I$5)*(SIGN(SIN(J$8))*SQRT(1-I28^2)-COS(I$8)),2*J$3+1/(Vl*I$5)*(SIGN(SIN(J$8))*SQRT(1-I28^2)-COS(I$8))) -> 73.438925 | K28: =Al*(SIGN(SIN(I$8))*SQRT(1-(Vl*SIN(I$8)*J28/Al-COS(I$8))^2)-SIN(I$8))/(Vl*SIN(I$8)) -> 35.230795 | CO28: =CO27+dt -> -0.22 | CP28: =IF(OR(CP$5<90,CP$5>270),CO28+CP$8,CO28-CP$8) -> 0.033448678 | CQ28: =2*EXP(Vl*CP28)/(1+EXP(2*Vl*CP28)) -> 0.96523588 | CR28: =CR27+dt -> -0.22 | CS28: =IF(OR(CS$5<90,CS$5>270),CR28+CS$8,CR28-CS$8) -> -0.40830678 | CT28: =2*EXP(Vl*CS28)/(1+EXP(2*Vl*CS28)) -> 0.076172043 | CU28: =CU27+dt -> -0.22 | CV28: =IF(OR(CV$5<90,CV$5>270),CU28+CV$8,CU28-CV$8) -> -0.30160457 | CW28: =2*EXP(Vl*CV28)/(1+EXP(2*Vl*CV28)) -> 0.17769644 | CX28: =CX27+dt -> -0.22 | CY28: =IF(OR(CY$5<90,CY$5>270),CX28+CY$8,CX28-CY$8) -> -0.1098283 | CZ28: =2*EXP(Vl*CY28)/(1+EXP(2*Vl*CY28)) -> 0.70848036 | DA28: =DA27+dt -> -0.22 | DB28: =IF(OR(DB$5<90,DB$5>270),DA28+DB$8,DA28-DB$8) -> 0.17141267 | DC28: =2*EXP(Vl*DB28)/(1+EXP(2*Vl*DB28)) -> 0.4768431 | DD28: =DD27+10 -> 45 | DE28: =RADIANS(DD28) -> 0.78539816 | DF28: =Al/Vl*_xlfn.COT(DE28/2) -> 9.9586309 | DG28: =-Al/Vl -> -4.125 | DH28: =Al/Vl*_xlfn.COT($DE28) -> 4.125 | DI28: =Al/Vl*(SIGN(SIN($DE28))*1/SIN($DE28)-1) -> 1.7086309 | DL28: =DL27+10 -> 245 | DM28: =RADIANS(DL28) -> 4.2760567 | DN28: =ABS(_xlfn.COT(DM28/2)) -> 0.63707026 | DO28: =LN(DN28)*Vl -> -3.6070026 | DP28: =Al/Vl*_xlfn.COT(DM28) -> 1.9235191 | DQ28: =Al/Vl*(1/ABS(SIN(DM28))-1) -> 0.42643392 | DU28: =theta -> 1.1145196 | EC28: =EC27-dr -> 5.586 | EE28: =IF(EC28>rarxiko,1,IF(EC28>Rg,1-dc*(rarxiko-EC28)/hatm,0)) -> 36.237778 | EF28: =IF(EC28>Rg,1/EE28,0) -> 0.027595511 | EM28: Dim AyX As Double | EW28: =EW27+PI()/100 -> 0.40840704 | EX28: =Rg*COS(EW28) -> 4.5887731 | EY28: =Rg*SIN(EW28) -> 1.9857395 | EZ28: =rarxiko*COS(EY28) -> -2.3785135 | FA28: =rarxiko*SIN(EY28) -> 5.3993216 | FB28: {=xsel+Rs*COS(EW28)} -> 268.44915 | FC28: =ysel+Rs*SIN(EW28) -> 136.69358 | FD28: =FD27-FF27+FG27 -> 0.96125804 | FE28: =ATAN(FN27/FO27) -> 0.1984917 | FF28: =FD28-FE28 -> 0.76276634 | FG28: =ASIN(SIN(FF28)*FH28) -> 0.74041324 | FH28: =IF($FK28>=rarxiko,1,IF($FK28>=Rg, c_EXISOSI+bsel*($FK28),0)) -> 0.97636364 | FI28: =FO27 -> 5.5205935 | FJ28: =FN27 -> 1.1104135 | FK28: =FK27-dr -> 5.666 | FL28: =FI28-FJ28*_xlfn.COT(FD28) -> 4.7452675 | FM28: =(FK28-dr)^2-FL28^2*SIN(FD29)^2 -> 17.23857 | FN28: =(-FL28*COS(FD29)+SQRT(FM28))*SIN(FD29) -> 1.0885555 | FO28: =FI28+_xlfn.COT(FD29)*(FN28-FJ28) -> 5.5045931 | GA28: bell2 | GB28: =GB27/(Kay*bsel) -> 665.69155 | GC28: =GC27/(Kay*bsel) -> 657.69155 | GD28: aell2 | GF28: =Rg+hatm -> 5.9 | GH28: =c_EXISOSI+2*bsel*a_exisosi -> 0 | GK28: =aell^2 -> 657.69155 | GS28: =2*AA*$GF28+BB -> -0.00015030781 | GT28: =SQRT(BB^2-4*AA*CC) -> 0.0030250174 | GU28: =Kay*bsel/SQRT(-AA)*ASIN((2*AA*$GF28+BB)/GT28) -> -0.049708715 | GV28: =1/GF28 -> 0.16949153 | GW28: =Kay*c_EXISOSI/SQRT(CC)*LN(ABS(2*SQRT(CC)*SQRT(AA+BB*GV28+CC*GV28^2)+2*CC*GV28+BB)) -> -0.002352066 | GX28: =_2ndint+_1stint -> -0.052060781 | HC28: 0 | HD28: =(1/(Kay*COSH(bsel*HC28))-Kay*c_EXISOSI)/bsel/Kay -> 44221.829 | HE28: =COSH(bsel*HC28) -> 1 | HR28: =
A29: =A28+dtl -> 1.52 | B29: {=XtoYt($A29,Al,Vl,B$8)} -> 0.18010139 | C29: {=YtoyX(B29,Al,Vl,B$8)} -> -4.1249784 | D29: =D28+F$4 -> 0.016665454 | E29: =2*EXP(Vl*(D29-LN(F$8)/Vl))/(1+EXP(2*Vl*(D29-LN(F$8)/Vl))) -> 0.99911436 | F29: =IF(F$6<0,-1/(Vl*E$5)*(SIGN(SIN(F$8))*SQRT(1-E29^2)-COS(E$8)),IF(D29<F$6,-1/(Vl*E$5)*(SIGN(SIN(F$8))*SQRT(1-E29^2)-COS(E$8)),2*F$3+1/(Vl*E$5)*(SIGN(SIN(F$8))*SQRT(1-E29^2)-COS(E$8)))) -> 0.90359541 | G29: =Al*(SIGN(SIN(E$8))*SQRT(1-(Vl*SIN(E$8)*F29/Al-COS(E$8))^2)-SIN(E$8))/(Vl*SIN(E$8)) -> 0.059925137 | H29: =H28+J$4 -> 0.49578938 | I29: =2*EXP(Vl*(H29-LN(J$8)/Vl))/(1+EXP(2*Vl*(H29-LN(J$8)/Vl))) -> 0.73026972 | J29: =IF(H29<K$5,-1/(Vl*I$5)*(SIGN(SIN(J$8))*SQRT(1-I29^2)-COS(I$8)),2*J$3+1/(Vl*I$5)*(SIGN(SIN(J$8))*SQRT(1-I29^2)-COS(I$8))) -> 79.482241 | K29: =Al*(SIGN(SIN(I$8))*SQRT(1-(Vl*SIN(I$8)*J29/Al-COS(I$8))^2)-SIN(I$8))/(Vl*SIN(I$8)) -> 30.437984 | CO29: =CO28+dt -> -0.21 | CP29: =IF(OR(CP$5<90,CP$5>270),CO29+CP$8,CO29-CP$8) -> 0.043448678 | CQ29: =2*EXP(Vl*CP29)/(1+EXP(2*Vl*CP29)) -> 0.94248942 | CR29: =CR28+dt -> -0.21 | CS29: =IF(OR(CS$5<90,CS$5>270),CR29+CS$8,CR29-CS$8) -> -0.39830678 | CT29: =2*EXP(Vl*CS29)/(1+EXP(2*Vl*CS29)) -> 0.082495396 | CU29: =CU28+dt -> -0.21 | CV29: =IF(OR(CV$5<90,CV$5>270),CU29+CV$8,CU29-CV$8) -> -0.29160457 | CW29: =2*EXP(Vl*CV29)/(1+EXP(2*Vl*CV29)) -> 0.19223085 | CX29: =CX28+dt -> -0.21 | CY29: =IF(OR(CY$5<90,CY$5>270),CX29+CY$8,CX29-CY$8) -> -0.099828302 | CZ29: =2*EXP(Vl*CY29)/(1+EXP(2*Vl*CY29)) -> 0.74838182 | DA29: =DA28+dt -> -0.21 | DB29: =IF(OR(DB$5<90,DB$5>270),DA29+DB$8,DA29-DB$8) -> 0.18141267 | DC29: =2*EXP(Vl*DB29)/(1+EXP(2*Vl*DB29)) -> 0.44415514 | DD29: =DD28+10 -> 55 | DE29: =RADIANS(DD29) -> 0.95993109 | DF29: =Al/Vl*_xlfn.COT(DE29/2) -> 7.9240513 | DG29: =-Al/Vl -> -4.125 | DH29: =Al/Vl*_xlfn.COT($DE29) -> 2.8883561 | DI29: =Al/Vl*(SIGN(SIN($DE29))*1/SIN($DE29)-1) -> 0.91069518 | DL29: =DL28+10 -> 255 | DM29: =RADIANS(DL29) -> 4.4505896 | DN29: =ABS(_xlfn.COT(DM29/2)) -> 0.76732699 | DO29: =LN(DN29)*Vl -> -2.118738 | DP29: =Al/Vl*_xlfn.COT(DM29) -> 1.1052904 | DQ29: =Al/Vl*(1/ABS(SIN(DM29))-1) -> 0.14551424 | DT29: {=xathesi(theta)} -> #NAME? | DU29: {=yathesi(theta)} -> #NAME? | DV29: =yathesi1 -> 135.07272 | DW29: goniafeg | EC29: =EC28-dr -> 5.568 | EE29: =IF(EC29>rarxiko,1,IF(EC29>Rg,1-dc*(rarxiko-EC29)/hatm,0)) -> 38.257778 | EF29: =IF(EC29>Rg,1/EE29,0) -> 0.026138476 | EM29: If r >= RG Then | EW29: =EW28+PI()/100 -> 0.43982297 | EX29: =Rg*COS(EW29) -> 4.5241353 | EY29: =Rg*SIN(EW29) -> 2.1288965 | EZ29: =rarxiko*COS(EY29) -> -3.1244958 | FA29: =rarxiko*SIN(EY29) -> 5.0047503 | FB29: {=xsel+Rs*COS(EW29)} -> 268.43299 | FC29: =ysel+Rs*SIN(EW29) -> 136.72937 | FD29: =FD28-FF28+FG28 -> 0.93890494 | FE29: =ATAN(FN28/FO28) -> 0.19523505 | FF29: =FD29-FE29 -> 0.7436699 | FG29: =ASIN(SIN(FF29)*FH29) -> 0.72050055 | FH29: =IF($FK29>=rarxiko,1,IF($FK29>=Rg, c_EXISOSI+bsel*($FK29),0)) -> 0.97454545 | FI29: =FO28 -> 5.5045931 | FJ29: =FN28 -> 1.0885555 | FK29: =FK28-dr -> 5.648 | FL29: =FI29-FJ29*_xlfn.COT(FD29) -> 4.7077535 | FM29: =(FK29-dr)^2-FL29^2*SIN(FD30)^2 -> 17.759371 | FN29: =(-FL29*COS(FD30)+SQRT(FM29))*SIN(FD30) -> 1.0675422 | FO29: =FI29+_xlfn.COT(FD30)*(FN29-FJ29) -> 5.4884503 | GA29: bell2 | GB29: =SQRT(GB28) -> 25.800999 | GC29: =SQRT(GC28) -> 25.645498 | GD29: aell | GF29: r | GG29: z | GH29: c | GI29: sin^2φ | GJ29: φ | GL29: cosφ=x/b | GQ29: x | GR29: y | GU29: 1st integral | GV29: t=1/r | GY29: x | GZ29: y | HB29: C+rv | HC29: time | HD29: r | HN29: xxx | HO29: yyy | HV29: c | HW29: t | HX29: r | IA29: incident | IG29: φ | IH29: SINDIATH | II29: δ | IJ29: θ
A30: =A29+dtl -> 1.6 | B30: {=XtoYt($A30,Al,Vl,B$8)} -> 0.18010139 | C30: {=YtoyX(B30,Al,Vl,B$8)} -> -4.1249886 | D30: =D29+F$4 -> 0.017542583 | E30: =2*EXP(Vl*(D30-LN(F$8)/Vl))/(1+EXP(2*Vl*(D30-LN(F$8)/Vl))) -> 0.99938483 | F30: =IF(F$6<0,-1/(Vl*E$5)*(SIGN(SIN(F$8))*SQRT(1-E30^2)-COS(E$8)),IF(D30<F$6,-1/(Vl*E$5)*(SIGN(SIN(F$8))*SQRT(1-E30^2)-COS(E$8)),2*F$3+1/(Vl*E$5)*(SIGN(SIN(F$8))*SQRT(1-E30^2)-COS(E$8)))) -> 0.87424747 | G30: =Al*(SIGN(SIN(E$8))*SQRT(1-(Vl*SIN(E$8)*F30/Al-COS(E$8))^2)-SIN(E$8))/(Vl*SIN(E$8)) -> 0.061058056 | H30: =H29+J$4 -> 0.52188356 | I30: =2*EXP(Vl*(H30-LN(J$8)/Vl))/(1+EXP(2*Vl*(H30-LN(J$8)/Vl))) -> 0.62656234 | J30: =IF(H30<K$5,-1/(Vl*I$5)*(SIGN(SIN(J$8))*SQRT(1-I30^2)-COS(I$8)),2*J$3+1/(Vl*I$5)*(SIGN(SIN(J$8))*SQRT(1-I30^2)-COS(I$8))) -> 84.035883 | K30: =Al*(SIGN(SIN(I$8))*SQRT(1-(Vl*SIN(I$8)*J30/Al-COS(I$8))^2)-SIN(I$8))/(Vl*SIN(I$8)) -> 25.529611 | CO30: =CO29+dt -> -0.2 | CP30: =IF(OR(CP$5<90,CP$5>270),CO30+CP$8,CO30-CP$8) -> 0.053448678 | CQ30: =2*EXP(Vl*CP30)/(1+EXP(2*Vl*CP30)) -> 0.91506571 | CR30: =CR29+dt -> -0.2 | CS30: =IF(OR(CS$5<90,CS$5>270),CR30+CS$8,CR30-CS$8) -> -0.38830678 | CT30: =2*EXP(Vl*CS30)/(1+EXP(2*Vl*CS30)) -> 0.089339777 | CU30: =CU29+dt -> -0.2 | CV30: =IF(OR(CV$5<90,CV$5>270),CU30+CV$8,CU30-CV$8) -> -0.28160457 | CW30: =2*EXP(Vl*CV30)/(1+EXP(2*Vl*CV30)) -> 0.2079048 | CX30: =CX29+dt -> -0.2 | CY30: =IF(OR(CY$5<90,CY$5>270),CX30+CY$8,CX30-CY$8) -> -0.089828302 | CZ30: =2*EXP(Vl*CY30)/(1+EXP(2*Vl*CY30)) -> 0.78770099 | DA30: =DA29+dt -> -0.2 | DB30: =IF(OR(DB$5<90,DB$5>270),DA30+DB$8,DA30-DB$8) -> 0.19141267 | DC30: =2*EXP(Vl*DB30)/(1+EXP(2*Vl*DB30)) -> 0.41318519 | DD30: =DD29+10 -> 65 | DE30: =RADIANS(DD30) -> 1.134464 | DF30: =Al/Vl*_xlfn.COT(DE30/2) -> 6.474953 | DG30: =-Al/Vl -> -4.125 | DH30: =Al/Vl*_xlfn.COT($DE30) -> 1.9235191 | DI30: =Al/Vl*(SIGN(SIN($DE30))*1/SIN($DE30)-1) -> 0.42643392 | DL30: =DL29+10 -> 265 | DM30: =RADIANS(DL30) -> 4.6251225 | DN30: =ABS(_xlfn.COT(DM30/2)) -> 0.91633117 | DO30: =LN(DN30)*Vl -> -0.69901949 | DP30: =Al/Vl*_xlfn.COT(DM30) -> 0.36089074 | DQ30: =Al/Vl*(1/ABS(SIN(DM30))-1) -> 0.01575683 | DT30: {=xbthesi(theta)} -> #NAME? | DU30: {=yBthesi(theta)} -> #NAME? | DV30: =ybthesi1 -> 137.31695 | EC30: =EC29-dr -> 5.55 | EE30: =IF(EC30>rarxiko,1,IF(EC30>Rg,1-dc*(rarxiko-EC30)/hatm,0)) -> 40.277778 | EF30: =IF(EC30>Rg,1/EE30,0) -> 0.024827586 | EO30: unction batHMiaia(fia, alfa, r, dr) As xyaf | EW30: =EW29+PI()/100 -> 0.4712389 | EX30: =Rg*COS(EW30) -> 4.4550326 | EY30: =Rg*SIN(EW30) -> 2.2699525 | EZ30: =rarxiko*COS(EY30) -> -3.7970752 | FA30: =rarxiko*SIN(EY30) -> 4.5157746 | FB30: {=xsel+Rs*COS(EW30)} -> 268.41572 | FC30: =ysel+Rs*SIN(EW30) -> 136.76464 | FD30: =FD29-FF29+FG29 -> 0.9157356 | FE30: =ATAN(FN29/FO29) -> 0.19210833 | FF30: =FD30-FE30 -> 0.72362726 | FG30: =ASIN(SIN(FF30)*FH30) -> 0.69978059 | FH30: =IF($FK30>=rarxiko,1,IF($FK30>=Rg, c_EXISOSI+bsel*($FK30),0)) -> 0.97272727 | FI30: =FO29 -> 5.4884503 | FJ30: =FN29 -> 1.0675422 | FK30: =FK29-dr -> 5.63 | FL30: =FI30-FJ30*_xlfn.COT(FD30) -> 4.6683423 | FM30: =(FK30-dr)^2-FL30^2*SIN(FD31)^2 -> 18.294542 | FN30: =(-FL30*COS(FD31)+SQRT(FM30))*SIN(FD31) -> 1.0473492 | FO30: =FI30+_xlfn.COT(FD31)*(FN30-FJ30) -> 5.4721575 | GB30: bell | GC30: aell | GE30: =hatm/50 -> 0.018 | GF30: =Rg+hatm -> 5.9 | GG30: =GF30-a_exisosi -> 7.9 | GH30: =c_EXISOSI+bsel*GF30 -> 1 | GI30: =GG30^2*(aell2+bell2)/(bell2*(aell2+GG30^2)) -> 0.17229512 | GJ30: =ASIN(SQRT(GI30)) -> 0.42803565 | GK30: {=(-ftoue(GJ30,mmm)-ellearx)/parbros/(Kay*bsel)*c_EXISOSI/2} -> #NAME? | GL30: =ACOS($GG30/bell) -> 1.2596084 | GM30: {=ftoue(GL30,mmm)-ellearx} -> #NAME? | GN30: =GM30/parbros/(Kay*bsel)*c_EXISOSI/2 -> #NAME? | GO30: =1/Kay*(-ATAN(SQRT((aell2+$GG30^2)/(bell2-$GG30^2)))-aploarx) -> 0 | GP30: =fisosti-1/(Kay*bsel)*(SQRT(1-Kay^2*(c_EXISOSI+bsel*GF30)^2)-SQRT(1-Kay^2*(c_EXISOSI+bsel*rarxiko)^2)) -> 0.25003317 | GQ30: =GF30*SIN(GP30) -> 1.459873 | GR30: =GF30*COS(GP30) -> 5.7165349 | GS30: =2*AA*$GF30+BB -> -0.00015030781 | GT30: =SQRT(BB^2-4*AA*CC) -> 0.0030250174 | GU30: =Kay*bsel/SQRT(-AA)*ASIN((2*AA*$GF30+BB)/GT30)-_1stint -> 0 | GV30: =1/GF30 -> 0.16949153 | GW30: =Kay*c_EXISOSI/SQRT(CC)*LN(ABS(2*SQRT(CC)*SQRT(AA+BB*GV30+CC*GV30^2)+2*CC*GV30+BB))-_2ndint -> 0 | GX30: =fisosti-(GU30+GW30) -> 0.25003317 | GY30: =$GF30*SIN(GX30) -> 1.459873 | GZ30: =$GF30*COS(GX30) -> 5.7165349 | HB30: =2*(1-COS(incid1))*EXP(bsel*$HC30)/((1-COS(incid1))^2*EXP(2*bsel*$HC30)+Kay^2 ) -> 1 | HC30: 0 | HD30: =(HB30-c_EXISOSI)/bsel -> 5.9 | HL30: =$HB30*COS(HJ30) -> 1 | HM30: =fisosti -> 0.25003317 | HN30: =$HD30*SIN(HM30) -> 1.459873 | HO30: =$HD30*SIN(HN30) -> 5.8637404 | HS30: =fia -> 1.0995574 | HT30: =$HD30*COS($HS30) -> 2.6785439 | HU30: =$HD30*SIN($HS30) -> 5.2569385 | HV30: =2*(1-COS(incid22))*EXP(-bsel*$HW30)/((1-COS(incid22))^2*EXP(-2*bsel*$HW30)+kay2_^2 ) -> 1 | HW30: 0 | HX30: =(HV30-c_EXISOSI)/bsel -> 5.9 | HY30: =alfagon -> 1.1145196 | HZ30: =fia -> 1.0995574 | IA30: =IK30-IG30 -> 0.86448647 | IB30: =rarxiko^2-Rg^2*SIN(alfagon)^2 -> 14.663402 | IC30: =(-Rg*COS(alfagon)+SQRT(IB30))*SIN(alfagon) -> 1.459873 | ID30: =Rg+_xlfn.COT(alfagon)*IE30 -> 5.7165349 | IE30: =(-Rg*COS(alfagon)+SQRT(IF30^2-Rg^2*SIN(alfagon)^2))*SIN(alfagon) -> 1.459873 | IF30: =rarxiko -> 5.9 | IG30: =ATAN(IC30/ID30) -> 0.25003317 | IH30: =SIN(IA30)*(c_EXISOSI+bsel*($HX31))/(c_EXISOSI+bsel*$HX30) -> 0.76030167 | II30: =ASIN(IH30) -> 0.86377741 | IJ30: =IG30+II30 -> 1.1138106 | IK30: =ATAN(IC30/(ID30-Rg)) -> 1.1145196 | IL30: =c_EXISOSI+bsel*$FC30 -> 14.21865
A31: =A30+dtl -> 1.68 | B31: {=XtoYt($A31,Al,Vl,B$8)} -> 0.18010139 | C31: {=YtoyX(B31,Al,Vl,B$8)} -> -4.124994 | D31: =D30+F$4 -> 0.018419712 | E31: =2*EXP(Vl*(D31-LN(F$8)/Vl))/(1+EXP(2*Vl*(D31-LN(F$8)/Vl))) -> 0.99960622 | F31: =IF(F$6<0,-1/(Vl*E$5)*(SIGN(SIN(F$8))*SQRT(1-E31^2)-COS(E$8)),IF(D31<F$6,-1/(Vl*E$5)*(SIGN(SIN(F$8))*SQRT(1-E31^2)-COS(E$8)),2*F$3+1/(Vl*E$5)*(SIGN(SIN(F$8))*SQRT(1-E31^2)-COS(E$8)))) -> 0.84488509 | G31: =Al*(SIGN(SIN(E$8))*SQRT(1-(Vl*SIN(E$8)*F31/Al-COS(E$8))^2)-SIN(E$8))/(Vl*SIN(E$8)) -> 0.06198537 | H31: =H30+J$4 -> 0.54797773 | I31: =2*EXP(Vl*(H31-LN(J$8)/Vl))/(1+EXP(2*Vl*(H31-LN(J$8)/Vl))) -> 0.52841064 | J31: =IF(H31<K$5,-1/(Vl*I$5)*(SIGN(SIN(J$8))*SQRT(1-I31^2)-COS(I$8)),2*J$3+1/(Vl*I$5)*(SIGN(SIN(J$8))*SQRT(1-I31^2)-COS(I$8))) -> 87.33082 | K31: =Al*(SIGN(SIN(I$8))*SQRT(1-(Vl*SIN(I$8)*J31/Al-COS(I$8))^2)-SIN(I$8))/(Vl*SIN(I$8)) -> 20.884183 | CO31: =CO30+dt -> -0.19 | CP31: =IF(OR(CP$5<90,CP$5>270),CO31+CP$8,CO31-CP$8) -> 0.063448678 | CQ31: =2*EXP(Vl*CP31)/(1+EXP(2*Vl*CP31)) -> 0.88369411 | CR31: =CR30+dt -> -0.19 | CS31: =IF(OR(CS$5<90,CS$5>270),CR31+CS$8,CR31-CS$8) -> -0.37830678 | CT31: =2*EXP(Vl*CS31)/(1+EXP(2*Vl*CS31)) -> 0.096747062 | CU31: =CU30+dt -> -0.19 | CV31: =IF(OR(CV$5<90,CV$5>270),CU31+CV$8,CU31-CV$8) -> -0.27160457 | CW31: =2*EXP(Vl*CV31)/(1+EXP(2*Vl*CV31)) -> 0.22479444 | CX31: =CX30+dt -> -0.19 | CY31: =IF(OR(CY$5<90,CY$5>270),CX31+CY$8,CX31-CY$8) -> -0.079828302 | CZ31: =2*EXP(Vl*CY31)/(1+EXP(2*Vl*CY31)) -> 0.82579967 | DA31: =DA30+dt -> -0.19 | DB31: =IF(OR(DB$5<90,DB$5>270),DA31+DB$8,DA31-DB$8) -> 0.20141267 | DC31: =2*EXP(Vl*DB31)/(1+EXP(2*Vl*DB31)) -> 0.38395429 | DD31: =DD30+10 -> 75 | DE31: =RADIANS(DD31) -> 1.3089969 | DF31: =Al/Vl*_xlfn.COT(DE31/2) -> 5.3758047 | DG31: =-Al/Vl -> -4.125 | DH31: =Al/Vl*_xlfn.COT($DE31) -> 1.1052904 | DI31: =Al/Vl*(SIGN(SIN($DE31))*1/SIN($DE31)-1) -> 0.14551424 | DL31: =DL30+10 -> 275 | DM31: =RADIANS(DL31) -> 4.7996554 | DN31: =ABS(_xlfn.COT(DM31/2)) -> 1.0913085 | DO31: =LN(DN31)*Vl -> 0.69901949 | DP31: =Al/Vl*_xlfn.COT(DM31) -> -0.36089074 | DQ31: =Al/Vl*(1/ABS(SIN(DM31))-1) -> 0.01575683 | EC31: =EC30-dr -> 5.532 | EE31: =IF(EC31>rarxiko,1,IF(EC31>Rg,1-dc*(rarxiko-EC31)/hatm,0)) -> 42.297778 | EF31: =IF(EC31>Rg,1/EE31,0) -> 0.023641904 | EO31: 'fia η γωνία που κάνει η ακτίνα r από το κέντρο της γης στο σημείο πρόσπτωσης με τον πολικό άξονα | EW31: =EW30+PI()/100 -> 0.50265482 | EX31: =Rg*COS(EW31) -> 4.3815334 | EY31: =Rg*SIN(EW31) -> 2.4087684 | EZ31: =rarxiko*COS(EY31) -> -4.3853992 | FA31: =rarxiko*SIN(EY31) -> 3.9469322 | FB31: {=xsel+Rs*COS(EW31)} -> 268.39734 | FC31: =ysel+Rs*SIN(EW31) -> 136.79934 | FD31: =FD30-FF30+FG30 -> 0.89188892 | FE31: =ATAN(FN30/FO30) -> 0.18910899 | FF31: =FD31-FE31 -> 0.70277993 | FG31: =ASIN(SIN(FF31)*FH31) -> 0.67838798 | FH31: =IF($FK31>=rarxiko,1,IF($FK31>=Rg, c_EXISOSI+bsel*($FK31),0)) -> 0.97090909 | FI31: =FO30 -> 5.4721575 | FJ31: =FN30 -> 1.0473492 | FK31: =FK30-dr -> 5.612 | FL31: =FI31-FJ31*_xlfn.COT(FD31) -> 4.6270976 | FM31: =(FK31-dr)^2-FL31^2*SIN(FD32)^2 -> 18.83797 | FN31: =(-FL31*COS(FD32)+SQRT(FM31))*SIN(FD32) -> 1.0279494 | FO31: =FI31+_xlfn.COT(FD32)*(FN31-FJ31) -> 5.4557075 | GF31: =GF30-hatm/50 -> 5.882 | GG31: =GF31-a_exisosi -> 7.882 | GH31: =c_EXISOSI+bsel*GF31 -> 0.99818182 | GI31: =GG31^2*(aell2+bell2)/(bell2*(aell2+GG31^2)) -> 0.17157856 | GJ31: =ASIN(SQRT(GI31)) -> 0.42708612 | GK31: {=(-ftoue(GJ31,mmm)-ellearx)/parbros/(Kay*bsel)*c_EXISOSI/2} -> #NAME? | GL31: =ACOS($GG31/bell) -> 1.2603412 | GM31: {=ftoue(GL31,mmm)-ellearx} -> #NAME? | GN31: =GM31/parbros/(Kay*bsel)*c_EXISOSI/2 -> #NAME? | GO31: =fia*2/(Kay*bsel)*(SQRT(1-Kay^2*(c_EXISOSI+bsel*GE31)^2)-SQRT(1-Kay^2*(c_EXISOSI+bsel*rarxiko)^2)) -> 0.13628794 | GP31: =fisosti-1/(Kay*bsel)*(SQRT(1-Kay^2*(c_EXISOSI+bsel*GF31)^2)-SQRT(1-Kay^2*(c_EXISOSI+bsel*rarxiko)^2)) -> 0.24976407 | GQ31: =GF31*SIN(GP31) -> 1.4538855 | GR31: =GF31*COS(GP31) -> 5.699486 | GS31: =2*AA*$GF31+BB -> -0.00015022559 | GT31: =SQRT(BB^2-4*AA*CC) -> 0.0030250174 | GU31: =Kay*bsel/SQRT(-AA)*ASIN((2*AA*$GF31+BB)/GT31)-_1stint -> 2.7214474e-05 | GV31: =1/GF31 -> 0.1700102 | GW31: =Kay*c_EXISOSI/SQRT(CC)*LN(ABS(2*SQRT(CC)*SQRT(AA+BB*GV31+CC*GV31^2)+2*CC*GV31+BB))-_2ndint -> 1.8478693e-05 | GX31: =fisosti-(GU31+GW31) -> 0.24998748 | GY31: =$GF31*SIN(GX31) -> 1.4551587 | GZ31: =$GF31*COS(GX31) -> 5.6991611 | HB31: =2*(1-COS(incid1))*EXP(-bsel*$HC31)/((1-COS(incid1))^2*EXP(-2*bsel*$HC31)+Kay^2 ) -> 0.99906822 | HC31: =HC30+dtt -> 0.00923 | HD31: =(HB31-c_EXISOSI)/bsel -> 5.8907753 | HE31: =HD30-HD31 -> 0.0092246675 | HF31: =HE31/dtt -> 0.99942226 | HL31: =$HD31*COS(HJ31) -> 5.8907753 | HM31: =HM30-$HC31^2*dtt/$HD31/Kay -> 0.25002425 | HN31: =$HD31*SIN(HM31) -> 1.4575395 | HO31: =$HD31*SIN(HN31) -> 5.8530349 | HP31: {=thetar($HC31)} -> -55174.793 | HQ31: =1/COSH(bsel*$HC31)/Kay -> 66.837501 | HR31: =(c_EXISOSI+bsel*$HD31) -> 0.99906822 | HS31: =HS30-$HB31^2*dtt/($HD31*Kay) -> 0.99502768 | HT31: =$HD31*COS($HS31) -> 3.2074074 | HU31: =$HD31*SIN($HS31) -> 4.9410294 | HV31: =2*(1-COS(incid22))*EXP(-bsel*$HW31)/((1-COS(incid22))^2*EXP(-2*bsel*$HW31)+kay2_^2 ) -> 0.99939483 | HW31: =HW30+dtt -> 0.00923 | HX31: =(HV31-c_EXISOSI)/bsel -> 5.8940088 | IA31: =IJ30-IG31 -> 0.86496802 | IB31: =$HX31^2-(ID30-IC30*_xlfn.COT(IJ30))^2*SIN(IJ30)^2 -> 14.617118 | IC31: =(-(ID30-IC30*_xlfn.COT(IJ30))*COS(IJ30)+SQRT(IB31))*SIN(IJ30) -> 1.4515903 | ID31: =ID30+(_xlfn.COT(IJ30)*(IC31-IC30)) -> 5.7124623 | IE31: =$FC31^2-(ID30-IC30*_xlfn.COT(IJ30))^2*SIN(IJ30)^2 -> 18693.938 | IG31: =ATAN(IC31/ID31) -> 0.24884256 | IH31: =SIN(IA31)*(c_EXISOSI+bsel*($HX32))/(c_EXISOSI+bsel*$HX31) -> 0.76061355 | II31: =ASIN(IH31) -> 0.86425767 | IJ31: =II31+IG30 -> 1.1142908 | IL31: =c_EXISOSI+bsel*$FC31 -> 14.222156
A32: =A31+dtl -> 1.76 | B32: {=XtoYt($A32,Al,Vl,B$8)} -> 0.18010139 | C32: {=YtoyX(B32,Al,Vl,B$8)} -> -4.1249968 | D32: =D31+F$4 -> 0.019296841 | E32: =2*EXP(Vl*(D32-LN(F$8)/Vl))/(1+EXP(2*Vl*(D32-LN(F$8)/Vl))) -> 0.99977847 | F32: =IF(F$6<0,-1/(Vl*E$5)*(SIGN(SIN(F$8))*SQRT(1-E32^2)-COS(E$8)),IF(D32<F$6,-1/(Vl*E$5)*(SIGN(SIN(F$8))*SQRT(1-E32^2)-COS(E$8)),2*F$3+1/(Vl*E$5)*(SIGN(SIN(F$8))*SQRT(1-E32^2)-COS(E$8)))) -> 0.81551114 | G32: =Al*(SIGN(SIN(E$8))*SQRT(1-(Vl*SIN(E$8)*F32/Al-COS(E$8))^2)-SIN(E$8))/(Vl*SIN(E$8)) -> 0.062706851 | H32: =H31+J$4 -> 0.57407191 | I32: =2*EXP(Vl*(H32-LN(J$8)/Vl))/(1+EXP(2*Vl*(H32-LN(J$8)/Vl))) -> 0.44020001 | J32: =IF(H32<K$5,-1/(Vl*I$5)*(SIGN(SIN(J$8))*SQRT(1-I32^2)-COS(I$8)),2*J$3+1/(Vl*I$5)*(SIGN(SIN(J$8))*SQRT(1-I32^2)-COS(I$8))) -> 89.645723 | K32: =Al*(SIGN(SIN(I$8))*SQRT(1-(Vl*SIN(I$8)*J32/Al-COS(I$8))^2)-SIN(I$8))/(Vl*SIN(I$8)) -> 16.709256 | CO32: =CO31+dt -> -0.18 | CP32: =IF(OR(CP$5<90,CP$5>270),CO32+CP$8,CO32-CP$8) -> 0.073448678 | CQ32: =2*EXP(Vl*CP32)/(1+EXP(2*Vl*CP32)) -> 0.84914507 | CR32: =CR31+dt -> -0.18 | CS32: =IF(OR(CS$5<90,CS$5>270),CR32+CS$8,CR32-CS$8) -> -0.36830678 | CT32: =2*EXP(Vl*CS32)/(1+EXP(2*Vl*CS32)) -> 0.10476221 | CU32: =CU31+dt -> -0.18 | CV32: =IF(OR(CV$5<90,CV$5>270),CU32+CV$8,CU32-CV$8) -> -0.26160457 | CW32: =2*EXP(Vl*CV32)/(1+EXP(2*Vl*CV32)) -> 0.24297741 | CX32: =CX31+dt -> -0.18 | CY32: =IF(OR(CY$5<90,CY$5>270),CX32+CY$8,CX32-CY$8) -> -0.069828302 | CZ32: =2*EXP(Vl*CY32)/(1+EXP(2*Vl*CY32)) -> 0.86197101 | DA32: =DA31+dt -> -0.18 | DB32: =IF(OR(DB$5<90,DB$5>270),DA32+DB$8,DA32-DB$8) -> 0.21141267 | DC32: =2*EXP(Vl*DB32)/(1+EXP(2*Vl*DB32)) -> 0.3564543 | DD32: =DD31+10 -> 85 | DE32: =RADIANS(DD32) -> 1.4835299 | DF32: =Al/Vl*_xlfn.COT(DE32/2) -> 4.5016476 | DG32: =-Al/Vl -> -4.125 | DH32: =Al/Vl*_xlfn.COT($DE32) -> 0.36089074 | DI32: =Al/Vl*(SIGN(SIN($DE32))*1/SIN($DE32)-1) -> 0.01575683 | DL32: =DL31+10 -> 285 | DM32: =RADIANS(DL32) -> 4.9741884 | DN32: =ABS(_xlfn.COT(DM32/2)) -> 1.3032254 | DO32: =LN(DN32)*Vl -> 2.118738 | DP32: =Al/Vl*_xlfn.COT(DM32) -> -1.1052904 | DQ32: =Al/Vl*(1/ABS(SIN(DM32))-1) -> 0.14551424 | EC32: =EC31-dr -> 5.514 | EE32: =IF(EC32>rarxiko,1,IF(EC32>Rg,1-dc*(rarxiko-EC32)/hatm,0)) -> 44.317778 | EF32: =IF(EC32>Rg,1/EE32,0) -> 0.022564308 | EO32: 'alfa η γωνία που κάνει η ΦΩΤΕΙΝΗ ΑΚΤΙΝΑ με τον πολικό άξονα της γης | EW32: =EW31+PI()/100 -> 0.53407075 | EX32: =Rg*COS(EW32) -> 4.3037101 | EY32: =Rg*SIN(EW32) -> 2.5452071 | EZ32: =rarxiko*COS(EY32) -> -4.8814894 | FA32: =rarxiko*SIN(EY32) -> 3.3137685 | FB32: {=xsel+Rs*COS(EW32)} -> 268.37788 | FC32: =ysel+Rs*SIN(EW32) -> 136.83345 | FD32: =FD31-FF31+FG31 -> 0.86749697 | FE32: =ATAN(FN31/FO31) -> 0.1862339 | FF32: =FD32-FE32 -> 0.68126307 | FG32: =ASIN(SIN(FF32)*FH32) -> 0.65645046 | FH32: =IF($FK32>=rarxiko,1,IF($FK32>=Rg, c_EXISOSI+bsel*($FK32),0)) -> 0.96909091 | FI32: =FO31 -> 5.4557075 | FJ32: =FN31 -> 1.0279494 | FK32: =FK31-dr -> 5.594 | FL32: =FI32-FJ32*_xlfn.COT(FD32) -> 4.5840638 | FM32: =(FK32-dr)^2-FL32^2*SIN(FD33)^2 -> 19.383796 | FN32: =(-FL32*COS(FD33)+SQRT(FM32))*SIN(FD33) -> 1.0093145 | FO32: =FI32+_xlfn.COT(FD33)*(FN32-FJ32) -> 5.439094 | GC32: =2/(Kay*bsel) -> 1323.3831 | GF32: =GF31-hatm/50 -> 5.864 | GG32: =GF32-a_exisosi -> 7.864 | GH32: =c_EXISOSI+bsel*GF32 -> 0.99636364 | GI32: =GG32^2*(aell2+bell2)/(bell2*(aell2+GG32^2)) -> 0.17086307 | GJ32: =ASIN(SQRT(GI32)) -> 0.42613645 | GK32: {=(-ftoue(GJ32,mmm)-ellearx)/parbros/(Kay*bsel)*c_EXISOSI/2} -> #NAME? | GL32: =ACOS($GG32/bell) -> 1.2610738 | GM32: {=ftoue(GL32,mmm)-ellearx} -> #NAME? | GN32: =GM32/parbros/(Kay*bsel)*c_EXISOSI/2 -> #NAME? | GO32: =fia*2/(Kay*bsel)*(SQRT(1-Kay^2*(c_EXISOSI+bsel*GE32)^2)-SQRT(1-Kay^2*(c_EXISOSI+bsel*rarxiko)^2)) -> 0.13628794 | GP32: =fisosti-1/(Kay*bsel)*(SQRT(1-Kay^2*(c_EXISOSI+bsel*GF32)^2)-SQRT(1-Kay^2*(c_EXISOSI+bsel*rarxiko)^2)) -> 0.24949547 | GQ32: =GF32*SIN(GP32) -> 1.44791 | GR32: =GF32*COS(GP32) -> 5.6824337 | GS32: =2*AA*$GF32+BB -> -0.00015014336 | GT32: =SQRT(BB^2-4*AA*CC) -> 0.0030250174 | GU32: =Kay*bsel/SQRT(-AA)*ASIN((2*AA*$GF32+BB)/GT32)-_1stint -> 5.4428911e-05 | GV32: =1/GF32 -> 0.17053206 | GW32: =Kay*c_EXISOSI/SQRT(CC)*LN(ABS(2*SQRT(CC)*SQRT(AA+BB*GV32+CC*GV32^2)+2*CC*GV32+BB))-_2ndint -> 3.7013996e-05 | GX32: =fisosti-(GU32+GW32) -> 0.24994173 | GY32: =$GF32*SIN(GX32) -> 1.4504457 | GZ32: =$GF32*COS(GX32) -> 5.681787 | HB32: =2*(1-COS(incid1))*EXP(-bsel*$HC32)/((1-COS(incid1))^2*EXP(-2*bsel*$HC32)+Kay^2 ) -> 0.9981373 | HC32: =HC31+dtt -> 0.01846 | HD32: =(HB32-c_EXISOSI)/bsel -> 5.8815593 | HE32: =HD31-HD32 -> 0.009216074 | HF32: =HE32/dtt -> 0.99849122 | HL32: =$HD32*COS(HJ32) -> 5.8815593 | HM32: =HM31-$HC32^2*dtt/$HD32/Kay -> 0.2499885 | HN32: =$HD32*SIN(HM32) -> 1.4550555 | HO32: =$HD32*COS(HM32) -> 5.6987326 | HS32: =HS31-$HB32^2*dtt/($HD32*Kay) -> 0.89052915 | HT32: =$HD32*COS($HS32) -> 3.6995052 | HU32: =$HD32*SIN($HS32) -> 4.5723517 | HV32: =2*(1-COS(incid22))*EXP(-bsel*$HW32)/((1-COS(incid22))^2*EXP(-2*bsel*$HW32)+kay2_^2 ) -> 0.99878951 | HW32: =HW31+dtt -> 0.01846 | HX32: =(HV32-c_EXISOSI)/bsel -> 5.8880162 | IA32: =IJ31-IG32 -> 0.86664441 | IB32: =$HX32^2-(ID31-IC31*_xlfn.COT(IJ31))^2*SIN(IJ31)^2 -> 14.530042 | IC32: =(-(ID31-IC31*_xlfn.COT(IJ31))*COS(IJ31)+SQRT(IB32))*SIN(IJ31) -> 1.4432874 | ID32: =ID31+(_xlfn.COT(IJ31)*(IC32-IC31)) -> 5.7083847 | IE32: =$FC32^2-(ID31-IC31*_xlfn.COT(IJ31))^2*SIN(IJ31)^2 -> 18703.255 | IG32: =ATAN(IC32/ID32) -> 0.24764643 | IH32: =SIN(IA32)*(c_EXISOSI+bsel*($HX33))/(c_EXISOSI+bsel*$HX32) -> 0.76169886 | II32: =ASIN(IH32) -> 0.86593107 | IJ32: =II32+IG31 -> 1.1147736 | IL32: =c_EXISOSI+bsel*$FC32 -> 14.225601
A33: =A32+dtl -> 1.84 | B33: {=XtoYt($A33,Al,Vl,B$8)} -> 0.18010139 | C33: {=YtoyX(B33,Al,Vl,B$8)} -> -4.1249983 | D33: =D32+F$4 -> 0.02017397 | E33: =2*EXP(Vl*(D33-LN(F$8)/Vl))/(1+EXP(2*Vl*(D33-LN(F$8)/Vl))) -> 0.99990153 | F33: =IF(F$6<0,-1/(Vl*E$5)*(SIGN(SIN(F$8))*SQRT(1-E33^2)-COS(E$8)),IF(D33<F$6,-1/(Vl*E$5)*(SIGN(SIN(F$8))*SQRT(1-E33^2)-COS(E$8)),2*F$3+1/(Vl*E$5)*(SIGN(SIN(F$8))*SQRT(1-E33^2)-COS(E$8)))) -> 0.78612851 | G33: =Al*(SIGN(SIN(E$8))*SQRT(1-(Vl*SIN(E$8)*F33/Al-COS(E$8))^2)-SIN(E$8))/(Vl*SIN(E$8)) -> 0.063222322 | H33: =H32+J$4 -> 0.60016609 | I33: =2*EXP(Vl*(H33-LN(J$8)/Vl))/(1+EXP(2*Vl*(H33-LN(J$8)/Vl))) -> 0.36359966 | J33: =IF(H33<K$5,-1/(Vl*I$5)*(SIGN(SIN(J$8))*SQRT(1-I33^2)-COS(I$8)),2*J$3+1/(Vl*I$5)*(SIGN(SIN(J$8))*SQRT(1-I33^2)-COS(I$8))) -> 91.238609 | K33: =Al*(SIGN(SIN(I$8))*SQRT(1-(Vl*SIN(I$8)*J33/Al-COS(I$8))^2)-SIN(I$8))/(Vl*SIN(I$8)) -> 13.083833 | CO33: =CO32+dt -> -0.17 | CP33: =IF(OR(CP$5<90,CP$5>270),CO33+CP$8,CO33-CP$8) -> 0.083448678 | CQ33: =2*EXP(Vl*CP33)/(1+EXP(2*Vl*CP33)) -> 0.81219075 | CR33: =CR32+dt -> -0.17 | CS33: =IF(OR(CS$5<90,CS$5>270),CR33+CS$8,CR33-CS$8) -> -0.35830678 | CT33: =2*EXP(Vl*CS33)/(1+EXP(2*Vl*CS33)) -> 0.11343339 | CU33: =CU32+dt -> -0.17 | CV33: =IF(OR(CV$5<90,CV$5>270),CU33+CV$8,CU33-CV$8) -> -0.25160457 | CW33: =2*EXP(Vl*CV33)/(1+EXP(2*Vl*CV33)) -> 0.26253173 | CX33: =CX32+dt -> -0.17 | CY33: =IF(OR(CY$5<90,CY$5>270),CX33+CY$8,CX33-CY$8) -> -0.059828302 | CZ33: =2*EXP(Vl*CY33)/(1+EXP(2*Vl*CY33)) -> 0.89545956 | DA33: =DA32+dt -> -0.17 | DB33: =IF(OR(DB$5<90,DB$5>270),DA33+DB$8,DA33-DB$8) -> 0.22141267 | DC33: =2*EXP(Vl*DB33)/(1+EXP(2*Vl*DB33)) -> 0.3306545 | DD33: =DD32+10 -> 95 | DE33: =RADIANS(DD33) -> 1.6580628 | DF33: =Al/Vl*_xlfn.COT(DE33/2) -> 3.7798661 | DG33: =-Al/Vl -> -4.125 | DH33: =Al/Vl*_xlfn.COT($DE33) -> -0.36089074 | DI33: =Al/Vl*(SIGN(SIN($DE33))*1/SIN($DE33)-1) -> 0.01575683 | DL33: =DL32+10 -> 295 | DM33: =RADIANS(DL33) -> 5.1487213 | DN33: =ABS(_xlfn.COT(DM33/2)) -> 1.5696856 | DO33: =LN(DN33)*Vl -> 3.6070026 | DP33: =Al/Vl*_xlfn.COT(DM33) -> -1.9235191 | DQ33: =Al/Vl*(1/ABS(SIN(DM33))-1) -> 0.42643392 | EC33: =EC32-dr -> 5.496 | EE33: =IF(EC33>rarxiko,1,IF(EC33>Rg,1-dc*(rarxiko-EC33)/hatm,0)) -> 46.337778 | EF33: =IF(EC33>Rg,1/EE33,0) -> 0.021580664 | EO33: 'r η ακτίνα dr η μεταβολή της ακτίνας | EW33: =EW32+PI()/100 -> 0.56548668 | EX33: =Rg*COS(EW33) -> 4.2216396 | EY33: =Rg*SIN(EW33) -> 2.679134 | EZ33: =rarxiko*COS(EY33) -> -5.2802538 | FA33: =rarxiko*SIN(EY33) -> 2.6322842 | FB33: {=xsel+Rs*COS(EW33)} -> 268.35737 | FC33: =ysel+Rs*SIN(EW33) -> 136.86693 | FD33: =FD32-FF32+FG32 -> 0.84268436 | FE33: =ATAN(FN32/FO32) -> 0.18347961 | FF33: =FD33-FE33 -> 0.65920475 | FG33: =ASIN(SIN(FF33)*FH33) -> 0.63408837 | FH33: =IF($FK33>=rarxiko,1,IF($FK33>=Rg, c_EXISOSI+bsel*($FK33),0)) -> 0.96727273 | FI33: =FO32 -> 5.439094 | FJ33: =FN32 -> 1.0093145 | FK33: =FK32-dr -> 5.576 | FL33: =FI33-FJ33*_xlfn.COT(FD33) -> 4.5392668 | FM33: =(FK33-dr)^2-FL33^2*SIN(FD34)^2 -> 19.926492 | FN33: =(-FL33*COS(FD34)+SQRT(FM33))*SIN(FD34) -> 0.99141577 | FO33: =FI33+_xlfn.COT(FD34)*(FN33-FJ33) -> 5.4223114 | GF33: =GF32-hatm/50 -> 5.846 | GG33: =GF33-a_exisosi -> 7.846 | GH33: =c_EXISOSI+bsel*GF33 -> 0.99454545 | GI33: =GG33^2*(aell2+bell2)/(bell2*(aell2+GG33^2)) -> 0.17014865 | GJ33: =ASIN(SQRT(GI33)) -> 0.42518662 | GK33: {=(-ftoue(GJ33,mmm)-ellearx)/parbros/(Kay*bsel)*c_EXISOSI/2} -> #NAME? | GL33: =ACOS($GG33/bell) -> 1.2618062 | GM33: {=ftoue(GL33,mmm)-ellearx} -> #NAME? | GN33: =GM33/parbros/(Kay*bsel)*c_EXISOSI/2 -> #NAME? | GO33: =fia*2/(Kay*bsel)*(SQRT(1-Kay^2*(c_EXISOSI+bsel*GE33)^2)-SQRT(1-Kay^2*(c_EXISOSI+bsel*rarxiko)^2)) -> 0.13628794 | GP33: =fisosti-1/(Kay*bsel)*(SQRT(1-Kay^2*(c_EXISOSI+bsel*GF33)^2)-SQRT(1-Kay^2*(c_EXISOSI+bsel*rarxiko)^2)) -> 0.24922735 | GQ33: =GF33*SIN(GP33) -> 1.4419466 | GR33: =GF33*COS(GP33) -> 5.6653778 | GS33: =2*AA*$GF33+BB -> -0.00015006114 | GT33: =SQRT(BB^2-4*AA*CC) -> 0.0030250174 | GU33: =Kay*bsel/SQRT(-AA)*ASIN((2*AA*$GF33+BB)/GT33)-_1stint -> 8.1643311e-05 | GV33: =1/GF33 -> 0.17105713 | GW33: =Kay*c_EXISOSI/SQRT(CC)*LN(ABS(2*SQRT(CC)*SQRT(AA+BB*GV33+CC*GV33^2)+2*CC*GV33+BB))-_2ndint -> 5.5606256e-05 | GX33: =fisosti-(GU33+GW33) -> 0.24989592 | GY33: =$GF33*SIN(GX33) -> 1.445734 | GZ33: =$GF33*COS(GX33) -> 5.6644125 | HB33: =2*(1-COS(incid1))*EXP(-bsel*$HC33)/((1-COS(incid1))^2*EXP(-2*bsel*$HC33)+Kay^2 ) -> 0.99720725 | HC33: =HC32+dtt -> 0.02769 | HD33: =(HB33-c_EXISOSI)/bsel -> 5.8723518 | HE33: =HD32-HD33 -> 0.0092074885 | HF33: =HE33/dtt -> 0.99756105 | HL33: =$HD33*COS(HJ33) -> 5.8723518 | HM33: =HM32-$HC33^2*dtt/$HD33/Kay -> 0.24990796 | HN33: =$HD33*SIN(HM33) -> 1.4523194 | HO33: =$HD33*COS(HM33) -> 5.6899283 | HS33: =HS32-$HB33^2*dtt/($HD33*Kay) -> 0.78606172 | HT33: =$HD33*COS($HS33) -> 4.1496235 | HU33: =$HD33*SIN($HS33) -> 4.1551342 | HV33: =2*(1-COS(incid22))*EXP(-bsel*$HW33)/((1-COS(incid22))^2*EXP(-2*bsel*$HW33)+kay2_^2 ) -> 0.99818407 | HW33: =HW32+dtt -> 0.02769 | HX33: =(HV33-c_EXISOSI)/bsel -> 5.8820223 | IA33: =IJ32-IG33 -> 0.8683289 | IB33: =$HX33^2-(ID32-IC32*_xlfn.COT(IJ32))^2*SIN(IJ32)^2 -> 14.442977 | IC33: =(-(ID32-IC32*_xlfn.COT(IJ32))*COS(IJ32)+SQRT(IB33))*SIN(IJ32) -> 1.4349644 | ID33: =ID32+(_xlfn.COT(IJ32)*(IC33-IC32)) -> 5.7043022 | IE33: =$FC33^2-(ID32-IC32*_xlfn.COT(IJ32))^2*SIN(IJ32)^2 -> 18712.402 | IG33: =ATAN(IC33/ID33) -> 0.24644473 | IH33: =SIN(IA33)*(c_EXISOSI+bsel*($HX34))/(c_EXISOSI+bsel*$HX33) -> 0.76278726 | II33: =ASIN(IH33) -> 0.86761253 | IJ33: =II33+IG32 -> 1.115259 | IL33: =c_EXISOSI+bsel*$FC33 -> 14.228983
A34: =A33+dtl -> 1.92 | B34: {=XtoYt($A34,Al,Vl,B$8)} -> 0.18010139 | C34: {=YtoyX(B34,Al,Vl,B$8)} -> -4.124999 | D34: =D33+F$4 -> 0.0210511 | E34: =2*EXP(Vl*(D34-LN(F$8)/Vl))/(1+EXP(2*Vl*(D34-LN(F$8)/Vl))) -> 0.99997538 | F34: =IF(F$6<0,-1/(Vl*E$5)*(SIGN(SIN(F$8))*SQRT(1-E34^2)-COS(E$8)),IF(D34<F$6,-1/(Vl*E$5)*(SIGN(SIN(F$8))*SQRT(1-E34^2)-COS(E$8)),2*F$3+1/(Vl*E$5)*(SIGN(SIN(F$8))*SQRT(1-E34^2)-COS(E$8)))) -> 0.7567401 | G34: =Al*(SIGN(SIN(E$8))*SQRT(1-(Vl*SIN(E$8)*F34/Al-COS(E$8))^2)-SIN(E$8))/(Vl*SIN(E$8)) -> 0.063531655 | H34: =H33+J$4 -> 0.62626027 | I34: =2*EXP(Vl*(H34-LN(J$8)/Vl))/(1+EXP(2*Vl*(H34-LN(J$8)/Vl))) -> 0.2985834 | J34: =IF(H34<K$5,-1/(Vl*I$5)*(SIGN(SIN(J$8))*SQRT(1-I34^2)-COS(I$8)),2*J$3+1/(Vl*I$5)*(SIGN(SIN(J$8))*SQRT(1-I34^2)-COS(I$8))) -> 92.319049 | K34: =Al*(SIGN(SIN(I$8))*SQRT(1-(Vl*SIN(I$8)*J34/Al-COS(I$8))^2)-SIN(I$8))/(Vl*SIN(I$8)) -> 10.006674 | CO34: =CO33+dt -> -0.16 | CP34: =IF(OR(CP$5<90,CP$5>270),CO34+CP$8,CO34-CP$8) -> 0.093448678 | CQ34: =2*EXP(Vl*CP34)/(1+EXP(2*Vl*CP34)) -> 0.77357182 | CR34: =CR33+dt -> -0.16 | CS34: =IF(OR(CS$5<90,CS$5>270),CR34+CS$8,CR34-CS$8) -> -0.34830678 | CT34: =2*EXP(Vl*CS34)/(1+EXP(2*Vl*CS34)) -> 0.12281216 | CU34: =CU33+dt -> -0.16 | CV34: =IF(OR(CV$5<90,CV$5>270),CU34+CV$8,CU34-CV$8) -> -0.24160457 | CW34: =2*EXP(Vl*CV34)/(1+EXP(2*Vl*CV34)) -> 0.2835344 | CX34: =CX33+dt -> -0.16 | CY34: =IF(OR(CY$5<90,CY$5>270),CX34+CY$8,CX34-CY$8) -> -0.049828302 | CZ34: =2*EXP(Vl*CY34)/(1+EXP(2*Vl*CY34)) -> 0.92548959 | DA34: =DA33+dt -> -0.16 | DB34: =IF(OR(DB$5<90,DB$5>270),DA34+DB$8,DA34-DB$8) -> 0.23141267 | DC34: =2*EXP(Vl*DB34)/(1+EXP(2*Vl*DB34)) -> 0.30650712 | DD34: =DD33+10 -> 105 | DE34: =RADIANS(DD34) -> 1.8325957 | DF34: =Al/Vl*_xlfn.COT(DE34/2) -> 3.1652238 | DG34: =-Al/Vl -> -4.125 | DH34: =Al/Vl*_xlfn.COT($DE34) -> -1.1052904 | DI34: =Al/Vl*(SIGN(SIN($DE34))*1/SIN($DE34)-1) -> 0.14551424 | DL34: =DL33+10 -> 305 | DM34: =RADIANS(DL34) -> 5.3232542 | DN34: =ABS(_xlfn.COT(DM34/2)) -> 1.9209821 | DO34: =LN(DN34)*Vl -> 5.2226926 | DP34: =Al/Vl*_xlfn.COT(DM34) -> -2.8883561 | DQ34: =Al/Vl*(1/ABS(SIN(DM34))-1) -> 0.91069518 | EC34: =EC33-dr -> 5.478 | EE34: =IF(EC34>rarxiko,1,IF(EC34>Rg,1-dc*(rarxiko-EC34)/hatm,0)) -> 48.357778 | EF34: =IF(EC34>Rg,1/EE34,0) -> 0.020679197 | EO34: 'αν έχω μια βαθμιαία μεταβολή του δείκτη διάθλασης τότε υπολογίζω τις νέες θέσεις | EW34: =EW33+PI()/100 -> 0.5969026 | EX34: =Rg*COS(EW34) -> 4.1354029 | EY34: =Rg*SIN(EW34) -> 2.8104169 | EZ34: =rarxiko*COS(EY34) -> -5.5793981 | FA34: =rarxiko*SIN(EY34) -> 1.9184152 | FB34: {=xsel+Rs*COS(EW34)} -> 268.33581 | FC34: =ysel+Rs*SIN(EW34) -> 136.89975 | FD34: =FD33-FF33+FG33 -> 0.81756798 | FE34: =ATAN(FN33/FO33) -> 0.1808425 | FF34: =FD34-FE34 -> 0.63672548 | FG34: =ASIN(SIN(FF34)*FH34) -> 0.61141443 | FH34: =IF($FK34>=rarxiko,1,IF($FK34>=Rg, c_EXISOSI+bsel*($FK34),0)) -> 0.96545455 | FI34: =FO33 -> 5.4223114 | FJ34: =FN33 -> 0.99141577 | FK34: =FK33-dr -> 5.558 | FL34: =FI34-FJ34*_xlfn.COT(FD34) -> 4.4927156 | FM34: =(FK34-dr)^2-FL34^2*SIN(FD35)^2 -> 20.460917 | FN34: =(-FL34*COS(FD35)+SQRT(FM34))*SIN(FD35) -> 0.97422479 | FO34: =FI34+_xlfn.COT(FD35)*(FN34-FJ34) -> 5.4053546 | GB34: =msel -> 1.9879824 | GF34: =GF33-hatm/50 -> 5.828 | GG34: =GF34-a_exisosi -> 7.828 | GH34: =c_EXISOSI+bsel*GF34 -> 0.99272727 | GI34: =GG34^2*(aell2+bell2)/(bell2*(aell2+GG34^2)) -> 0.16943531 | GJ34: =ASIN(SQRT(GI34)) -> 0.42423664 | GK34: {=(-ftoue(GJ34,mmm)-ellearx)/parbros/(Kay*bsel)*c_EXISOSI/2} -> #NAME? | GL34: =ACOS($GG34/bell) -> 1.2625384 | GM34: {=ftoue(GL34,mmm)-ellearx} -> #NAME? | GN34: =GM34/parbros/(Kay*bsel)*c_EXISOSI/2 -> #NAME? | GO34: =fia*2/(Kay*bsel)*(SQRT(1-Kay^2*(c_EXISOSI+bsel*GE34)^2)-SQRT(1-Kay^2*(c_EXISOSI+bsel*rarxiko)^2)) -> 0.13628794 | GP34: =fisosti-1/(Kay*bsel)*(SQRT(1-Kay^2*(c_EXISOSI+bsel*GF34)^2)-SQRT(1-Kay^2*(c_EXISOSI+bsel*rarxiko)^2)) -> 0.24895973 | GQ34: =GF34*SIN(GP34) -> 1.4359953 | GR34: =GF34*COS(GP34) -> 5.6483185 | GS34: =2*AA*$GF34+BB -> -0.00014997892 | GT34: =SQRT(BB^2-4*AA*CC) -> 0.0030250174 | GU34: =Kay*bsel/SQRT(-AA)*ASIN((2*AA*$GF34+BB)/GT34)-_1stint -> 0.00010885767 | GV34: =1/GF34 -> 0.17158545 | GW34: =Kay*c_EXISOSI/SQRT(CC)*LN(ABS(2*SQRT(CC)*SQRT(AA+BB*GV34+CC*GV34^2)+2*CC*GV34+BB))-_2ndint -> 7.4255826e-05 | GX34: =fisosti-(GU34+GW34) -> 0.24985006 | GY34: =$GF34*SIN(GX34) -> 1.4410235 | GZ34: =$GF34*COS(GX34) -> 5.6470377 | HB34: =2*(1-COS(incid1))*EXP(-bsel*$HC34)/((1-COS(incid1))^2*EXP(-2*bsel*$HC34)+Kay^2 ) -> 0.99627807 | HC34: =HC33+dtt -> 0.03692 | HD34: =(HB34-c_EXISOSI)/bsel -> 5.8631529 | HE34: =HD33-HD34 -> 0.009198911 | HF34: =HE34/dtt -> 0.99663174 | HL34: =$HD34*COS(HJ34) -> 5.8631529 | HM34: =HM33-$HC34^2*dtt/$HD34/Kay -> 0.24976453 | HN34: =$HD34*SIN(HM34) -> 1.4492295 | HO34: =$HD34*COS(HM34) -> 5.681223 | HS34: =HS33-$HB34^2*dtt/($HD34*Kay) -> 0.68162529 | HT34: =$HD34*COS($HS34) -> 4.5530297 | HU34: =$HD34*SIN($HS34) -> 3.6941145 | HV34: =2*(1-COS(incid22))*EXP(-bsel*$HW34)/((1-COS(incid22))^2*EXP(-2*bsel*$HW34)+kay2_^2 ) -> 0.99757849 | HW34: =HW33+dtt -> 0.03692 | HX34: =(HV34-c_EXISOSI)/bsel -> 5.8760271 | IA34: =IJ33-IG34 -> 0.87002156 | IB34: =$HX34^2-(ID33-IC33*_xlfn.COT(IJ33))^2*SIN(IJ33)^2 -> 14.355926 | IC34: =(-(ID33-IC33*_xlfn.COT(IJ33))*COS(IJ33)+SQRT(IB34))*SIN(IJ33) -> 1.4266208 | ID34: =ID33+(_xlfn.COT(IJ33)*(IC34-IC33)) -> 5.7002147 | IE34: =$FC34^2-(ID33-IC33*_xlfn.COT(IJ33))^2*SIN(IJ33)^2 -> 18721.371 | IG34: =ATAN(IC34/ID34) -> 0.2452374 | IH34: =SIN(IA34)*(c_EXISOSI+bsel*($HX35))/(c_EXISOSI+bsel*$HX34) -> 0.76387875 | II34: =ASIN(IH34) -> 0.86930213 | IJ34: =II34+IG33 -> 1.1157469 | IL34: =c_EXISOSI+bsel*$FC34 -> 14.232298
A35: =A34+dtl -> 2 | B35: {=XtoYt($A35,Al,Vl,B$8)} -> 0.18010139 | C35: {=YtoyX(B35,Al,Vl,B$8)} -> -4.125 | D35: =D34+F$4 -> 0.021928229 | E35: =2*EXP(Vl*(D35-LN(F$8)/Vl))/(1+EXP(2*Vl*(D35-LN(F$8)/Vl))) -> 1 | F35: =IF(F$6<0,-1/(Vl*E$5)*(SIGN(SIN(F$8))*SQRT(1-E35^2)-COS(E$8)),IF(D35<F$6,-1/(Vl*E$5)*(SIGN(SIN(F$8))*SQRT(1-E35^2)-COS(E$8)),2*F$3+1/(Vl*E$5)*(SIGN(SIN(F$8))*SQRT(1-E35^2)-COS(E$8)))) -> -0.7273488 | G35: =Al*(SIGN(SIN(E$8))*SQRT(1-(Vl*SIN(E$8)*F35/Al-COS(E$8))^2)-SIN(E$8))/(Vl*SIN(E$8)) -> -0.19708501 | H35: =H34+J$4 -> 0.65235444 | I35: =2*EXP(Vl*(H35-LN(J$8)/Vl))/(1+EXP(2*Vl*(H35-LN(J$8)/Vl))) -> 0.24423017 | J35: =IF(H35<K$5,-1/(Vl*I$5)*(SIGN(SIN(J$8))*SQRT(1-I35^2)-COS(I$8)),2*J$3+1/(Vl*I$5)*(SIGN(SIN(J$8))*SQRT(1-I35^2)-COS(I$8))) -> 93.044781 | K35: =Al*(SIGN(SIN(I$8))*SQRT(1-(Vl*SIN(I$8)*J35/Al-COS(I$8))^2)-SIN(I$8))/(Vl*SIN(I$8)) -> 7.4341859 | CO35: =CO34+dt -> -0.15 | CP35: =IF(OR(CP$5<90,CP$5>270),CO35+CP$8,CO35-CP$8) -> 0.10344868 | CQ35: =2*EXP(Vl*CP35)/(1+EXP(2*Vl*CP35)) -> 0.7339722 | CR35: =CR34+dt -> -0.15 | CS35: =IF(OR(CS$5<90,CS$5>270),CR35+CS$8,CR35-CS$8) -> -0.33830678 | CT35: =2*EXP(Vl*CS35)/(1+EXP(2*Vl*CS35)) -> 0.1329535 | CU35: =CU34+dt -> -0.15 | CV35: =IF(OR(CV$5<90,CV$5>270),CU35+CV$8,CU35-CV$8) -> -0.23160457 | CW35: =2*EXP(Vl*CV35)/(1+EXP(2*Vl*CV35)) -> 0.3060595 | CX35: =CX34+dt -> -0.15 | CY35: =IF(OR(CY$5<90,CY$5>270),CX35+CY$8,CX35-CY$8) -> -0.039828302 | CZ35: =2*EXP(Vl*CY35)/(1+EXP(2*Vl*CY35)) -> 0.95130072 | DA35: =DA34+dt -> -0.15 | DB35: =IF(OR(DB$5<90,DB$5>270),DA35+DB$8,DA35-DB$8) -> 0.24141267 | DC35: =2*EXP(Vl*DB35)/(1+EXP(2*Vl*DB35)) -> 0.28395212 | DD35: =DD34+10 -> 115 | DE35: =RADIANS(DD35) -> 2.0071286 | DF35: =Al/Vl*_xlfn.COT(DE35/2) -> 2.6279148 | DG35: =-Al/Vl -> -4.125 | DH35: =Al/Vl*_xlfn.COT($DE35) -> -1.9235191 | DI35: =Al/Vl*(SIGN(SIN($DE35))*1/SIN($DE35)-1) -> 0.42643392 | DL35: =DL34+10 -> 315 | DM35: =RADIANS(DL35) -> 5.4977871 | DN35: =ABS(_xlfn.COT(DM35/2)) -> 2.4142136 | DO35: =LN(DN35)*Vl -> 7.0509887 | DP35: =Al/Vl*_xlfn.COT(DM35) -> -4.125 | DQ35: =Al/Vl*(1/ABS(SIN(DM35))-1) -> 1.7086309 | EC35: =EC34-dr -> 5.46 | EE35: =IF(EC35>rarxiko,1,IF(EC35>Rg,1-dc*(rarxiko-EC35)/hatm,0)) -> 50.377778 | EF35: =IF(EC35>Rg,1/EE35,0) -> 0.019850022 | EO35: ' που θα έχει η ακτίνα | EW35: =EW34+PI()/100 -> 0.62831853 | EX35: =Rg*COS(EW35) -> 4.045085 | EY35: =Rg*SIN(EW35) -> 2.9389263 | EZ35: =rarxiko*COS(EY35) -> -5.7792468 | FA35: =rarxiko*SIN(EY35) -> 1.187563 | FB35: {=xsel+Rs*COS(EW35)} -> 268.31323 | FC35: =ysel+Rs*SIN(EW35) -> 136.93188 | FD35: =FD34-FF34+FG34 -> 0.79225693 | FE35: =ATAN(FN34/FO34) -> 0.17831889 | FF35: =FD35-FE35 -> 0.61393805 | FG35: =ASIN(SIN(FF35)*FH35) -> 0.58853376 | FH35: =IF($FK35>=rarxiko,1,IF($FK35>=Rg, c_EXISOSI+bsel*($FK35),0)) -> 0.96363636 | FI35: =FO34 -> 5.4053546 | FJ35: =FN34 -> 0.97422479 | FK35: =FK34-dr -> 5.54 | FL35: =FI35-FJ35*_xlfn.COT(FD35) -> 4.444403 | FM35: =(FK35-dr)^2-FL35^2*SIN(FD36)^2 -> 20.982365 | FN35: =(-FL35*COS(FD36)+SQRT(FM35))*SIN(FD36) -> 0.9577138 | FO35: =FI35+_xlfn.COT(FD36)*(FN35-FJ35) -> 5.3882196 | GF35: =GF34-hatm/50 -> 5.81 | GG35: =GF35-a_exisosi -> 7.81 | GH35: =c_EXISOSI+bsel*GF35 -> 0.99090909 | GI35: =GG35^2*(aell2+bell2)/(bell2*(aell2+GG35^2)) -> 0.16872305 | GJ35: =ASIN(SQRT(GI35)) -> 0.42328651 | GK35: {=(-ftoue(GJ35,mmm)-ellearx)/parbros/(Kay*bsel)*c_EXISOSI/2} -> #NAME? | GL35: =ACOS($GG35/bell) -> 1.2632705 | GM35: {=ftoue(GL35,mmm)-ellearx} -> #NAME? | GN35: =GM35/parbros/(Kay*bsel)*c_EXISOSI/2 -> #NAME? | GO35: =fia*2/(Kay*bsel)*(SQRT(1-Kay^2*(c_EXISOSI+bsel*GE35)^2)-SQRT(1-Kay^2*(c_EXISOSI+bsel*rarxiko)^2)) -> 0.13628794 | GP35: =fisosti-1/(Kay*bsel)*(SQRT(1-Kay^2*(c_EXISOSI+bsel*GF35)^2)-SQRT(1-Kay^2*(c_EXISOSI+bsel*rarxiko)^2)) -> 0.24869259 | GQ35: =GF35*SIN(GP35) -> 1.4300559 | GR35: =GF35*COS(GP35) -> 5.6312556 | GS35: =2*AA*$GF35+BB -> -0.0001498967 | GT35: =SQRT(BB^2-4*AA*CC) -> 0.0030250174 | GU35: =Kay*bsel/SQRT(-AA)*ASIN((2*AA*$GF35+BB)/GT35)-_1stint -> 0.000136072 | GV35: =1/GF35 -> 0.17211704 | GW35: =Kay*c_EXISOSI/SQRT(CC)*LN(ABS(2*SQRT(CC)*SQRT(AA+BB*GV35+CC*GV35^2)+2*CC*GV35+BB))-_2ndint -> 9.296306e-05 | GX35: =fisosti-(GU35+GW35) -> 0.24980413 | GY35: =$GF35*SIN(GX35) -> 1.4363144 | GZ35: =$GF35*COS(GX35) -> 5.6296626 | HB35: =2*(1-COS(incid1))*EXP(-bsel*$HC35)/((1-COS(incid1))^2*EXP(-2*bsel*$HC35)+Kay^2 ) -> 0.99534975 | HC35: =HC34+dtt -> 0.04615 | HD35: =(HB35-c_EXISOSI)/bsel -> 5.8539625 | HE35: =HD34-HD35 -> 0.0091903415 | HF35: =HE35/dtt -> 0.9957033 | HL35: =$HD35*COS(HJ35) -> 5.8539625 | HM35: =HM34-$HC35^2*dtt/$HD35/Kay -> 0.24954009 | HN35: =$HD35*SIN(HM35) -> 1.4456847 | HO35: =$HD35*COS(HM35) -> 5.6726425 | HS35: =HS34-$HB35^2*dtt/($HD35*Kay) -> 0.57721974 | HT35: =$HD35*COS($HS35) -> 4.9055214 | HU35: =$HD35*SIN($HS35) -> 3.1944853 | HV35: =2*(1-COS(incid22))*EXP(-bsel*$HW35)/((1-COS(incid22))^2*EXP(-2*bsel*$HW35)+kay2_^2 ) -> 0.99697278 | HW35: =HW34+dtt -> 0.04615 | HX35: =(HV35-c_EXISOSI)/bsel -> 5.8700305 | IA35: =IJ34-IG35 -> 0.87172245 | IB35: =$HX35^2-(ID34-IC34*_xlfn.COT(IJ34))^2*SIN(IJ34)^2 -> 14.268886 | IC35: =(-(ID34-IC34*_xlfn.COT(IJ34))*COS(IJ34)+SQRT(IB35))*SIN(IJ34) -> 1.4182566 | ID35: =ID34+(_xlfn.COT(IJ34)*(IC35-IC34)) -> 5.6961221 | IE35: =$FC35^2-(ID34-IC34*_xlfn.COT(IJ34))^2*SIN(IJ34)^2 -> 18730.152 | IG35: =ATAN(IC35/ID35) -> 0.24402441 | IH35: =SIN(IA35)*(c_EXISOSI+bsel*($HX36))/(c_EXISOSI+bsel*$HX35) -> 0.76497334 | II35: =ASIN(IH35) -> 0.87099994 | IJ35: =II35+IG34 -> 1.1162373 | IL35: =c_EXISOSI+bsel*$FC35 -> 14.235544
A36: =A35+dtl -> 2.08 | B36: {=XtoYt($A36,Al,Vl,B$8)} -> 0.18010139 | C36: {=YtoyX(B36,Al,Vl,B$8)} -> -4.125 | D36: =D35+F$4 -> 0.022805358 | E36: =2*EXP(Vl*(D36-LN(F$8)/Vl))/(1+EXP(2*Vl*(D36-LN(F$8)/Vl))) -> 0.99997538 | F36: =IF(F$6<0,-1/(Vl*E$5)*(SIGN(SIN(F$8))*SQRT(1-E36^2)-COS(E$8)),IF(D36<F$6,-1/(Vl*E$5)*(SIGN(SIN(F$8))*SQRT(1-E36^2)-COS(E$8)),2*F$3+1/(Vl*E$5)*(SIGN(SIN(F$8))*SQRT(1-E36^2)-COS(E$8)))) -> -0.7567401 | G36: =Al*(SIGN(SIN(E$8))*SQRT(1-(Vl*SIN(E$8)*F36/Al-COS(E$8))^2)-SIN(E$8))/(Vl*SIN(E$8)) -> -0.20809543 | H36: =H35+J$4 -> 0.67844862 | I36: =2*EXP(Vl*(H36-LN(J$8)/Vl))/(1+EXP(2*Vl*(H36-LN(J$8)/Vl))) -> 0.19924575 | J36: =IF(H36<K$5,-1/(Vl*I$5)*(SIGN(SIN(J$8))*SQRT(1-I36^2)-COS(I$8)),2*J$3+1/(Vl*I$5)*(SIGN(SIN(J$8))*SQRT(1-I36^2)-COS(I$8))) -> 93.529064 | K36: =Al*(SIGN(SIN(I$8))*SQRT(1-(Vl*SIN(I$8)*J36/Al-COS(I$8))^2)-SIN(I$8))/(Vl*SIN(I$8)) -> 5.3051156 | CO36: =CO35+dt -> -0.14 | CP36: =IF(OR(CP$5<90,CP$5>270),CO36+CP$8,CO36-CP$8) -> 0.11344868 | CQ36: =2*EXP(Vl*CP36)/(1+EXP(2*Vl*CP36)) -> 0.69400182 | CR36: =CR35+dt -> -0.14 | CS36: =IF(OR(CS$5<90,CS$5>270),CR36+CS$8,CR36-CS$8) -> -0.32830678 | CT36: =2*EXP(Vl*CS36)/(1+EXP(2*Vl*CS36)) -> 0.14391597 | CU36: =CU35+dt -> -0.14 | CV36: =IF(OR(CV$5<90,CV$5>270),CU36+CV$8,CU36-CV$8) -> -0.22160457 | CW36: =2*EXP(Vl*CV36)/(1+EXP(2*Vl*CV36)) -> 0.33017572 | CX36: =CX35+dt -> -0.14 | CY36: =IF(OR(CY$5<90,CY$5>270),CX36+CY$8,CX36-CY$8) -> -0.029828302 | CZ36: =2*EXP(Vl*CY36)/(1+EXP(2*Vl*CY36)) -> 0.97218894 | DA36: =DA35+dt -> -0.14 | DB36: =IF(OR(DB$5<90,DB$5>270),DA36+DB$8,DA36-DB$8) -> 0.25141267 | DC36: =2*EXP(Vl*DB36)/(1+EXP(2*Vl*DB36)) -> 0.26292091 | DD36: =DD35+10 -> 125 | DE36: =RADIANS(DD36) -> 2.1816616 | DF36: =Al/Vl*_xlfn.COT(DE36/2) -> 2.1473391 | DG36: =-Al/Vl -> -4.125 | DH36: =Al/Vl*_xlfn.COT($DE36) -> -2.8883561 | DI36: =Al/Vl*(SIGN(SIN($DE36))*1/SIN($DE36)-1) -> 0.91069518 | DL36: =DL35+10 -> 325 | DM36: =RADIANS(DL36) -> 5.6723201 | DN36: =ABS(_xlfn.COT(DM36/2)) -> 3.1715948 | DO36: =LN(DN36)*Vl -> 9.2338764 | DP36: =Al/Vl*_xlfn.COT(DM36) -> -5.8911105 | DQ36: =Al/Vl*(1/ABS(SIN(DM36))-1) -> 3.066718 | EC36: =EC35-dr -> 5.442 | EE36: =IF(EC36>rarxiko,1,IF(EC36>Rg,1-dc*(rarxiko-EC36)/hatm,0)) -> 52.397778 | EF36: =IF(EC36>Rg,1/EE36,0) -> 0.019084779 | EO36: 'alfa = γωνία που κάνει με τον άξονα της γης η προσπίπτουσα ακτίνα | EW36: =EW35+PI()/100 -> 0.65973446 | EX36: =Rg*COS(EW36) -> 3.9507751 | EY36: =Rg*SIN(EW36) -> 3.0645353 | EZ36: =rarxiko*COS(EY36) -> -5.882492 | FA36: =rarxiko*SIN(EY36) -> 0.45418878 | FB36: {=xsel+Rs*COS(EW36)} -> 268.28965 | FC36: =ysel+Rs*SIN(EW36) -> 136.96328 | FD36: =FD35-FF35+FG35 -> 0.76685264 | FE36: =ATAN(FN35/FO35) -> 0.1759051 | FF36: =FD36-FE36 -> 0.59094754 | FG36: =ASIN(SIN(FF36)*FH36) -> 0.56554401 | FH36: =IF($FK36>=rarxiko,1,IF($FK36>=Rg, c_EXISOSI+bsel*($FK36),0)) -> 0.96181818 | FI36: =FO35 -> 5.3882196 | FJ36: =FN35 -> 0.9577138 | FK36: =FK35-dr -> 5.522 | FL36: =FI36-FJ36*_xlfn.COT(FD36) -> 4.3943077 | FM36: =(FK36-dr)^2-FL36^2*SIN(FD37)^2 -> 21.486607 | FN36: =(-FL36*COS(FD37)+SQRT(FM36))*SIN(FD37) -> 0.94185594 | FO36: =FI36+_xlfn.COT(FD37)*(FN36-FJ36) -> 5.3709028 | GF36: =GF35-hatm/50 -> 5.792 | GG36: =GF36-a_exisosi -> 7.792 | GH36: =c_EXISOSI+bsel*GF36 -> 0.98909091 | GI36: =GG36^2*(aell2+bell2)/(bell2*(aell2+GG36^2)) -> 0.16801188 | GJ36: =ASIN(SQRT(GI36)) -> 0.42233623 | GK36: {=(-ftoue(GJ36,mmm)-ellearx)/parbros/(Kay*bsel)*c_EXISOSI/2} -> #NAME? | GL36: =ACOS($GG36/bell) -> 1.2640024 | GM36: {=ftoue(GL36,mmm)-ellearx} -> #NAME? | GN36: =GM36/parbros/(Kay*bsel)*c_EXISOSI/2 -> #NAME? | GO36: =fia*2/(Kay*bsel)*(SQRT(1-Kay^2*(c_EXISOSI+bsel*GE36)^2)-SQRT(1-Kay^2*(c_EXISOSI+bsel*rarxiko)^2)) -> 0.13628794 | GP36: =fisosti-1/(Kay*bsel)*(SQRT(1-Kay^2*(c_EXISOSI+bsel*GF36)^2)-SQRT(1-Kay^2*(c_EXISOSI+bsel*rarxiko)^2)) -> 0.24842595 | GQ36: =GF36*SIN(GP36) -> 1.4241285 | GR36: =GF36*COS(GP36) -> 5.6141894 | GS36: =2*AA*$GF36+BB -> -0.00014981447 | GT36: =SQRT(BB^2-4*AA*CC) -> 0.0030250174 | GU36: =Kay*bsel/SQRT(-AA)*ASIN((2*AA*$GF36+BB)/GT36)-_1stint -> 0.00016328629 | GV36: =1/GF36 -> 0.17265193 | GW36: =Kay*c_EXISOSI/SQRT(CC)*LN(ABS(2*SQRT(CC)*SQRT(AA+BB*GV36+CC*GV36^2)+2*CC*GV36+BB))-_2ndint -> 0.00011172832 | GX36: =fisosti-(GU36+GW36) -> 0.24975815 | GY36: =$GF36*SIN(GX36) -> 1.4316065 | GZ36: =$GF36*COS(GX36) -> 5.6122871 | HB36: =2*(1-COS(incid1))*EXP(-bsel*$HC36)/((1-COS(incid1))^2*EXP(-2*bsel*$HC36)+Kay^2 ) -> 0.9944223 | HC36: =HC35+dtt -> 0.05538 | HD36: =(HB36-c_EXISOSI)/bsel -> 5.8447807 | HE36: =HD35-HD36 -> 0.00918178 | HF36: =HE36/dtt -> 0.99477573 | HL36: =$HD36*COS(HJ36) -> 5.8447807 | HM36: =HM35-$HC36^2*dtt/$HD36/Kay -> 0.24921637 | HN36: =$HD36*SIN(HM36) -> 1.4415837 | HO36: =$HD36*COS(HM36) -> 5.6642121 | HS36: =HS35-$HB36^2*dtt/($HD36*Kay) -> 0.47284496 | HT36: =$HD36*COS($HS36) -> 5.2034694 | HU36: =$HD36*SIN($HS36) -> 2.6618355 | HV36: =2*(1-COS(incid22))*EXP(-bsel*$HW36)/((1-COS(incid22))^2*EXP(-2*bsel*$HW36)+kay2_^2 ) -> 0.99636694 | HW36: =HW35+dtt -> 0.05538 | HX36: =(HV36-c_EXISOSI)/bsel -> 5.8640327 | IA36: =IJ35-IG36 -> 0.87343164 | IB36: =$HX36^2-(ID35-IC35*_xlfn.COT(IJ35))^2*SIN(IJ35)^2 -> 14.181859 | IC36: =(-(ID35-IC35*_xlfn.COT(IJ35))*COS(IJ35)+SQRT(IB36))*SIN(IJ35) -> 1.4098716 | ID36: =ID35+(_xlfn.COT(IJ35)*(IC36-IC35)) -> 5.6920244 | IE36: =$FC36^2-(ID35-IC35*_xlfn.COT(IJ35))^2*SIN(IJ35)^2 -> 18738.736 | IG36: =ATAN(IC36/ID36) -> 0.2428057 | IH36: =SIN(IA36)*(c_EXISOSI+bsel*($HX37))/(c_EXISOSI+bsel*$HX36) -> 0.76607105 | II36: =ASIN(IH36) -> 0.87270602 | IJ36: =II36+IG35 -> 1.1167304 | IL36: =c_EXISOSI+bsel*$FC36 -> 14.238716
A37: =A36+dtl -> 2.16 | B37: {=XtoYt($A37,Al,Vl,B$8)} -> 0.18010139 | C37: {=YtoyX(B37,Al,Vl,B$8)} -> -4.125 | D37: =D36+F$4 -> 0.023682487 | E37: =2*EXP(Vl*(D37-LN(F$8)/Vl))/(1+EXP(2*Vl*(D37-LN(F$8)/Vl))) -> 0.99990153 | F37: =IF(F$6<0,-1/(Vl*E$5)*(SIGN(SIN(F$8))*SQRT(1-E37^2)-COS(E$8)),IF(D37<F$6,-1/(Vl*E$5)*(SIGN(SIN(F$8))*SQRT(1-E37^2)-COS(E$8)),2*F$3+1/(Vl*E$5)*(SIGN(SIN(F$8))*SQRT(1-E37^2)-COS(E$8)))) -> -0.78612851 | G37: =Al*(SIGN(SIN(E$8))*SQRT(1-(Vl*SIN(E$8)*F37/Al-COS(E$8))^2)-SIN(E$8))/(Vl*SIN(E$8)) -> -0.21935694 | H37: =H36+J$4 -> 0.7045428 | I37: =2*EXP(Vl*(H37-LN(J$8)/Vl))/(1+EXP(2*Vl*(H37-LN(J$8)/Vl))) -> 0.16226214 | J37: =IF(H37<K$5,-1/(Vl*I$5)*(SIGN(SIN(J$8))*SQRT(1-I37^2)-COS(I$8)),2*J$3+1/(Vl*I$5)*(SIGN(SIN(J$8))*SQRT(1-I37^2)-COS(I$8))) -> 93.850813 | K37: =Al*(SIGN(SIN(I$8))*SQRT(1-(Vl*SIN(I$8)*J37/Al-COS(I$8))^2)-SIN(I$8))/(Vl*SIN(I$8)) -> 3.5547158 | CO37: =CO36+dt -> -0.13 | CP37: =IF(OR(CP$5<90,CP$5>270),CO37+CP$8,CO37-CP$8) -> 0.12344868 | CQ37: =2*EXP(Vl*CP37)/(1+EXP(2*Vl*CP37)) -> 0.65418732 | CR37: =CR36+dt -> -0.13 | CS37: =IF(OR(CS$5<90,CS$5>270),CR37+CS$8,CR37-CS$8) -> -0.31830678 | CT37: =2*EXP(Vl*CS37)/(1+EXP(2*Vl*CS37)) -> 0.15576164 | CU37: =CU36+dt -> -0.13 | CV37: =IF(OR(CV$5<90,CV$5>270),CU37+CV$8,CU37-CV$8) -> -0.21160457 | CW37: =2*EXP(Vl*CV37)/(1+EXP(2*Vl*CV37)) -> 0.35594332 | CX37: =CX36+dt -> -0.13 | CY37: =IF(OR(CY$5<90,CY$5>270),CX37+CY$8,CX37-CY$8) -> -0.019828302 | CZ37: =2*EXP(Vl*CY37)/(1+EXP(2*Vl*CY37)) -> 0.9875494 | DA37: =DA36+dt -> -0.13 | DB37: =IF(OR(DB$5<90,DB$5>270),DA37+DB$8,DA37-DB$8) -> 0.26141267 | DC37: =2*EXP(Vl*DB37)/(1+EXP(2*Vl*DB37)) -> 0.24333951 | DD37: =DD36+10 -> 135 | DE37: =RADIANS(DD37) -> 2.3561945 | DF37: =Al/Vl*_xlfn.COT(DE37/2) -> 1.7086309 | DG37: =-Al/Vl -> -4.125 | DH37: =Al/Vl*_xlfn.COT($DE37) -> -4.125 | DI37: =Al/Vl*(SIGN(SIN($DE37))*1/SIN($DE37)-1) -> 1.7086309 | DL37: =DL36+10 -> 335 | DM37: =RADIANS(DL37) -> 5.846853 | DN37: =ABS(_xlfn.COT(DM37/2)) -> 4.5107085 | DO37: =LN(DN37)*Vl -> 12.051634 | DP37: =Al/Vl*_xlfn.COT(DM37) -> -8.846091 | DQ37: =Al/Vl*(1/ABS(SIN(DM37))-1) -> 5.6355815 | EC37: =EC36-dr -> 5.424 | EE37: =IF(EC37>rarxiko,1,IF(EC37>Rg,1-dc*(rarxiko-EC37)/hatm,0)) -> 54.417778 | EF37: =IF(EC37>Rg,1/EE37,0) -> 0.018376348 | EO37: 'alfa1= γωνία που κάνει με τον άξονα της γης η διαθλώμενη ακτίνα | EW37: =EW36+PI()/100 -> 0.69115038 | EX37: =Rg*COS(EW37) -> 3.8525662 | EY37: =Rg*SIN(EW37) -> 3.1871199 | EZ37: =rarxiko*COS(EY37) -> -5.8938865 | FA37: =rarxiko*SIN(EY37) -> -0.26851826 | FB37: {=xsel+Rs*COS(EW37)} -> 268.2651 | FC37: =ysel+Rs*SIN(EW37) -> 136.99393 | FD37: =FD36-FF36+FG36 -> 0.74144911 | FE37: =ATAN(FN36/FO36) -> 0.17359755 | FF37: =FD37-FE37 -> 0.56785155 | FG37: =ASIN(SIN(FF37)*FH37) -> 0.5425356 | FH37: =IF($FK37>=rarxiko,1,IF($FK37>=Rg, c_EXISOSI+bsel*($FK37),0)) -> 0.96 | FI37: =FO36 -> 5.3709028 | FJ37: =FN36 -> 0.94185594 | FK37: =FK36-dr -> 5.504 | FL37: =FI37-FJ37*_xlfn.COT(FD37) -> 4.3423954 | FM37: =(FK37-dr)^2-FL37^2*SIN(FD38)^2 -> 21.969912 | FN37: =(-FL37*COS(FD38)+SQRT(FM37))*SIN(FD38) -> 0.92662554 | FO37: =FI37+_xlfn.COT(FD38)*(FN37-FJ37) -> 5.3534016 | GF37: =GF36-hatm/50 -> 5.774 | GG37: =GF37-a_exisosi -> 7.774 | GH37: =c_EXISOSI+bsel*GF37 -> 0.98727273 | GI37: =GG37^2*(aell2+bell2)/(bell2*(aell2+GG37^2)) -> 0.16730179 | GJ37: =ASIN(SQRT(GI37)) -> 0.42138579 | GK37: {=(-ftoue(GJ37,mmm)-ellearx)/parbros/(Kay*bsel)*c_EXISOSI/2} -> #NAME? | GL37: =ACOS($GG37/bell) -> 1.2647341 | GM37: {=ftoue(GL37,mmm)-ellearx} -> #NAME? | GN37: =GM37/parbros/(Kay*bsel)*c_EXISOSI/2 -> #NAME? | GO37: =fia*2/(Kay*bsel)*(SQRT(1-Kay^2*(c_EXISOSI+bsel*GE37)^2)-SQRT(1-Kay^2*(c_EXISOSI+bsel*rarxiko)^2)) -> 0.13628794 | GP37: =fisosti-1/(Kay*bsel)*(SQRT(1-Kay^2*(c_EXISOSI+bsel*GF37)^2)-SQRT(1-Kay^2*(c_EXISOSI+bsel*rarxiko)^2)) -> 0.24815979 | GQ37: =GF37*SIN(GP37) -> 1.418213 | GR37: =GF37*COS(GP37) -> 5.5971196 | GS37: =2*AA*$GF37+BB -> -0.00014973225 | GT37: =SQRT(BB^2-4*AA*CC) -> 0.0030250174 | GU37: =Kay*bsel/SQRT(-AA)*ASIN((2*AA*$GF37+BB)/GT37)-_1stint -> 0.00019050054 | GV37: =1/GF37 -> 0.17319016 | GW37: =Kay*c_EXISOSI/SQRT(CC)*LN(ABS(2*SQRT(CC)*SQRT(AA+BB*GV37+CC*GV37^2)+2*CC*GV37+BB))-_2ndint -> 0.00013055195 | GX37: =fisosti-(GU37+GW37) -> 0.24971212 | GY37: =$GF37*SIN(GX37) -> 1.4268998 | GZ37: =$GF37*COS(GX37) -> 5.5949113 | HB37: =2*(1-COS(incid1))*EXP(-bsel*$HC37)/((1-COS(incid1))^2*EXP(-2*bsel*$HC37)+Kay^2 ) -> 0.99349571 | HC37: =HC36+dtt -> 0.06461 | HD37: =(HB37-c_EXISOSI)/bsel -> 5.8356075 | HE37: =HD36-HD37 -> 0.0091732264 | HF37: =HE37/dtt -> 0.99384902 | HL37: =$HD37*COS(HJ37) -> 5.8356075 | HM37: =HM36-$HC37^2*dtt/$HD37/Kay -> 0.24877507 | HN37: =$HD37*SIN(HM37) -> 1.4368253 | HO37: =$HD37*COS(HM37) -> 5.6559569 | HS37: =HS36-$HB37^2*dtt/($HD37*Kay) -> 0.36850084 | HT37: =$HD37*COS($HS37) -> 5.4438539 | HU37: =$HD37*SIN($HS37) -> 2.1020869 | HV37: =2*(1-COS(incid22))*EXP(-bsel*$HW37)/((1-COS(incid22))^2*EXP(-2*bsel*$HW37)+kay2_^2 ) -> 0.99576097 | HW37: =HW36+dtt -> 0.06461 | HX37: =(HV37-c_EXISOSI)/bsel -> 5.8580336 | IA37: =IJ36-IG37 -> 0.87514921 | IB37: =$HX37^2-(ID36-IC36*_xlfn.COT(IJ36))^2*SIN(IJ36)^2 -> 14.094845 | IC37: =(-(ID36-IC36*_xlfn.COT(IJ36))*COS(IJ36)+SQRT(IB37))*SIN(IJ36) -> 1.4014656 | ID37: =ID36+(_xlfn.COT(IJ36)*(IC37-IC36)) -> 5.6879216 | IE37: =$FC37^2-(ID36-IC36*_xlfn.COT(IJ36))^2*SIN(IJ36)^2 -> 18747.115 | IG37: =ATAN(IC37/ID37) -> 0.24158122 | IH37: =SIN(IA37)*(c_EXISOSI+bsel*($HX38))/(c_EXISOSI+bsel*$HX37) -> 0.76717189 | II37: =ASIN(IH37) -> 0.87442046 | IJ37: =II37+IG36 -> 1.1172262 | IL37: =c_EXISOSI+bsel*$FC37 -> 14.241811
A38: =A37+dtl -> 2.24 | B38: {=XtoYt($A38,Al,Vl,B$8)} -> 0.18010139 | C38: {=YtoyX(B38,Al,Vl,B$8)} -> -4.125 | D38: =D37+F$4 -> 0.024559616 | E38: =2*EXP(Vl*(D38-LN(F$8)/Vl))/(1+EXP(2*Vl*(D38-LN(F$8)/Vl))) -> 0.99977847 | F38: =IF(F$6<0,-1/(Vl*E$5)*(SIGN(SIN(F$8))*SQRT(1-E38^2)-COS(E$8)),IF(D38<F$6,-1/(Vl*E$5)*(SIGN(SIN(F$8))*SQRT(1-E38^2)-COS(E$8)),2*F$3+1/(Vl*E$5)*(SIGN(SIN(F$8))*SQRT(1-E38^2)-COS(E$8)))) -> -0.81551114 | G38: =Al*(SIGN(SIN(E$8))*SQRT(1-(Vl*SIN(E$8)*F38/Al-COS(E$8))^2)-SIN(E$8))/(Vl*SIN(E$8)) -> -0.23087051 | H38: =H37+J$4 -> 0.73063698 | I38: =2*EXP(Vl*(H38-LN(J$8)/Vl))/(1+EXP(2*Vl*(H38-LN(J$8)/Vl))) -> 0.1319897 | J38: =IF(H38<K$5,-1/(Vl*I$5)*(SIGN(SIN(J$8))*SQRT(1-I38^2)-COS(I$8)),2*J$3+1/(Vl*I$5)*(SIGN(SIN(J$8))*SQRT(1-I38^2)-COS(I$8))) -> 94.063955 | K38: =Al*(SIGN(SIN(I$8))*SQRT(1-(Vl*SIN(I$8)*J38/Al-COS(I$8))^2)-SIN(I$8))/(Vl*SIN(I$8)) -> 2.1219496 | CO38: =CO37+dt -> -0.12 | CP38: =IF(OR(CP$5<90,CP$5>270),CO38+CP$8,CO38-CP$8) -> 0.13344868 | CQ38: =2*EXP(Vl*CP38)/(1+EXP(2*Vl*CP38)) -> 0.61496898 | CR38: =CR37+dt -> -0.12 | CS38: =IF(OR(CS$5<90,CS$5>270),CR38+CS$8,CR38-CS$8) -> -0.30830678 | CT38: =2*EXP(Vl*CS38)/(1+EXP(2*Vl*CS38)) -> 0.16855608 | CU38: =CU37+dt -> -0.12 | CV38: =IF(OR(CV$5<90,CV$5>270),CU38+CV$8,CU38-CV$8) -> -0.20160457 | CW38: =2*EXP(Vl*CV38)/(1+EXP(2*Vl*CV38)) -> 0.38341032 | CX38: =CX37+dt -> -0.12 | CY38: =IF(OR(CY$5<90,CY$5>270),CX38+CY$8,CX38-CY$8) -> -0.0098283016 | CZ38: =2*EXP(Vl*CY38)/(1+EXP(2*Vl*CY38)) -> 0.99691689 | DA38: =DA37+dt -> -0.12 | DB38: =IF(OR(DB$5<90,DB$5>270),DA38+DB$8,DA38-DB$8) -> 0.27141267 | DC38: =2*EXP(Vl*DB38)/(1+EXP(2*Vl*DB38)) -> 0.22513096 | DD38: =DD37+10 -> 145 | DE38: =RADIANS(DD38) -> 2.5307274 | DF38: =Al/Vl*_xlfn.COT(DE38/2) -> 1.3006075 | DG38: =-Al/Vl -> -4.125 | DH38: =Al/Vl*_xlfn.COT($DE38) -> -5.8911105 | DI38: =Al/Vl*(SIGN(SIN($DE38))*1/SIN($DE38)-1) -> 3.066718 | DL38: =DL37+10 -> 345 | DM38: =RADIANS(DL38) -> 6.0213859 | DN38: =ABS(_xlfn.COT(DM38/2)) -> 7.5957541 | DO38: =LN(DN38)*Vl -> 16.220715 | DP38: =Al/Vl*_xlfn.COT(DM38) -> -15.39471 | DQ38: =Al/Vl*(1/ABS(SIN(DM38))-1) -> 11.812776 | EC38: =EC37-dr -> 5.406 | EE38: =IF(EC38>rarxiko,1,IF(EC38>Rg,1-dc*(rarxiko-EC38)/hatm,0)) -> 56.437778 | EF38: =IF(EC38>Rg,1/EE38,0) -> 0.017718628 | EO38: 'υπολογίζω την προσπίπτουσα από | EW38: =EW37+PI()/100 -> 0.72256631 | EX38: =Rg*COS(EW38) -> 3.7505553 | EY38: =Rg*SIN(EW38) -> 3.3065593 | EZ38: =rarxiko*COS(EY38) -> -5.8199006 | FA38: =rarxiko*SIN(EY38) -> -0.96889479 | FB38: {=xsel+Rs*COS(EW38)} -> 268.2396 | FC38: =ysel+Rs*SIN(EW38) -> 137.02379 | FD38: =FD37-FF37+FG37 -> 0.71613315 | FE38: =ATAN(FN37/FO37) -> 0.17139278 | FF38: =FD38-FE38 -> 0.54474038 | FG38: =ASIN(SIN(FF38)*FH38) -> 0.51959202 | FH38: =IF($FK38>=rarxiko,1,IF($FK38>=Rg, c_EXISOSI+bsel*($FK38),0)) -> 0.95818182 | FI38: =FO37 -> 5.3534016 | FJ38: =FN37 -> 0.92662554 | FK38: =FK37-dr -> 5.486 | FL38: =FI38-FJ38*_xlfn.COT(FD38) -> 4.2886202 | FM38: =(FK38-dr)^2-FL38^2*SIN(FD39)^2 -> 22.429067 | FN38: =(-FL38*COS(FD39)+SQRT(FM38))*SIN(FD39) -> 0.91199809 | FO38: =FI38+_xlfn.COT(FD39)*(FN38-FJ38) -> 5.3357141 | GF38: =GF37-hatm/50 -> 5.756 | GG38: =GF38-a_exisosi -> 7.756 | GH38: =c_EXISOSI+bsel*GF38 -> 0.98545455 | GI38: =GG38^2*(aell2+bell2)/(bell2*(aell2+GG38^2)) -> 0.16659279 | GJ38: =ASIN(SQRT(GI38)) -> 0.42043521 | GK38: {=(-ftoue(GJ38,mmm)-ellearx)/parbros/(Kay*bsel)*c_EXISOSI/2} -> #NAME? | GL38: =ACOS($GG38/bell) -> 1.2654657 | GM38: {=ftoue(GL38,mmm)-ellearx} -> #NAME? | GN38: =GM38/parbros/(Kay*bsel)*c_EXISOSI/2 -> #NAME? | GO38: =fia*2/(Kay*bsel)*(SQRT(1-Kay^2*(c_EXISOSI+bsel*GE38)^2)-SQRT(1-Kay^2*(c_EXISOSI+bsel*rarxiko)^2)) -> 0.13628794 | GP38: =fisosti-1/(Kay*bsel)*(SQRT(1-Kay^2*(c_EXISOSI+bsel*GF38)^2)-SQRT(1-Kay^2*(c_EXISOSI+bsel*rarxiko)^2)) -> 0.24789412 | GQ38: =GF38*SIN(GP38) -> 1.4123094 | GR38: =GF38*COS(GP38) -> 5.5800464 | GS38: =2*AA*$GF38+BB -> -0.00014965003 | GT38: =SQRT(BB^2-4*AA*CC) -> 0.0030250174 | GU38: =Kay*bsel/SQRT(-AA)*ASIN((2*AA*$GF38+BB)/GT38)-_1stint -> 0.00021771476 | GV38: =1/GF38 -> 0.17373176 | GW38: =Kay*c_EXISOSI/SQRT(CC)*LN(ABS(2*SQRT(CC)*SQRT(AA+BB*GV38+CC*GV38^2)+2*CC*GV38+BB))-_2ndint -> 0.00014943434 | GX38: =fisosti-(GU38+GW38) -> 0.24966602 | GY38: =$GF38*SIN(GX38) -> 1.4221945 | GZ38: =$GF38*COS(GX38) -> 5.5775352 | HB38: =2*(1-COS(incid1))*EXP(-bsel*$HC38)/((1-COS(incid1))^2*EXP(-2*bsel*$HC38)+Kay^2 ) -> 0.99256998 | HC38: =HC37+dtt -> 0.07384 | HD38: =(HB38-c_EXISOSI)/bsel -> 5.8264428 | HE38: =HD37-HD38 -> 0.0091646808 | HF38: =HE38/dtt -> 0.99292317 | HL38: =$HD38*COS(HJ38) -> 5.8264428 | HM38: =HM37-$HC38^2*dtt/$HD38/Kay -> 0.24819777 | HN38: =$HD38*SIN(HM38) -> 1.4313085 | HO38: =$HD38*COS(HM38) -> 5.6479015 | HS38: =HS37-$HB38^2*dtt/($HD38*Kay) -> 0.26418725 | HT38: =$HD38*COS($HS38) -> 5.6242947 | HU38: =$HD38*SIN($HS38) -> 1.5214287 | HV38: =2*(1-COS(incid22))*EXP(-bsel*$HW38)/((1-COS(incid22))^2*EXP(-2*bsel*$HW38)+kay2_^2 ) -> 0.99515488 | HW38: =HW37+dtt -> 0.07384 | HX38: =(HV38-c_EXISOSI)/bsel -> 5.8520333 | IA38: =IJ37-IG38 -> 0.87687523 | IB38: =$HX38^2-(ID37-IC37*_xlfn.COT(IJ37))^2*SIN(IJ37)^2 -> 14.007844 | IC38: =(-(ID37-IC37*_xlfn.COT(IJ37))*COS(IJ37)+SQRT(IB38))*SIN(IJ37) -> 1.3930384 | ID38: =ID37+(_xlfn.COT(IJ37)*(IC38-IC37)) -> 5.6838136 | IE38: =$FC38^2-(ID37-IC37*_xlfn.COT(IJ37))^2*SIN(IJ37)^2 -> 18755.281 | IG38: =ATAN(IC38/ID38) -> 0.24035093 | IH38: =SIN(IA38)*(c_EXISOSI+bsel*($HX39))/(c_EXISOSI+bsel*$HX38) -> 0.76827587 | II38: =ASIN(IH38) -> 0.87614332 | IJ38: =II38+IG37 -> 1.1177245 | IL38: =c_EXISOSI+bsel*$FC38 -> 14.244827
A39: =A38+dtl -> 2.32 | B39: {=XtoYt($A39,Al,Vl,B$8)} -> 0.18010139 | C39: {=YtoyX(B39,Al,Vl,B$8)} -> -4.125 | D39: =D38+F$4 -> 0.025436745 | E39: =2*EXP(Vl*(D39-LN(F$8)/Vl))/(1+EXP(2*Vl*(D39-LN(F$8)/Vl))) -> 0.99960622 | F39: =IF(F$6<0,-1/(Vl*E$5)*(SIGN(SIN(F$8))*SQRT(1-E39^2)-COS(E$8)),IF(D39<F$6,-1/(Vl*E$5)*(SIGN(SIN(F$8))*SQRT(1-E39^2)-COS(E$8)),2*F$3+1/(Vl*E$5)*(SIGN(SIN(F$8))*SQRT(1-E39^2)-COS(E$8)))) -> -0.84488509 | G39: =Al*(SIGN(SIN(E$8))*SQRT(1-(Vl*SIN(E$8)*F39/Al-COS(E$8))^2)-SIN(E$8))/(Vl*SIN(E$8)) -> -0.24263707 | H39: =H38+J$4 -> 0.75673116 | I39: =2*EXP(Vl*(H39-LN(J$8)/Vl))/(1+EXP(2*Vl*(H39-LN(J$8)/Vl))) -> 0.10728241 | J39: =IF(H39<K$5,-1/(Vl*I$5)*(SIGN(SIN(J$8))*SQRT(1-I39^2)-COS(I$8)),2*J$3+1/(Vl*I$5)*(SIGN(SIN(J$8))*SQRT(1-I39^2)-COS(I$8))) -> 94.204877 | K39: =Al*(SIGN(SIN(I$8))*SQRT(1-(Vl*SIN(I$8)*J39/Al-COS(I$8))^2)-SIN(I$8))/(Vl*SIN(I$8)) -> 0.95257623 | CO39: =CO38+dt -> -0.11 | CP39: =IF(OR(CP$5<90,CP$5>270),CO39+CP$8,CO39-CP$8) -> 0.14344868 | CQ39: =2*EXP(Vl*CP39)/(1+EXP(2*Vl*CP39)) -> 0.57670294 | CR39: =CR38+dt -> -0.11 | CS39: =IF(OR(CS$5<90,CS$5>270),CR39+CS$8,CR39-CS$8) -> -0.29830678 | CT39: =2*EXP(Vl*CS39)/(1+EXP(2*Vl*CS39)) -> 0.18236825 | CU39: =CU38+dt -> -0.11 | CV39: =IF(OR(CV$5<90,CV$5>270),CU39+CV$8,CU39-CV$8) -> -0.19160457 | CW39: =2*EXP(Vl*CV39)/(1+EXP(2*Vl*CV39)) -> 0.41260785 | CX39: =CX38+dt -> -0.11 | CY39: =IF(OR(CY$5<90,CY$5>270),CX39+CY$8,CX39-CY$8) -> 0.00017169838 | CZ39: =2*EXP(Vl*CY39)/(1+EXP(2*Vl*CY39)) -> 0.99999906 | DA39: =DA38+dt -> -0.11 | DB39: =IF(OR(DB$5<90,DB$5>270),DA39+DB$8,DA39-DB$8) -> 0.28141267 | DC39: =2*EXP(Vl*DB39)/(1+EXP(2*Vl*DB39)) -> 0.20821724 | DD39: =DD38+10 -> 155 | DE39: =RADIANS(DD39) -> 2.7052603 | DF39: =Al/Vl*_xlfn.COT(DE39/2) -> 0.91449048 | DG39: =-Al/Vl -> -4.125 | DH39: =Al/Vl*_xlfn.COT($DE39) -> -8.846091 | DI39: =Al/Vl*(SIGN(SIN($DE39))*1/SIN($DE39)-1) -> 5.6355815 | DL39: =DL38+10 -> 355 | DM39: =RADIANS(DL39) -> 6.1959188 | DN39: =ABS(_xlfn.COT(DM39/2)) -> 22.903766 | DO39: =LN(DN39)*Vl -> 25.050411 | DP39: =Al/Vl*_xlfn.COT(DM39) -> -47.148966 | DQ39: =Al/Vl*(1/ABS(SIN(DM39))-1) -> 43.204067 | EC39: =EC38-dr -> 5.388 | EE39: =IF(EC39>rarxiko,1,IF(EC39>Rg,1-dc*(rarxiko-EC39)/hatm,0)) -> 58.457778 | EF39: =IF(EC39>Rg,1/EE39,0) -> 0.017106364 | EO39: x0 = r * Sin(fia): y0 = r * Cos(fia) 'σημεία της ακτίνας r που συναντά η φωτεινή ακτίνα | EW39: =EW38+PI()/100 -> 0.75398224 | EX39: =Rg*COS(EW39) -> 3.6448431 | EY39: =Rg*SIN(EW39) -> 3.4227355 | EZ39: =rarxiko*COS(EY39) -> -5.6683599 | FA39: =rarxiko*SIN(EY39) -> -1.6369776 | FB39: {=xsel+Rs*COS(EW39)} -> 268.21317 | FC39: =ysel+Rs*SIN(EW39) -> 137.05283 | FD39: =FD38-FF38+FG38 -> 0.6909848 | FE39: =ATAN(FN38/FO38) -> 0.16928743 | FF39: =FD39-FE39 -> 0.52169737 | FG39: =ASIN(SIN(FF39)*FH39) -> 0.49679013 | FH39: =IF($FK39>=rarxiko,1,IF($FK39>=Rg, c_EXISOSI+bsel*($FK39),0)) -> 0.95636364 | FI39: =FO38 -> 5.3357141 | FJ39: =FN38 -> 0.91199809 | FK39: =FK38-dr -> 5.468 | FL39: =FI39-FJ39*_xlfn.COT(FD39) -> 4.232926 | FM39: =(FK39-dr)^2-FL39^2*SIN(FD40)^2 -> 22.86138 | FN39: =(-FL39*COS(FD40)+SQRT(FM39))*SIN(FD40) -> 0.89795038 | FO39: =FI39+_xlfn.COT(FD40)*(FN39-FJ39) -> 5.3178392 | GF39: =GF38-hatm/50 -> 5.738 | GG39: =GF39-a_exisosi -> 7.738 | GH39: =c_EXISOSI+bsel*GF39 -> 0.98363636 | GI39: =GG39^2*(aell2+bell2)/(bell2*(aell2+GG39^2)) -> 0.16588488 | GJ39: =ASIN(SQRT(GI39)) -> 0.41948448 | GK39: {=(-ftoue(GJ39,mmm)-ellearx)/parbros/(Kay*bsel)*c_EXISOSI/2} -> #NAME? | GL39: =ACOS($GG39/bell) -> 1.2661971 | GM39: {=ftoue(GL39,mmm)-ellearx} -> #NAME? | GN39: =GM39/parbros/(Kay*bsel)*c_EXISOSI/2 -> #NAME? | GO39: =fia*2/(Kay*bsel)*(SQRT(1-Kay^2*(c_EXISOSI+bsel*GE39)^2)-SQRT(1-Kay^2*(c_EXISOSI+bsel*rarxiko)^2)) -> 0.13628794 | GP39: =fisosti-1/(Kay*bsel)*(SQRT(1-Kay^2*(c_EXISOSI+bsel*GF39)^2)-SQRT(1-Kay^2*(c_EXISOSI+bsel*rarxiko)^2)) -> 0.24762895 | GQ39: =GF39*SIN(GP39) -> 1.4064178 | GR39: =GF39*COS(GP39) -> 5.5629698 | GS39: =2*AA*$GF39+BB -> -0.00014956781 | GT39: =SQRT(BB^2-4*AA*CC) -> 0.0030250174 | GU39: =Kay*bsel/SQRT(-AA)*ASIN((2*AA*$GF39+BB)/GT39)-_1stint -> 0.00024492894 | GV39: =1/GF39 -> 0.17427675 | GW39: =Kay*c_EXISOSI/SQRT(CC)*LN(ABS(2*SQRT(CC)*SQRT(AA+BB*GV39+CC*GV39^2)+2*CC*GV39+BB))-_2ndint -> 0.00016837584 | GX39: =fisosti-(GU39+GW39) -> 0.24961986 | GY39: =$GF39*SIN(GX39) -> 1.4174904 | GZ39: =$GF39*COS(GX39) -> 5.5601587 | HB39: =2*(1-COS(incid1))*EXP(-bsel*$HC39)/((1-COS(incid1))^2*EXP(-2*bsel*$HC39)+Kay^2 ) -> 0.99164512 | HC39: =HC38+dtt -> 0.08307 | HD39: =(HB39-c_EXISOSI)/bsel -> 5.8172867 | HE39: =HD38-HD39 -> 0.0091561432 | HF39: =HE39/dtt -> 0.99199818 | HL39: =$HD39*COS(HJ39) -> 5.8172867 | HM39: =HM38-$HC39^2*dtt/$HD39/Kay -> 0.24746598 | HN39: =$HD39*SIN(HM39) -> 1.4249323 | HO39: =$HD39*COS(HM39) -> 5.6400703 | HS39: =HS38-$HB39^2*dtt/($HD39*Kay) -> 0.15990409 | HT39: =$HD39*COS($HS39) -> 5.743073 | HU39: =$HD39*SIN($HS39) -> 0.92624887 | HV39: =2*(1-COS(incid22))*EXP(-bsel*$HW39)/((1-COS(incid22))^2*EXP(-2*bsel*$HW39)+kay2_^2 ) -> 0.99454865 | HW39: =HW38+dtt -> 0.08307 | HX39: =(HV39-c_EXISOSI)/bsel -> 5.8460317 | IA39: =IJ38-IG39 -> 0.87860977 | IB39: =$HX39^2-(ID38-IC38*_xlfn.COT(IJ38))^2*SIN(IJ38)^2 -> 13.920855 | IC39: =(-(ID38-IC38*_xlfn.COT(IJ38))*COS(IJ38)+SQRT(IB39))*SIN(IJ38) -> 1.3845898 | ID39: =ID38+(_xlfn.COT(IJ38)*(IC39-IC38)) -> 5.6797005 | IE39: =$FC39^2-(ID38-IC38*_xlfn.COT(IJ38))^2*SIN(IJ38)^2 -> 18763.224 | IG39: =ATAN(IC39/ID39) -> 0.23911478 | IH39: =SIN(IA39)*(c_EXISOSI+bsel*($HX40))/(c_EXISOSI+bsel*$HX39) -> 0.76938299 | II39: =ASIN(IH39) -> 0.87787468 | IJ39: =II39+IG38 -> 1.1182256 | IL39: =c_EXISOSI+bsel*$FC39 -> 14.247761
A40: =A39+dtl -> 2.4 | B40: {=XtoYt($A40,Al,Vl,B$8)} -> 0.18010139 | C40: {=YtoyX(B40,Al,Vl,B$8)} -> -4.125 | D40: =D39+F$4 -> 0.026313874 | E40: =2*EXP(Vl*(D40-LN(F$8)/Vl))/(1+EXP(2*Vl*(D40-LN(F$8)/Vl))) -> 0.99938483 | F40: =IF(F$6<0,-1/(Vl*E$5)*(SIGN(SIN(F$8))*SQRT(1-E40^2)-COS(E$8)),IF(D40<F$6,-1/(Vl*E$5)*(SIGN(SIN(F$8))*SQRT(1-E40^2)-COS(E$8)),2*F$3+1/(Vl*E$5)*(SIGN(SIN(F$8))*SQRT(1-E40^2)-COS(E$8)))) -> -0.87424747 | G40: =Al*(SIGN(SIN(E$8))*SQRT(1-(Vl*SIN(E$8)*F40/Al-COS(E$8))^2)-SIN(E$8))/(Vl*SIN(E$8)) -> -0.25465755 | H40: =H39+J$4 -> 0.78282533 | I40: =2*EXP(Vl*(H40-LN(J$8)/Vl))/(1+EXP(2*Vl*(H40-LN(J$8)/Vl))) -> 0.087155743 | J40: =IF(H40<K$5,-1/(Vl*I$5)*(SIGN(SIN(J$8))*SQRT(1-I40^2)-COS(I$8)),2*J$3+1/(Vl*I$5)*(SIGN(SIN(J$8))*SQRT(1-I40^2)-COS(I$8))) -> 94.297931 | K40: =Al*(SIGN(SIN(I$8))*SQRT(1-(Vl*SIN(I$8)*J40/Al-COS(I$8))^2)-SIN(I$8))/(Vl*SIN(I$8)) -> -1.3136455e-13 | CO40: =CO39+dt -> -0.1 | CP40: =IF(OR(CP$5<90,CP$5>270),CO40+CP$8,CO40-CP$8) -> 0.15344868 | CQ40: =2*EXP(Vl*CP40)/(1+EXP(2*Vl*CP40)) -> 0.53966681 | CR40: =CR39+dt -> -0.1 | CS40: =IF(OR(CS$5<90,CS$5>270),CR40+CS$8,CR40-CS$8) -> -0.28830678 | CT40: =2*EXP(Vl*CS40)/(1+EXP(2*Vl*CS40)) -> 0.19727017 | CU40: =CU39+dt -> -0.1 | CV40: =IF(OR(CV$5<90,CV$5>270),CU40+CV$8,CU40-CV$8) -> -0.18160457 | CW40: =2*EXP(Vl*CV40)/(1+EXP(2*Vl*CV40)) -> 0.44354452 | CX40: =CX39+dt -> -0.1 | CY40: =IF(OR(CY$5<90,CY$5>270),CX40+CY$8,CX40-CY$8) -> 0.010171698 | CZ40: =2*EXP(Vl*CY40)/(1+EXP(2*Vl*CY40)) -> 0.99669828 | DA40: =DA39+dt -> -0.1 | DB40: =IF(OR(DB$5<90,DB$5>270),DA40+DB$8,DA40-DB$8) -> 0.29141267 | DC40: =2*EXP(Vl*DB40)/(1+EXP(2*Vl*DB40)) -> 0.19252068 | DD40: =DD39+10 -> 165 | DE40: =RADIANS(DD40) -> 2.8797933 | DF40: =Al/Vl*_xlfn.COT(DE40/2) -> 0.54306655 | DG40: =-Al/Vl -> -4.125 | DH40: =Al/Vl*_xlfn.COT($DE40) -> -15.39471 | DI40: =Al/Vl*(SIGN(SIN($DE40))*1/SIN($DE40)-1) -> 11.812776 | EC40: =EC39-dr -> 5.37 | EE40: =IF(EC40>rarxiko,1,IF(EC40>Rg,1-dc*(rarxiko-EC40)/hatm,0)) -> 60.477778 | EF40: =IF(EC40>Rg,1/EE40,0) -> 0.016534999 | EO40: prosptoseos = alfa - fia | EW40: =EW39+PI()/100 -> 0.78539816 | EX40: =Rg*COS(EW40) -> 3.5355339 | EY40: =Rg*SIN(EW40) -> 3.5355339 | EZ40: =rarxiko*COS(EY40) -> -5.4480804 | FA40: =rarxiko*SIN(EY40) -> -2.2646014 | FB40: {=xsel+Rs*COS(EW40)} -> 268.18584 | FC40: =ysel+Rs*SIN(EW40) -> 137.08103 | FD40: =FD39-FF39+FG39 -> 0.66607755 | FE40: =ATAN(FN39/FO39) -> 0.16727832 | FF40: =FD40-FE40 -> 0.49879923 | FG40: =ASIN(SIN(FF40)*FH40) -> 0.47420045 | FH40: =IF($FK40>=rarxiko,1,IF($FK40>=Rg, c_EXISOSI+bsel*($FK40),0)) -> 0.95454545 | FI40: =FO39 -> 5.3178392 | FJ40: =FN39 -> 0.89795038 | FK40: =FK39-dr -> 5.45 | FL40: =FI40-FJ40*_xlfn.COT(FD40) -> 4.175248 | FM40: =(FK40-dr)^2-FL40^2*SIN(FD41)^2 -> 23.264678 | FN40: =(-FL40*COS(FD41)+SQRT(FM40))*SIN(FD41) -> 0.88446043 | FO40: =FI40+_xlfn.COT(FD41)*(FN40-FJ40) -> 5.2997766 | GF40: =GF39-hatm/50 -> 5.72 | GG40: =GF40-a_exisosi -> 7.72 | GH40: =c_EXISOSI+bsel*GF40 -> 0.98181818 | GI40: =GG40^2*(aell2+bell2)/(bell2*(aell2+GG40^2)) -> 0.16517807 | GJ40: =ASIN(SQRT(GI40)) -> 0.41853359 | GK40: {=(-ftoue(GJ40,mmm)-ellearx)/parbros/(Kay*bsel)*c_EXISOSI/2} -> #NAME? | GL40: =ACOS($GG40/bell) -> 1.2669283 | GM40: {=ftoue(GL40,mmm)-ellearx} -> #NAME? | GN40: =GM40/parbros/(Kay*bsel)*c_EXISOSI/2 -> #NAME? | GO40: =fia*2/(Kay*bsel)*(SQRT(1-Kay^2*(c_EXISOSI+bsel*GE40)^2)-SQRT(1-Kay^2*(c_EXISOSI+bsel*rarxiko)^2)) -> 0.13628794 | GP40: =fisosti-1/(Kay*bsel)*(SQRT(1-Kay^2*(c_EXISOSI+bsel*GF40)^2)-SQRT(1-Kay^2*(c_EXISOSI+bsel*rarxiko)^2)) -> 0.24736426 | GQ40: =GF40*SIN(GP40) -> 1.400538 | GR40: =GF40*COS(GP40) -> 5.5458898 | GS40: =2*AA*$GF40+BB -> -0.00014948558 | GT40: =SQRT(BB^2-4*AA*CC) -> 0.0030250174 | GU40: =Kay*bsel/SQRT(-AA)*ASIN((2*AA*$GF40+BB)/GT40)-_1stint -> 0.00027214308 | GV40: =1/GF40 -> 0.17482517 | GW40: =Kay*c_EXISOSI/SQRT(CC)*LN(ABS(2*SQRT(CC)*SQRT(AA+BB*GV40+CC*GV40^2)+2*CC*GV40+BB))-_2ndint -> 0.00018737683 | GX40: =fisosti-(GU40+GW40) -> 0.24957365 | GY40: =$GF40*SIN(GX40) -> 1.4127876 | GZ40: =$GF40*COS(GX40) -> 5.5427819 | HB40: =2*(1-COS(incid1))*EXP(-bsel*$HC40)/((1-COS(incid1))^2*EXP(-2*bsel*$HC40)+Kay^2 ) -> 0.99072112 | HC40: =HC39+dtt -> 0.0923 | HD40: =(HB40-c_EXISOSI)/bsel -> 5.8081391 | HE40: =HD39-HD40 -> 0.0091476135 | HF40: =HE40/dtt -> 0.99107405 | HL40: =$HD40*COS(HJ40) -> 5.8081391 | HM40: =HM39-$HC40^2*dtt/$HD40/Kay -> 0.2465611 | HN40: =$HD40*SIN(HM40) -> 1.4175955 | HO40: =$HD40*COS(HM40) -> 5.6324864 | HS40: =HS39-$HB40^2*dtt/($HD40*Kay) -> 0.055651242 | HT40: =$HD40*COS($HS40) -> 5.7991473 | HU40: =$HD40*SIN($HS40) -> 0.32306333 | HV40: =2*(1-COS(incid22))*EXP(-bsel*$HW40)/((1-COS(incid22))^2*EXP(-2*bsel*$HW40)+kay2_^2 ) -> 0.9939423 | HW40: =HW39+dtt -> 0.0923 | HX40: =(HV40-c_EXISOSI)/bsel -> 5.8400288 | IA40: =IJ39-IG40 -> 0.88035291 | IB40: =$HX40^2-(ID39-IC39*_xlfn.COT(IJ39))^2*SIN(IJ39)^2 -> 13.833879 | IC40: =(-(ID39-IC39*_xlfn.COT(IJ39))*COS(IJ39)+SQRT(IB40))*SIN(IJ39) -> 1.3761197 | ID40: =ID39+(_xlfn.COT(IJ39)*(IC40-IC39)) -> 5.675582 | IE40: =$FC40^2-(ID39-IC39*_xlfn.COT(IJ39))^2*SIN(IJ39)^2 -> 18770.938 | IG40: =ATAN(IC40/ID40) -> 0.2378727 | IH40: =SIN(IA40)*(c_EXISOSI+bsel*($HX41))/(c_EXISOSI+bsel*$HX40) -> 0.77049327 | II40: =ASIN(IH40) -> 0.87961461 | IJ40: =II40+IG39 -> 1.1187294 | IL40: =c_EXISOSI+bsel*$FC40 -> 14.250609
A41: =A40+dtl -> 2.48 | B41: {=XtoYt($A41,Al,Vl,B$8)} -> 0.18010139 | C41: {=YtoyX(B41,Al,Vl,B$8)} -> -4.125 | D41: =D40+F$4 -> 0.027191004 | E41: =2*EXP(Vl*(D41-LN(F$8)/Vl))/(1+EXP(2*Vl*(D41-LN(F$8)/Vl))) -> 0.99911436 | F41: =IF(F$6<0,-1/(Vl*E$5)*(SIGN(SIN(F$8))*SQRT(1-E41^2)-COS(E$8)),IF(D41<F$6,-1/(Vl*E$5)*(SIGN(SIN(F$8))*SQRT(1-E41^2)-COS(E$8)),2*F$3+1/(Vl*E$5)*(SIGN(SIN(F$8))*SQRT(1-E41^2)-COS(E$8)))) -> -0.90359541 | G41: =Al*(SIGN(SIN(E$8))*SQRT(1-(Vl*SIN(E$8)*F41/Al-COS(E$8))^2)-SIN(E$8))/(Vl*SIN(E$8)) -> -0.26693283 | H41: =H40+J$4 -> 0.80891951 | I41: =2*EXP(Vl*(H41-LN(J$8)/Vl))/(1+EXP(2*Vl*(H41-LN(J$8)/Vl))) -> 0.070781159 | J41: =IF(H41<K$5,-1/(Vl*I$5)*(SIGN(SIN(J$8))*SQRT(1-I41^2)-COS(I$8)),2*J$3+1/(Vl*I$5)*(SIGN(SIN(J$8))*SQRT(1-I41^2)-COS(I$8))) -> 94.359325 | K41: =Al*(SIGN(SIN(I$8))*SQRT(1-(Vl*SIN(I$8)*J41/Al-COS(I$8))^2)-SIN(I$8))/(Vl*SIN(I$8)) -> -0.77499376 | CO41: =CO40+dt -> -0.09 | CP41: =IF(OR(CP$5<90,CP$5>270),CO41+CP$8,CO41-CP$8) -> 0.16344868 | CQ41: =2*EXP(Vl*CP41)/(1+EXP(2*Vl*CP41)) -> 0.50406761 | CR41: =CR40+dt -> -0.09 | CS41: =IF(OR(CS$5<90,CS$5>270),CR41+CS$8,CR41-CS$8) -> -0.27830678 | CT41: =2*EXP(Vl*CS41)/(1+EXP(2*Vl*CS41)) -> 0.21333653 | CU41: =CU40+dt -> -0.09 | CV41: =IF(OR(CV$5<90,CV$5>270),CU41+CV$8,CU41-CV$8) -> -0.17160457 | CW41: =2*EXP(Vl*CV41)/(1+EXP(2*Vl*CV41)) -> 0.47619992 | CX41: =CX40+dt -> -0.09 | CY41: =IF(OR(CY$5<90,CY$5>270),CX41+CY$8,CX41-CY$8) -> 0.020171698 | CZ41: =2*EXP(Vl*CY41)/(1+EXP(2*Vl*CY41)) -> 0.98711908 | DA41: =DA40+dt -> -0.09 | DB41: =IF(OR(DB$5<90,DB$5>270),DA41+DB$8,DA41-DB$8) -> 0.30141267 | DC41: =2*EXP(Vl*DB41)/(1+EXP(2*Vl*DB41)) -> 0.17796511 | DD41: =DD40+10 -> 175 | DE41: =RADIANS(DD41) -> 3.0543262 | DF41: =Al/Vl*_xlfn.COT(DE41/2) -> 0.18010139 | DG41: =-Al/Vl -> -4.125 | DH41: =Al/Vl*_xlfn.COT($DE41) -> -47.148966 | DI41: =Al/Vl*(SIGN(SIN($DE41))*1/SIN($DE41)-1) -> 43.204067 | EC41: =EC40-dr -> 5.352 | EE41: =IF(EC41>rarxiko,1,IF(EC41>Rg,1-dc*(rarxiko-EC41)/hatm,0)) -> 62.497778 | EF41: =IF(EC41>Rg,1/EE41,0) -> 0.016000569 | EO41: Dim thetad As Double 'γωνία διάθλασης | EW41: =EW40+PI()/100 -> 0.81681409 | EX41: =Rg*COS(EW41) -> 3.4227355 | EY41: =Rg*SIN(EW41) -> 3.6448431 | EZ41: =rarxiko*COS(EY41) -> -5.1685154 | FA41: =rarxiko*SIN(EY41) -> -2.8454259 | FB41: {=xsel+Rs*COS(EW41)} -> 268.15764 | FC41: =ysel+Rs*SIN(EW41) -> 137.10836 | FD41: =FD40-FF40+FG40 -> 0.64147877 | FE41: =ATAN(FN40/FO40) -> 0.16536243 | FF41: =FD41-FE41 -> 0.47611634 | FG41: =ASIN(SIN(FF41)*FH41) -> 0.45188751 | FH41: =IF($FK41>=rarxiko,1,IF($FK41>=Rg, c_EXISOSI+bsel*($FK41),0)) -> 0.95272727 | FI41: =FO40 -> 5.2997766 | FJ41: =FN40 -> 0.88446043 | FK41: =FK40-dr -> 5.432 | FL41: =FI41-FJ41*_xlfn.COT(FD41) -> 4.115514 | FM41: =(FK41-dr)^2-FL41^2*SIN(FD42)^2 -> 23.637291 | FN41: =(-FL41*COS(FD42)+SQRT(FM41))*SIN(FD42) -> 0.87150754 | FO41: =FI41+_xlfn.COT(FD42)*(FN41-FJ41) -> 5.2815271 | GF41: =GF40-hatm/50 -> 5.702 | GG41: =GF41-a_exisosi -> 7.702 | GH41: =c_EXISOSI+bsel*GF41 -> 0.98 | GI41: =GG41^2*(aell2+bell2)/(bell2*(aell2+GG41^2)) -> 0.16447236 | GJ41: =ASIN(SQRT(GI41)) -> 0.41758256 | GK41: {=(-ftoue(GJ41,mmm)-ellearx)/parbros/(Kay*bsel)*c_EXISOSI/2} -> #NAME? | GL41: =ACOS($GG41/bell) -> 1.2676594 | GM41: {=ftoue(GL41,mmm)-ellearx} -> #NAME? | GN41: =GM41/parbros/(Kay*bsel)*c_EXISOSI/2 -> #NAME? | GO41: =fia*2/(Kay*bsel)*(SQRT(1-Kay^2*(c_EXISOSI+bsel*GE41)^2)-SQRT(1-Kay^2*(c_EXISOSI+bsel*rarxiko)^2)) -> 0.13628794 | GP41: =fisosti-1/(Kay*bsel)*(SQRT(1-Kay^2*(c_EXISOSI+bsel*GF41)^2)-SQRT(1-Kay^2*(c_EXISOSI+bsel*rarxiko)^2)) -> 0.24710006 | GQ41: =GF41*SIN(GP41) -> 1.3946701 | GR41: =GF41*COS(GP41) -> 5.5288063 | GS41: =2*AA*$GF41+BB -> -0.00014940336 | GT41: =SQRT(BB^2-4*AA*CC) -> 0.0030250174 | GU41: =Kay*bsel/SQRT(-AA)*ASIN((2*AA*$GF41+BB)/GT41)-_1stint -> 0.00029935719 | GV41: =1/GF41 -> 0.17537706 | GW41: =Kay*c_EXISOSI/SQRT(CC)*LN(ABS(2*SQRT(CC)*SQRT(AA+BB*GV41+CC*GV41^2)+2*CC*GV41+BB))-_2ndint -> 0.00020643768 | GX41: =fisosti-(GU41+GW41) -> 0.24952737 | GY41: =$GF41*SIN(GX41) -> 1.4080861 | GZ41: =$GF41*COS(GX41) -> 5.5254047 | HB41: =2*(1-COS(incid1))*EXP(-bsel*$HC41)/((1-COS(incid1))^2*EXP(-2*bsel*$HC41)+Kay^2 ) -> 0.98979798 | HC41: =HC40+dtt -> 0.10153 | HD41: =(HB41-c_EXISOSI)/bsel -> 5.799 | HE41: =HD40-HD41 -> 0.0091390917 | HF41: =HE41/dtt -> 0.99015078 | HL41: =$HD41*COS(HJ41) -> 5.799 | HM41: =HM40-$HC41^2*dtt/$HD41/Kay -> 0.24546448 | HN41: =$HD41*SIN(HM41) -> 1.409197 | HO41: =$HD41*COS(HM41) -> 5.6251724 | HS41: =HS40-$HB41^2*dtt/($HD41*Kay) -> -0.048571408 | HT41: =$HD41*COS($HS41) -> 5.7921609 | HU41: =$HD41*SIN($HS41) -> -0.28155486 | HV41: =2*(1-COS(incid22))*EXP(-bsel*$HW41)/((1-COS(incid22))^2*EXP(-2*bsel*$HW41)+kay2_^2 ) -> 0.99333583 | HW41: =HW40+dtt -> 0.10153 | HX41: =(HV41-c_EXISOSI)/bsel -> 5.8340247 | IA41: =IJ40-IG41 -> 0.88210473 | IB41: =$HX41^2-(ID40-IC40*_xlfn.COT(IJ40))^2*SIN(IJ40)^2 -> 13.746916 | IC41: =(-(ID40-IC40*_xlfn.COT(IJ40))*COS(IJ40)+SQRT(IB41))*SIN(IJ40) -> 1.3676277 | ID41: =ID40+(_xlfn.COT(IJ40)*(IC41-IC40)) -> 5.6714583 | IE41: =$FC41^2-(ID40-IC40*_xlfn.COT(IJ40))^2*SIN(IJ40)^2 -> 18778.414 | IG41: =ATAN(IC41/ID41) -> 0.23662466 | IH41: =SIN(IA41)*(c_EXISOSI+bsel*($HX42))/(c_EXISOSI+bsel*$HX41) -> 0.77160672 | II41: =ASIN(IH41) -> 0.88136319 | IJ41: =II41+IG40 -> 1.1192359 | IL41: =c_EXISOSI+bsel*$FC41 -> 14.25337
A42: =A41+dtl -> 2.56 | B42: {=XtoYt($A42,Al,Vl,B$8)} -> 0.18010139 | C42: {=YtoyX(B42,Al,Vl,B$8)} -> -4.125 | D42: =D41+F$4 -> 0.028068133 | E42: =2*EXP(Vl*(D42-LN(F$8)/Vl))/(1+EXP(2*Vl*(D42-LN(F$8)/Vl))) -> 0.99879486 | F42: =IF(F$6<0,-1/(Vl*E$5)*(SIGN(SIN(F$8))*SQRT(1-E42^2)-COS(E$8)),IF(D42<F$6,-1/(Vl*E$5)*(SIGN(SIN(F$8))*SQRT(1-E42^2)-COS(E$8)),2*F$3+1/(Vl*E$5)*(SIGN(SIN(F$8))*SQRT(1-E42^2)-COS(E$8)))) -> -0.93292601 | G42: =Al*(SIGN(SIN(E$8))*SQRT(1-(Vl*SIN(E$8)*F42/Al-COS(E$8))^2)-SIN(E$8))/(Vl*SIN(E$8)) -> -0.27946378 | H42: =H41+J$4 -> 0.83501369 | I42: =2*EXP(Vl*(H42-LN(J$8)/Vl))/(1+EXP(2*Vl*(H42-LN(J$8)/Vl))) -> 0.057470257 | J42: =IF(H42<K$5,-1/(Vl*I$5)*(SIGN(SIN(J$8))*SQRT(1-I42^2)-COS(I$8)),2*J$3+1/(Vl*I$5)*(SIGN(SIN(J$8))*SQRT(1-I42^2)-COS(I$8))) -> 94.399808 | K42: =Al*(SIGN(SIN(I$8))*SQRT(1-(Vl*SIN(I$8)*J42/Al-COS(I$8))^2)-SIN(I$8))/(Vl*SIN(I$8)) -> -1.4049863 | CO42: =CO41+dt -> -0.08 | CP42: =IF(OR(CP$5<90,CP$5>270),CO42+CP$8,CO42-CP$8) -> 0.17344868 | CQ42: =2*EXP(Vl*CP42)/(1+EXP(2*Vl*CP42)) -> 0.47005071 | CR42: =CR41+dt -> -0.08 | CS42: =IF(OR(CS$5<90,CS$5>270),CR42+CS$8,CR42-CS$8) -> -0.26830678 | CT42: =2*EXP(Vl*CS42)/(1+EXP(2*Vl*CS42)) -> 0.23064405 | CU42: =CU41+dt -> -0.08 | CV42: =IF(OR(CV$5<90,CV$5>270),CU42+CV$8,CU42-CV$8) -> -0.16160457 | CW42: =2*EXP(Vl*CV42)/(1+EXP(2*Vl*CV42)) -> 0.51051704 | CX42: =CX41+dt -> -0.08 | CY42: =IF(OR(CY$5<90,CY$5>270),CX42+CY$8,CX42-CY$8) -> 0.030171698 | CZ42: =2*EXP(Vl*CY42)/(1+EXP(2*Vl*CY42)) -> 0.97156019 | DA42: =DA41+dt -> -0.08 | DB42: =IF(OR(DB$5<90,DB$5>270),DA42+DB$8,DA42-DB$8) -> 0.31141267 | DC42: =2*EXP(Vl*DB42)/(1+EXP(2*Vl*DB42)) -> 0.1644766 | DD42: =DD41+10 -> 185 | DE42: =RADIANS(DD42) -> 3.2288591 | DF42: =Al/Vl*_xlfn.COT(DE42/2) -> -0.18010139 | DG42: =-Al/Vl -> -4.125 | DH42: =Al/Vl*_xlfn.COT($DE42) -> 47.148966 | DI42: =Al/Vl*(SIGN(SIN($DE42))*1/SIN($DE42)-1) -> 43.204067 | EC42: =EC41-dr -> 5.334 | EE42: =IF(EC42>rarxiko,1,IF(EC42>Rg,1-dc*(rarxiko-EC42)/hatm,0)) -> 64.517778 | EF42: =IF(EC42>Rg,1/EE42,0) -> 0.015499604 | EO42: Dim aLFa1 As Double | EW42: =EW41+PI()/100 -> 0.84823002 | EX42: =Rg*COS(EW42) -> 3.3065593 | EY42: =Rg*SIN(EW42) -> 3.7505553 | EZ42: =rarxiko*COS(EY42) -> -4.8394267 | FA42: =rarxiko*SIN(EY42) -> -3.3748999 | FB42: {=xsel+Rs*COS(EW42)} -> 268.1286 | FC42: =ysel+Rs*SIN(EW42) -> 137.13479 | FD42: =FD41-FF41+FG41 -> 0.61724994 | FE42: =ATAN(FN41/FO41) -> 0.16353686 | FF42: =FD42-FE42 -> 0.45371308 | FG42: =ASIN(SIN(FF42)*FH42) -> 0.42991014 | FH42: =IF($FK42>=rarxiko,1,IF($FK42>=Rg, c_EXISOSI+bsel*($FK42),0)) -> 0.95090909 | FI42: =FO41 -> 5.2815271 | FJ42: =FN41 -> 0.87150754 | FK42: =FK41-dr -> 5.414 | FL42: =FI42-FJ42*_xlfn.COT(FD42) -> 4.053646 | FM42: =(FK42-dr)^2-FL42^2*SIN(FD43)^2 -> 23.978035 | FN42: =(-FL42*COS(FD43)+SQRT(FM42))*SIN(FD43) -> 0.8590722 | FO42: =FI42+_xlfn.COT(FD43)*(FN42-FJ42) -> 5.2630923 | GF42: =GF41-hatm/50 -> 5.684 | GG42: =GF42-a_exisosi -> 7.684 | GH42: =c_EXISOSI+bsel*GF42 -> 0.97818182 | GI42: =GG42^2*(aell2+bell2)/(bell2*(aell2+GG42^2)) -> 0.16376775 | GJ42: =ASIN(SQRT(GI42)) -> 0.41663137 | GK42: {=(-ftoue(GJ42,mmm)-ellearx)/parbros/(Kay*bsel)*c_EXISOSI/2} -> #NAME? | GL42: =ACOS($GG42/bell) -> 1.2683903 | GM42: {=ftoue(GL42,mmm)-ellearx} -> #NAME? | GN42: =GM42/parbros/(Kay*bsel)*c_EXISOSI/2 -> #NAME? | GO42: =fia*2/(Kay*bsel)*(SQRT(1-Kay^2*(c_EXISOSI+bsel*GE42)^2)-SQRT(1-Kay^2*(c_EXISOSI+bsel*rarxiko)^2)) -> 0.13628794 | GP42: =fisosti-1/(Kay*bsel)*(SQRT(1-Kay^2*(c_EXISOSI+bsel*GF42)^2)-SQRT(1-Kay^2*(c_EXISOSI+bsel*rarxiko)^2)) -> 0.24683636 | GQ42: =GF42*SIN(GP42) -> 1.388814 | GR42: =GF42*COS(GP42) -> 5.5117195 | GS42: =2*AA*$GF42+BB -> -0.00014932114 | GT42: =SQRT(BB^2-4*AA*CC) -> 0.0030250174 | GU42: =Kay*bsel/SQRT(-AA)*ASIN((2*AA*$GF42+BB)/GT42)-_1stint -> 0.00032657126 | GV42: =1/GF42 -> 0.17593244 | GW42: =Kay*c_EXISOSI/SQRT(CC)*LN(ABS(2*SQRT(CC)*SQRT(AA+BB*GV42+CC*GV42^2)+2*CC*GV42+BB))-_2ndint -> 0.00022555877 | GX42: =fisosti-(GU42+GW42) -> 0.24948104 | GY42: =$GF42*SIN(GX42) -> 1.4033858 | GZ42: =$GF42*COS(GX42) -> 5.5080272 | HB42: =2*(1-COS(incid1))*EXP(-bsel*$HC42)/((1-COS(incid1))^2*EXP(-2*bsel*$HC42)+Kay^2 ) -> 0.9888757 | HC42: =HC41+dtt -> 0.11076 | HD42: =(HB42-c_EXISOSI)/bsel -> 5.7898694 | HE42: =HD41-HD42 -> 0.0091305779 | HF42: =HE42/dtt -> 0.98922838 | HL42: =$HD42*COS(HJ42) -> 5.7898694 | HM42: =HM41-$HC42^2*dtt/$HD42/Kay -> 0.24415735 | HN42: =$HD42*SIN(HM42) -> 1.3996358 | HO42: =$HD42*COS(HM42) -> 5.6181498 | HS42: =HS41-$HB42^2*dtt/($HD42*Kay) -> -0.15276397 | HT42: =$HD42*COS($HS42) -> 5.7224421 | HU42: =$HD42*SIN($HS42) -> -0.8810473 | HV42: =2*(1-COS(incid22))*EXP(-bsel*$HW42)/((1-COS(incid22))^2*EXP(-2*bsel*$HW42)+kay2_^2 ) -> 0.99272924 | HW42: =HW41+dtt -> 0.11076 | HX42: =(HV42-c_EXISOSI)/bsel -> 5.8280194 | IA42: =IJ41-IG42 -> 0.88386529 | IB42: =$HX42^2-(ID41-IC41*_xlfn.COT(IJ41))^2*SIN(IJ41)^2 -> 13.659966 | IC42: =(-(ID41-IC41*_xlfn.COT(IJ41))*COS(IJ41)+SQRT(IB42))*SIN(IJ41) -> 1.3591138 | ID42: =ID41+(_xlfn.COT(IJ41)*(IC42-IC41)) -> 5.6673292 | IE42: =$FC42^2-(ID41-IC41*_xlfn.COT(IJ41))^2*SIN(IJ41)^2 -> 18785.644 | IG42: =ATAN(IC42/ID42) -> 0.2353706 | IH42: =SIN(IA42)*(c_EXISOSI+bsel*($HX43))/(c_EXISOSI+bsel*$HX42) -> 0.77272334 | II42: =ASIN(IH42) -> 0.88312049 | IJ42: =II42+IG41 -> 1.1197451 | IL42: =c_EXISOSI+bsel*$FC42 -> 14.256039
A43: =A42+dtl -> 2.64 | B43: {=XtoYt($A43,Al,Vl,B$8)} -> 0.18010139 | C43: {=YtoyX(B43,Al,Vl,B$8)} -> -4.125 | D43: =D42+F$4 -> 0.028945262 | E43: =2*EXP(Vl*(D43-LN(F$8)/Vl))/(1+EXP(2*Vl*(D43-LN(F$8)/Vl))) -> 0.99842643 | F43: =IF(F$6<0,-1/(Vl*E$5)*(SIGN(SIN(F$8))*SQRT(1-E43^2)-COS(E$8)),IF(D43<F$6,-1/(Vl*E$5)*(SIGN(SIN(F$8))*SQRT(1-E43^2)-COS(E$8)),2*F$3+1/(Vl*E$5)*(SIGN(SIN(F$8))*SQRT(1-E43^2)-COS(E$8)))) -> -0.96223643 | G43: =Al*(SIGN(SIN(E$8))*SQRT(1-(Vl*SIN(E$8)*F43/Al-COS(E$8))^2)-SIN(E$8))/(Vl*SIN(E$8)) -> -0.29225124 | H43: =H42+J$4 -> 0.86110787 | I43: =2*EXP(Vl*(H43-LN(J$8)/Vl))/(1+EXP(2*Vl*(H43-LN(J$8)/Vl))) -> 0.046655752 | J43: =IF(H43<K$5,-1/(Vl*I$5)*(SIGN(SIN(J$8))*SQRT(1-I43^2)-COS(I$8)),2*J$3+1/(Vl*I$5)*(SIGN(SIN(J$8))*SQRT(1-I43^2)-COS(I$8))) -> 94.426493 | K43: =Al*(SIGN(SIN(I$8))*SQRT(1-(Vl*SIN(I$8)*J43/Al-COS(I$8))^2)-SIN(I$8))/(Vl*SIN(I$8)) -> -1.9168268 | BT43: ="a0="&BT48 -> a0=15 | BW43: ="a0="&BW48 -> a0=155 | BZ43: ="a0="&BZ48 -> a0=235 | CC43: ="a0="&CC48 -> a0=45 | CF43: ="a0="&CF48 -> a0=5 | CO43: =CO42+dt -> -0.07 | CP43: =IF(OR(CP$5<90,CP$5>270),CO43+CP$8,CO43-CP$8) -> 0.18344868 | CQ43: =2*EXP(Vl*CP43)/(1+EXP(2*Vl*CP43)) -> 0.43770917 | CR43: =CR42+dt -> -0.07 | CS43: =IF(OR(CS$5<90,CS$5>270),CR43+CS$8,CR43-CS$8) -> -0.25830678 | CT43: =2*EXP(Vl*CS43)/(1+EXP(2*Vl*CS43)) -> 0.24927065 | CU43: =CU42+dt -> -0.07 | CV43: =IF(OR(CV$5<90,CV$5>270),CU43+CV$8,CU43-CV$8) -> -0.15160457 | CW43: =2*EXP(Vl*CV43)/(1+EXP(2*Vl*CV43)) -> 0.54639387 | CX43: =CX42+dt -> -0.07 | CY43: =IF(OR(CY$5<90,CY$5>270),CX43+CY$8,CX43-CY$8) -> 0.040171698 | CZ43: =2*EXP(Vl*CY43)/(1+EXP(2*Vl*CY43)) -> 0.95049221 | DA43: =DA42+dt -> -0.07 | DB43: =IF(OR(DB$5<90,DB$5>270),DA43+DB$8,DA43-DB$8) -> 0.32141267 | DC43: =2*EXP(Vl*DB43)/(1+EXP(2*Vl*DB43)) -> 0.15198406 | DD43: =DD42+10 -> 195 | DE43: =RADIANS(DD43) -> 3.403392 | DF43: =Al/Vl*_xlfn.COT(DE43/2) -> -0.54306655 | DG43: =-Al/Vl -> -4.125 | DH43: =Al/Vl*_xlfn.COT($DE43) -> 15.39471 | DI43: =Al/Vl*(SIGN(SIN($DE43))*1/SIN($DE43)-1) -> 11.812776 | EC43: =EC42-dr -> 5.316 | EE43: =IF(EC43>rarxiko,1,IF(EC43>Rg,1-dc*(rarxiko-EC43)/hatm,0)) -> 66.537778 | EF43: =IF(EC43>Rg,1/EE43,0) -> 0.015029056 | EO43: Dim AyX As Double | EW43: =EW42+PI()/100 -> 0.87964594 | EX43: =Rg*COS(EW43) -> 3.1871199 | EY43: =Rg*SIN(EW43) -> 3.8525662 | EZ43: =rarxiko*COS(EY43) -> -4.4705888 | FA43: =rarxiko*SIN(EY43) -> -3.8501735 | FB43: {=xsel+Rs*COS(EW43)} -> 268.09874 | FC43: =ysel+Rs*SIN(EW43) -> 137.16029 | FD43: =FD42-FF42+FG42 -> 0.593447 | FE43: =ATAN(FN42/FO42) -> 0.1617989 | FF43: =FD43-FE43 -> 0.4316481 | FG43: =ASIN(SIN(FF43)*FH43) -> 0.40832169 | FH43: =IF($FK43>=rarxiko,1,IF($FK43>=Rg, c_EXISOSI+bsel*($FK43),0)) -> 0.94909091 | FI43: =FO42 -> 5.2630923 | FJ43: =FN42 -> 0.8590722 | FK43: =FK42-dr -> 5.396 | FL43: =FI43-FJ43*_xlfn.COT(FD43) -> 3.9895617 | FM43: =(FK43-dr)^2-FL43^2*SIN(FD44)^2 -> 24.286181 | FN43: =(-FL43*COS(FD44)+SQRT(FM43))*SIN(FD44) -> 0.84713611 | FO43: =FI43+_xlfn.COT(FD44)*(FN43-FJ43) -> 5.2444753 | GF43: =GF42-hatm/50 -> 5.666 | GG43: =GF43-a_exisosi -> 7.666 | GH43: =c_EXISOSI+bsel*GF43 -> 0.97636364 | GI43: =GG43^2*(aell2+bell2)/(bell2*(aell2+GG43^2)) -> 0.16306425 | GJ43: =ASIN(SQRT(GI43)) -> 0.41568004 | GK43: {=(-ftoue(GJ43,mmm)-ellearx)/parbros/(Kay*bsel)*c_EXISOSI/2} -> #NAME? | GL43: =ACOS($GG43/bell) -> 1.269121 | GM43: {=ftoue(GL43,mmm)-ellearx} -> #NAME? | GN43: =GM43/parbros/(Kay*bsel)*c_EXISOSI/2 -> #NAME? | GO43: =fia*2/(Kay*bsel)*(SQRT(1-Kay^2*(c_EXISOSI+bsel*GE43)^2)-SQRT(1-Kay^2*(c_EXISOSI+bsel*rarxiko)^2)) -> 0.13628794 | GP43: =fisosti-1/(Kay*bsel)*(SQRT(1-Kay^2*(c_EXISOSI+bsel*GF43)^2)-SQRT(1-Kay^2*(c_EXISOSI+bsel*rarxiko)^2)) -> 0.24657314 | GQ43: =GF43*SIN(GP43) -> 1.3829697 | GR43: =GF43*COS(GP43) -> 5.4946293 | GS43: =2*AA*$GF43+BB -> -0.00014923891 | GT43: =SQRT(BB^2-4*AA*CC) -> 0.0030250174 | GU43: =Kay*bsel/SQRT(-AA)*ASIN((2*AA*$GF43+BB)/GT43)-_1stint -> 0.00035378529 | GV43: =1/GF43 -> 0.17649135 | GW43: =Kay*c_EXISOSI/SQRT(CC)*LN(ABS(2*SQRT(CC)*SQRT(AA+BB*GV43+CC*GV43^2)+2*CC*GV43+BB))-_2ndint -> 0.00024474048 | GX43: =fisosti-(GU43+GW43) -> 0.24943464 | GY43: =$GF43*SIN(GX43) -> 1.3986869 | GZ43: =$GF43*COS(GX43) -> 5.4906494 | HB43: =2*(1-COS(incid1))*EXP(-bsel*$HC43)/((1-COS(incid1))^2*EXP(-2*bsel*$HC43)+Kay^2 ) -> 0.98795428 | HC43: =HC42+dtt -> 0.11999 | HD43: =(HB43-c_EXISOSI)/bsel -> 5.7807473 | HE43: =HD42-HD43 -> 0.009122072 | HF43: =HE43/dtt -> 0.98830683 | HL43: =$HD43*COS(HJ43) -> 5.7807473 | HM43: =HM42-$HC43^2*dtt/$HD43/Kay -> 0.24262086 | HN43: =$HD43*SIN(HM43) -> 1.3888104 | HO43: =$HD43*COS(HM43) -> 5.6114388 | HS43: =HS42-$HB43^2*dtt/($HD43*Kay) -> -0.25692657 | HT43: =$HD43*COS($HS43) -> 5.5909974 | HU43: =$HD43*SIN($HS43) -> -1.4689411 | HV43: =2*(1-COS(incid22))*EXP(-bsel*$HW43)/((1-COS(incid22))^2*EXP(-2*bsel*$HW43)+kay2_^2 ) -> 0.99212252 | HW43: =HW42+dtt -> 0.11999 | HX43: =(HV43-c_EXISOSI)/bsel -> 5.8220129 | IA43: =IJ42-IG43 -> 0.88563469 | IB43: =$HX43^2-(ID42-IC42*_xlfn.COT(IJ42))^2*SIN(IJ42)^2 -> 13.573029 | IC43: =(-(ID42-IC42*_xlfn.COT(IJ42))*COS(IJ42)+SQRT(IB43))*SIN(IJ42) -> 1.3505777 | ID43: =ID42+(_xlfn.COT(IJ42)*(IC43-IC42)) -> 5.6631947 | IE43: =$FC43^2-(ID42-IC42*_xlfn.COT(IJ42))^2*SIN(IJ42)^2 -> 18792.623 | IG43: =ATAN(IC43/ID43) -> 0.23411045 | IH43: =SIN(IA43)*(c_EXISOSI+bsel*($HX44))/(c_EXISOSI+bsel*$HX43) -> 0.77384316 | II43: =ASIN(IH43) -> 0.88488659 | IJ43: =II43+IG42 -> 1.1202572 | IL43: =c_EXISOSI+bsel*$FC43 -> 14.258615
A44: =A43+dtl -> 2.72 | B44: {=XtoYt($A44,Al,Vl,B$8)} -> 0.18010139 | C44: {=YtoyX(B44,Al,Vl,B$8)} -> -4.125 | D44: =D43+F$4 -> 0.029822391 | E44: =2*EXP(Vl*(D44-LN(F$8)/Vl))/(1+EXP(2*Vl*(D44-LN(F$8)/Vl))) -> 0.99800914 | F44: =IF(F$6<0,-1/(Vl*E$5)*(SIGN(SIN(F$8))*SQRT(1-E44^2)-COS(E$8)),IF(D44<F$6,-1/(Vl*E$5)*(SIGN(SIN(F$8))*SQRT(1-E44^2)-COS(E$8)),2*F$3+1/(Vl*E$5)*(SIGN(SIN(F$8))*SQRT(1-E44^2)-COS(E$8)))) -> -0.99152379 | G44: =Al*(SIGN(SIN(E$8))*SQRT(1-(Vl*SIN(E$8)*F44/Al-COS(E$8))^2)-SIN(E$8))/(Vl*SIN(E$8)) -> -0.30529604 | H44: =H43+J$4 -> 0.88720204 | I44: =2*EXP(Vl*(H44-LN(J$8)/Vl))/(1+EXP(2*Vl*(H44-LN(J$8)/Vl))) -> 0.037872629 | J44: =IF(H44<K$5,-1/(Vl*I$5)*(SIGN(SIN(J$8))*SQRT(1-I44^2)-COS(I$8)),2*J$3+1/(Vl*I$5)*(SIGN(SIN(J$8))*SQRT(1-I44^2)-COS(I$8))) -> 94.444078 | K44: =Al*(SIGN(SIN(I$8))*SQRT(1-(Vl*SIN(I$8)*J44/Al-COS(I$8))^2)-SIN(I$8))/(Vl*SIN(I$8)) -> -2.3325238 | BT44: =VLOOKUP(1,BS50:BU80,2,BS52) -> 1.9775848e-16 | BU44: =BU50 -> 0.25881905 | BW44: =VLOOKUP(1,BV50:BX80,2,BV52) -> 0.19 | BX44: =MAX(BX50:BX80) -> 0.99990826 | BZ44: =VLOOKUP(1,BY50:CA80,2,BY52) -> 0.08 | CA44: =MAX(CA50:CA80) -> 0.99991762 | CC44: 0 | CD44: =MAX(CD50:CD80) -> 0.70710678 | CF44: =VLOOKUP(1,CE50:CG80,2,CE52) -> 1.9775848e-16 | CG44: =MAX(CG50:CG80) -> 0.087155743 | CO44: =CO43+dt -> -0.06 | CP44: =IF(OR(CP$5<90,CP$5>270),CO44+CP$8,CO44-CP$8) -> 0.19344868 | CQ44: =2*EXP(Vl*CP44)/(1+EXP(2*Vl*CP44)) -> 0.40709263 | CR44: =CR43+dt -> -0.06 | CS44: =IF(OR(CS$5<90,CS$5>270),CR44+CS$8,CR44-CS$8) -> -0.24830678 | CT44: =2*EXP(Vl*CS44)/(1+EXP(2*Vl*CS44)) -> 0.26929421 | CU44: =CU43+dt -> -0.06 | CV44: =IF(OR(CV$5<90,CV$5>270),CU44+CV$8,CU44-CV$8) -> -0.14160457 | CW44: =2*EXP(Vl*CV44)/(1+EXP(2*Vl*CV44)) -> 0.58367434 | CX44: =CX43+dt -> -0.06 | CY44: =IF(OR(CY$5<90,CY$5>270),CX44+CY$8,CX44-CY$8) -> 0.050171698 | CZ44: =2*EXP(Vl*CY44)/(1+EXP(2*Vl*CY44)) -> 0.92452408 | DA44: =DA43+dt -> -0.06 | DB44: =IF(OR(DB$5<90,DB$5>270),DA44+DB$8,DA44-DB$8) -> 0.33141267 | DC44: =2*EXP(Vl*DB44)/(1+EXP(2*Vl*DB44)) -> 0.14041957 | DD44: =DD43+10 -> 205 | DE44: =RADIANS(DD44) -> 3.577925 | DF44: =Al/Vl*_xlfn.COT(DE44/2) -> -0.91449048 | DG44: =-Al/Vl -> -4.125 | DH44: =Al/Vl*_xlfn.COT($DE44) -> 8.846091 | DI44: =Al/Vl*(SIGN(SIN($DE44))*1/SIN($DE44)-1) -> 5.6355815 | EC44: =EC43-dr -> 5.298 | EE44: =IF(EC44>rarxiko,1,IF(EC44>Rg,1-dc*(rarxiko-EC44)/hatm,0)) -> 68.557778 | EF44: =IF(EC44>Rg,1/EE44,0) -> 0.014586237 | EO44: If r >= RG Then | EW44: =EW43+PI()/100 -> 0.91106187 | EX44: =Rg*COS(EW44) -> 3.0645353 | EY44: =Rg*SIN(EW44) -> 3.9507751 | EZ44: =rarxiko*COS(EY44) -> -4.0715332 | FA44: =rarxiko*SIN(EY44) -> -4.2699669 | FB44: {=xsel+Rs*COS(EW44)} -> 268.06809 | FC44: =ysel+Rs*SIN(EW44) -> 137.18484 | FD44: =FD43-FF43+FG43 -> 0.57012059 | FE44: =ATAN(FN43/FO43) -> 0.16014597 | FF44: =FD44-FE44 -> 0.40997462 | FG44: =ASIN(SIN(FF44)*FH44) -> 0.38717031 | FH44: =IF($FK44>=rarxiko,1,IF($FK44>=Rg, c_EXISOSI+bsel*($FK44),0)) -> 0.94727273 | FI44: =FO43 -> 5.2444753 | FJ44: =FN43 -> 0.84713611 | FK44: =FK43-dr -> 5.378 | FL44: =FI44-FJ44*_xlfn.COT(FD44) -> 3.923176 | FM44: =(FK44-dr)^2-FL44^2*SIN(FD45)^2 -> 24.561426 | FN44: =(-FL44*COS(FD45)+SQRT(FM44))*SIN(FD45) -> 0.83568209 | FO44: =FI44+_xlfn.COT(FD45)*(FN44-FJ44) -> 5.2256803 | GF44: =GF43-hatm/50 -> 5.648 | GG44: =GF44-a_exisosi -> 7.648 | GH44: =c_EXISOSI+bsel*GF44 -> 0.97454545 | GI44: =GG44^2*(aell2+bell2)/(bell2*(aell2+GG44^2)) -> 0.16236186 | GJ44: =ASIN(SQRT(GI44)) -> 0.41472855 | GK44: {=(-ftoue(GJ44,mmm)-ellearx)/parbros/(Kay*bsel)*c_EXISOSI/2} -> #NAME? | GL44: =ACOS($GG44/bell) -> 1.2698516 | GM44: {=ftoue(GL44,mmm)-ellearx} -> #NAME? | GN44: =GM44/parbros/(Kay*bsel)*c_EXISOSI/2 -> #NAME? | GO44: =fia*2/(Kay*bsel)*(SQRT(1-Kay^2*(c_EXISOSI+bsel*GE44)^2)-SQRT(1-Kay^2*(c_EXISOSI+bsel*rarxiko)^2)) -> 0.13628794 | GP44: =fisosti-1/(Kay*bsel)*(SQRT(1-Kay^2*(c_EXISOSI+bsel*GF44)^2)-SQRT(1-Kay^2*(c_EXISOSI+bsel*rarxiko)^2)) -> 0.24631041 | GQ44: =GF44*SIN(GP44) -> 1.3771371 | GR44: =GF44*COS(GP44) -> 5.4775357 | GS44: =2*AA*$GF44+BB -> -0.00014915669 | GT44: =SQRT(BB^2-4*AA*CC) -> 0.0030250174 | GU44: =Kay*bsel/SQRT(-AA)*ASIN((2*AA*$GF44+BB)/GT44)-_1stint -> 0.00038099929 | GV44: =1/GF44 -> 0.17705382 | GW44: =Kay*c_EXISOSI/SQRT(CC)*LN(ABS(2*SQRT(CC)*SQRT(AA+BB*GV44+CC*GV44^2)+2*CC*GV44+BB))-_2ndint -> 0.00026398321 | GX44: =fisosti-(GU44+GW44) -> 0.24938819 | GY44: =$GF44*SIN(GX44) -> 1.3939892 | GZ44: =$GF44*COS(GX44) -> 5.4732712 | HB44: =2*(1-COS(incid1))*EXP(-bsel*$HC44)/((1-COS(incid1))^2*EXP(-2*bsel*$HC44)+Kay^2 ) -> 0.98703371 | HC44: =HC43+dtt -> 0.12922 | HD44: =(HB44-c_EXISOSI)/bsel -> 5.7716338 | HE44: =HD43-HD44 -> 0.0091135741 | HF44: =HE44/dtt -> 0.98738614 | HL44: =$HD44*COS(HJ44) -> 5.7716338 | HM44: =HM43-$HC44^2*dtt/$HD44/Kay -> 0.24083609 | HN44: =$HD44*SIN(HM44) -> 1.3766193 | HO44: =$HD44*COS(HM44) -> 5.605058 | HS44: =HS43-$HB44^2*dtt/($HD44*Kay) -> -0.36105931 | HT44: =IF(HU44>Rg,HT43,$HD44*COS($HS44)) -> 5.3994969 | HU44: =$HD44*SIN($HS44) -> -2.0389187 | HV44: =2*(1-COS(incid22))*EXP(-bsel*$HW44)/((1-COS(incid22))^2*EXP(-2*bsel*$HW44)+kay2_^2 ) -> 0.99151568 | HW44: =HW43+dtt -> 0.12922 | HX44: =(HV44-c_EXISOSI)/bsel -> 5.8160052 | IA44: =IJ43-IG44 -> 0.887413 | IB44: =$HX44^2-(ID43-IC43*_xlfn.COT(IJ43))^2*SIN(IJ43)^2 -> 13.486105 | IC44: =(-(ID43-IC43*_xlfn.COT(IJ43))*COS(IJ43)+SQRT(IB44))*SIN(IJ43) -> 1.3420193 | ID44: =ID43+(_xlfn.COT(IJ43)*(IC44-IC43)) -> 5.6590548 | IE44: =$FC44^2-(ID43-IC43*_xlfn.COT(IJ43))^2*SIN(IJ43)^2 -> 18799.342 | IG44: =ATAN(IC44/ID44) -> 0.23284418 | IH44: =SIN(IA44)*(c_EXISOSI+bsel*($HX45))/(c_EXISOSI+bsel*$HX44) -> 0.77496618 | II44: =ASIN(IH44) -> 0.88666157 | IJ44: =II44+IG43 -> 1.120772 | IL44: =c_EXISOSI+bsel*$FC44 -> 14.261095
A45: =A44+dtl -> 2.8 | B45: {=XtoYt($A45,Al,Vl,B$8)} -> 0.18010139 | C45: {=YtoyX(B45,Al,Vl,B$8)} -> -4.125 | D45: =D44+F$4 -> 0.03069952 | E45: =2*EXP(Vl*(D45-LN(F$8)/Vl))/(1+EXP(2*Vl*(D45-LN(F$8)/Vl))) -> 0.9975431 | F45: =IF(F$6<0,-1/(Vl*E$5)*(SIGN(SIN(F$8))*SQRT(1-E45^2)-COS(E$8)),IF(D45<F$6,-1/(Vl*E$5)*(SIGN(SIN(F$8))*SQRT(1-E45^2)-COS(E$8)),2*F$3+1/(Vl*E$5)*(SIGN(SIN(F$8))*SQRT(1-E45^2)-COS(E$8)))) -> -1.0207852 | G45: =Al*(SIGN(SIN(E$8))*SQRT(1-(Vl*SIN(E$8)*F45/Al-COS(E$8))^2)-SIN(E$8))/(Vl*SIN(E$8)) -> -0.31859898 | H45: =H44+J$4 -> 0.91329622 | I45: =2*EXP(Vl*(H45-LN(J$8)/Vl))/(1+EXP(2*Vl*(H45-LN(J$8)/Vl))) -> 0.030741013 | J45: =IF(H45<K$5,-1/(Vl*I$5)*(SIGN(SIN(J$8))*SQRT(1-I45^2)-COS(I$8)),2*J$3+1/(Vl*I$5)*(SIGN(SIN(J$8))*SQRT(1-I45^2)-COS(I$8))) -> 94.455664 | K45: =Al*(SIGN(SIN(I$8))*SQRT(1-(Vl*SIN(I$8)*J45/Al-COS(I$8))^2)-SIN(I$8))/(Vl*SIN(I$8)) -> -2.6700565 | BT45: 0.2 | BU45: 0 | BW45: =BW44 -> 0.19 | BX45: =BX44 -> 0.99990826 | BZ45: =BZ44 -> 0.08 | CA45: 0 | CC45: 0.3 | CD45: 0 | CF45: 0.5 | CG45: 0 | CO45: =CO44+dt -> -0.05 | CP45: =IF(OR(CP$5<90,CP$5>270),CO45+CP$8,CO45-CP$8) -> 0.20344868 | CQ45: =2*EXP(Vl*CP45)/(1+EXP(2*Vl*CP45)) -> 0.37821563 | CR45: =CR44+dt -> -0.05 | CS45: =IF(OR(CS$5<90,CS$5>270),CR45+CS$8,CR45-CS$8) -> -0.23830678 | CT45: =2*EXP(Vl*CS45)/(1+EXP(2*Vl*CS45)) -> 0.29079097 | CU45: =CU44+dt -> -0.05 | CV45: =IF(OR(CV$5<90,CV$5>270),CU45+CV$8,CU45-CV$8) -> -0.13160457 | CW45: =2*EXP(Vl*CV45)/(1+EXP(2*Vl*CV45)) -> 0.62213911 | CX45: =CX44+dt -> -0.05 | CY45: =IF(OR(CY$5<90,CY$5>270),CX45+CY$8,CX45-CY$8) -> 0.060171698 | CZ45: =2*EXP(Vl*CY45)/(1+EXP(2*Vl*CY45)) -> 0.89436248 | DA45: =DA44+dt -> -0.05 | DB45: =IF(OR(DB$5<90,DB$5>270),DA45+DB$8,DA45-DB$8) -> 0.34141267 | DC45: =2*EXP(Vl*DB45)/(1+EXP(2*Vl*DB45)) -> 0.12971861 | DD45: =DD44+10 -> 215 | DE45: =RADIANS(DD45) -> 3.7524579 | DF45: =Al/Vl*_xlfn.COT(DE45/2) -> -1.3006075 | DG45: =-Al/Vl -> -4.125 | DH45: =Al/Vl*_xlfn.COT($DE45) -> 5.8911105 | DI45: =Al/Vl*(SIGN(SIN($DE45))*1/SIN($DE45)-1) -> 3.066718 | EC45: =EC44-dr -> 5.28 | EE45: =IF(EC45>rarxiko,1,IF(EC45>Rg,1-dc*(rarxiko-EC45)/hatm,0)) -> 70.577778 | EF45: =IF(EC45>Rg,1/EE45,0) -> 0.014168766 | EO45: c1 = taXYtis(r - dr): c2 = taXYtis(r) 'ταχύτητα c1 πιο κοντά κατά dr, ταχύτητα c2 πιο έξω | EW45: =EW44+PI()/100 -> 0.9424778 | EX45: =Rg*COS(EW45) -> 2.9389263 | EY45: =Rg*SIN(EW45) -> 4.045085 | EZ45: =rarxiko*COS(EY45) -> -3.6513363 | FA45: =rarxiko*SIN(EY45) -> -4.6344086 | FB45: {=xsel+Rs*COS(EW45)} -> 268.03669 | FC45: =ysel+Rs*SIN(EW45) -> 137.20842 | FD45: =FD44-FF44+FG44 -> 0.54731629 | FE45: =ATAN(FN44/FO44) -> 0.15857563 | FF45: =FD45-FE45 -> 0.38874065 | FG45: =ASIN(SIN(FF45)*FH45) -> 0.3664992 | FH45: =IF($FK45>=rarxiko,1,IF($FK45>=Rg, c_EXISOSI+bsel*($FK45),0)) -> 0.94545455 | FI45: =FO44 -> 5.2256803 | FJ45: =FN44 -> 0.83568209 | FK45: =FK44-dr -> 5.36 | FL45: =FI45-FJ45*_xlfn.COT(FD45) -> 3.854403 | FM45: =(FK45-dr)^2-FL45^2*SIN(FD46)^2 -> 24.803851 | FN45: =(-FL45*COS(FD46)+SQRT(FM45))*SIN(FD46) -> 0.82469408 | FO45: =FI45+_xlfn.COT(FD46)*(FN45-FJ45) -> 5.2067132 | GF45: =GF44-hatm/50 -> 5.63 | GG45: =GF45-a_exisosi -> 7.63 | GH45: =c_EXISOSI+bsel*GF45 -> 0.97272727 | GI45: =GG45^2*(aell2+bell2)/(bell2*(aell2+GG45^2)) -> 0.16166058 | GJ45: =ASIN(SQRT(GI45)) -> 0.41377692 | GK45: {=(-ftoue(GJ45,mmm)-ellearx)/parbros/(Kay*bsel)*c_EXISOSI/2} -> #NAME? | GL45: =ACOS($GG45/bell) -> 1.270582 | GM45: {=ftoue(GL45,mmm)-ellearx} -> #NAME? | GN45: =GM45/parbros/(Kay*bsel)*c_EXISOSI/2 -> #NAME? | GO45: =fia*2/(Kay*bsel)*(SQRT(1-Kay^2*(c_EXISOSI+bsel*GE45)^2)-SQRT(1-Kay^2*(c_EXISOSI+bsel*rarxiko)^2)) -> 0.13628794 | GP45: =fisosti-1/(Kay*bsel)*(SQRT(1-Kay^2*(c_EXISOSI+bsel*GF45)^2)-SQRT(1-Kay^2*(c_EXISOSI+bsel*rarxiko)^2)) -> 0.24604817 | GQ45: =GF45*SIN(GP45) -> 1.3713164 | GR45: =GF45*COS(GP45) -> 5.4604388 | GS45: =2*AA*$GF45+BB -> -0.00014907447 | GT45: =SQRT(BB^2-4*AA*CC) -> 0.0030250174 | GU45: =Kay*bsel/SQRT(-AA)*ASIN((2*AA*$GF45+BB)/GT45)-_1stint -> 0.00040821325 | GV45: =1/GF45 -> 0.17761989 | GW45: =Kay*c_EXISOSI/SQRT(CC)*LN(ABS(2*SQRT(CC)*SQRT(AA+BB*GV45+CC*GV45^2)+2*CC*GV45+BB))-_2ndint -> 0.00028328733 | GX45: =fisosti-(GU45+GW45) -> 0.24934167 | GY45: =$GF45*SIN(GX45) -> 1.3892928 | GZ45: =$GF45*COS(GX45) -> 5.4558927 | HB45: =2*(1-COS(incid1))*EXP(-bsel*$HC45)/((1-COS(incid1))^2*EXP(-2*bsel*$HC45)+Kay^2 ) -> 0.98611401 | HC45: =HC44+dtt -> 0.13845 | HD45: =(HB45-c_EXISOSI)/bsel -> 5.7625287 | HE45: =HD44-HD45 -> 0.009105084 | HF45: =HE45/dtt -> 0.98646631 | HL45: =$HD45*COS(HJ45) -> 5.7625287 | HM45: =HM44-$HC45^2*dtt/$HD45/Kay -> 0.23878401 | HN45: =$HD45*SIN(HM45) -> 1.3629608 | HO45: =$HD45*COS(HM45) -> 5.5990244 | HS45: =HS44-$HB45^2*dtt/($HD45*Kay) -> -0.46516231 | HT45: =IF(HU45>Rg,HT44,$HD45*COS($HS45)) -> 5.1502529 | HU45: =$HD45*SIN($HS45) -> -2.5848852 | HV45: =2*(1-COS(incid22))*EXP(-bsel*$HW45)/((1-COS(incid22))^2*EXP(-2*bsel*$HW45)+kay2_^2 ) -> 0.99090873 | HW45: =HW44+dtt -> 0.13845 | HX45: =(HV45-c_EXISOSI)/bsel -> 5.8099964 | IA45: =IJ44-IG45 -> 0.8892003 | IB45: =$HX45^2-(ID44-IC44*_xlfn.COT(IJ44))^2*SIN(IJ44)^2 -> 13.399193 | IC45: =(-(ID44-IC44*_xlfn.COT(IJ44))*COS(IJ44)+SQRT(IB45))*SIN(IJ44) -> 1.3334382 | ID45: =ID44+(_xlfn.COT(IJ44)*(IC45-IC44)) -> 5.6549094 | IE45: =$FC45^2-(ID44-IC44*_xlfn.COT(IJ44))^2*SIN(IJ44)^2 -> 18805.794 | IG45: =ATAN(IC45/ID45) -> 0.23157172 | IH45: =SIN(IA45)*(c_EXISOSI+bsel*($HX46))/(c_EXISOSI+bsel*$HX45) -> 0.7760924 | II45: =ASIN(IH45) -> 0.88844552 | IJ45: =II45+IG44 -> 1.1212897 | IL45: =c_EXISOSI+bsel*$FC45 -> 14.263477
A46: =A45+dtl -> 2.88 | B46: {=XtoYt($A46,Al,Vl,B$8)} -> 0.18010139 | C46: {=YtoyX(B46,Al,Vl,B$8)} -> -4.125 | D46: =D45+F$4 -> 0.031576649 | E46: =2*EXP(Vl*(D46-LN(F$8)/Vl))/(1+EXP(2*Vl*(D46-LN(F$8)/Vl))) -> 0.99702843 | F46: =IF(F$6<0,-1/(Vl*E$5)*(SIGN(SIN(F$8))*SQRT(1-E46^2)-COS(E$8)),IF(D46<F$6,-1/(Vl*E$5)*(SIGN(SIN(F$8))*SQRT(1-E46^2)-COS(E$8)),2*F$3+1/(Vl*E$5)*(SIGN(SIN(F$8))*SQRT(1-E46^2)-COS(E$8)))) -> -1.0500179 | G46: =Al*(SIGN(SIN(E$8))*SQRT(1-(Vl*SIN(E$8)*F46/Al-COS(E$8))^2)-SIN(E$8))/(Vl*SIN(E$8)) -> -0.33216085 | H46: =H45+J$4 -> 0.9393904 | I46: =2*EXP(Vl*(H46-LN(J$8)/Vl))/(1+EXP(2*Vl*(H46-LN(J$8)/Vl))) -> 0.024951275 | J46: =IF(H46<K$5,-1/(Vl*I$5)*(SIGN(SIN(J$8))*SQRT(1-I46^2)-COS(I$8)),2*J$3+1/(Vl*I$5)*(SIGN(SIN(J$8))*SQRT(1-I46^2)-COS(I$8))) -> 94.463298 | K46: =Al*(SIGN(SIN(I$8))*SQRT(1-(Vl*SIN(I$8)*J46/Al-COS(I$8))^2)-SIN(I$8))/(Vl*SIN(I$8)) -> -2.9440794 | CO46: =CO45+dt -> -0.04 | CP46: =IF(OR(CP$5<90,CP$5>270),CO46+CP$8,CO46-CP$8) -> 0.21344868 | CQ46: =2*EXP(Vl*CP46)/(1+EXP(2*Vl*CP46)) -> 0.35106493 | CR46: =CR45+dt -> -0.04 | CS46: =IF(OR(CS$5<90,CS$5>270),CR46+CS$8,CR46-CS$8) -> -0.22830678 | CT46: =2*EXP(Vl*CS46)/(1+EXP(2*Vl*CS46)) -> 0.31383353 | CU46: =CU45+dt -> -0.04 | CV46: =IF(OR(CV$5<90,CV$5>270),CU46+CV$8,CU46-CV$8) -> -0.12160457 | CW46: =2*EXP(Vl*CV46)/(1+EXP(2*Vl*CV46)) -> 0.66149661 | CX46: =CX45+dt -> -0.04 | CY46: =IF(OR(CY$5<90,CY$5>270),CX46+CY$8,CX46-CY$8) -> 0.070171698 | CZ46: =2*EXP(Vl*CY46)/(1+EXP(2*Vl*CY46)) -> 0.86076896 | DA46: =DA45+dt -> -0.04 | DB46: =IF(OR(DB$5<90,DB$5>270),DA46+DB$8,DA46-DB$8) -> 0.35141267 | DC46: =2*EXP(Vl*DB46)/(1+EXP(2*Vl*DB46)) -> 0.11982022 | DD46: =DD45+10 -> 225 | DE46: =RADIANS(DD46) -> 3.9269908 | DF46: =Al/Vl*_xlfn.COT(DE46/2) -> -1.7086309 | DG46: =-Al/Vl -> -4.125 | DH46: =Al/Vl*_xlfn.COT($DE46) -> 4.125 | DI46: =Al/Vl*(SIGN(SIN($DE46))*1/SIN($DE46)-1) -> 1.7086309 | EC46: =EC45-dr -> 5.262 | EE46: =IF(EC46>rarxiko,1,IF(EC46>Rg,1-dc*(rarxiko-EC46)/hatm,0)) -> 72.597778 | EF46: =IF(EC46>Rg,1/EE46,0) -> 0.013774526 | EO46: thetad = Asin(Sin(prosptoseos) * CDbl(c1 / c2)) 'χρησιμοποιώ τη συνάρτηση taXYtis για να υπολογίσω την ταχύτητα σε ακτίνα r | EW46: =EW45+PI()/100 -> 0.97389372 | EX46: =Rg*COS(EW46) -> 2.8104169 | EY46: =Rg*SIN(EW46) -> 4.1354029 | EZ46: =rarxiko*COS(EY46) -> -3.2184526 | FA46: =rarxiko*SIN(EY46) -> -4.9448521 | FB46: {=xsel+Rs*COS(EW46)} -> 268.00456 | FC46: =ysel+Rs*SIN(EW46) -> 137.231 | FD46: =FD45-FF45+FG45 -> 0.52507483 | FE46: =ATAN(FN45/FO45) -> 0.15708558 | FF46: =FD46-FE46 -> 0.36798926 | FG46: =ASIN(SIN(FF46)*FH46) -> 0.34634676 | FH46: =IF($FK46>=rarxiko,1,IF($FK46>=Rg, c_EXISOSI+bsel*($FK46),0)) -> 0.94363636 | FI46: =FO45 -> 5.2067132 | FJ46: =FN45 -> 0.82469408 | FK46: =FK45-dr -> 5.342 | FL46: =FI46-FJ46*_xlfn.COT(FD46) -> 3.7831579 | FM46: =(FK46-dr)^2-FL46^2*SIN(FD47)^2 -> 25.013886 | FN46: =(-FL46*COS(FD47)+SQRT(FM46))*SIN(FD47) -> 0.81415705 | FO46: =FI46+_xlfn.COT(FD47)*(FN46-FJ46) -> 5.1875817 | GF46: =GF45-hatm/50 -> 5.612 | GG46: =GF46-a_exisosi -> 7.612 | GH46: =c_EXISOSI+bsel*GF46 -> 0.97090909 | GI46: =GG46^2*(aell2+bell2)/(bell2*(aell2+GG46^2)) -> 0.16096041 | GJ46: =ASIN(SQRT(GI46)) -> 0.41282513 | GK46: {=(-ftoue(GJ46,mmm)-ellearx)/parbros/(Kay*bsel)*c_EXISOSI/2} -> #NAME? | GL46: =ACOS($GG46/bell) -> 1.2713122 | GM46: {=ftoue(GL46,mmm)-ellearx} -> #NAME? | GN46: =GM46/parbros/(Kay*bsel)*c_EXISOSI/2 -> #NAME? | GO46: =fia*2/(Kay*bsel)*(SQRT(1-Kay^2*(c_EXISOSI+bsel*GE46)^2)-SQRT(1-Kay^2*(c_EXISOSI+bsel*rarxiko)^2)) -> 0.13628794 | GP46: =fisosti-1/(Kay*bsel)*(SQRT(1-Kay^2*(c_EXISOSI+bsel*GF46)^2)-SQRT(1-Kay^2*(c_EXISOSI+bsel*rarxiko)^2)) -> 0.24578643 | GQ46: =GF46*SIN(GP46) -> 1.3655073 | GR46: =GF46*COS(GP46) -> 5.4433385 | GS46: =2*AA*$GF46+BB -> -0.00014899225 | GT46: =SQRT(BB^2-4*AA*CC) -> 0.0030250174 | GU46: =Kay*bsel/SQRT(-AA)*ASIN((2*AA*$GF46+BB)/GT46)-_1stint -> 0.00043542717 | GV46: =1/GF46 -> 0.17818959 | GW46: =Kay*c_EXISOSI/SQRT(CC)*LN(ABS(2*SQRT(CC)*SQRT(AA+BB*GV46+CC*GV46^2)+2*CC*GV46+BB))-_2ndint -> 0.00030265324 | GX46: =fisosti-(GU46+GW46) -> 0.24929509 | GY46: =$GF46*SIN(GX46) -> 1.3845977 | GZ46: =$GF46*COS(GX46) -> 5.4385139 | HB46: =2*(1-COS(incid1))*EXP(-bsel*$HC46)/((1-COS(incid1))^2*EXP(-2*bsel*$HC46)+Kay^2 ) -> 0.98519516 | HC46: =HC45+dtt -> 0.14768 | HD46: =(HB46-c_EXISOSI)/bsel -> 5.7534321 | HE46: =HD45-HD46 -> 0.0090966018 | HF46: =HE46/dtt -> 0.98554733 | HL46: =$HD46*COS(HJ46) -> 5.7534321 | HM46: =HM45-$HC46^2*dtt/$HD46/Kay -> 0.2364455 | HN46: =$HD46*SIN(HM46) -> 1.3477329 | HO46: =$HD46*COS(HM46) -> 5.5933529 | HS46: =HS45-$HB46^2*dtt/($HD46*Kay) -> -0.56923569 | HT46: =IF(HU46>Rg,HT45,$HD46*COS($HS46)) -> 4.8461916 | HU46: =$HD46*SIN($HS46) -> -3.1010332 | HV46: =2*(1-COS(incid22))*EXP(-bsel*$HW46)/((1-COS(incid22))^2*EXP(-2*bsel*$HW46)+kay2_^2 ) -> 0.99030165 | HW46: =HW45+dtt -> 0.14768 | HX46: =(HV46-c_EXISOSI)/bsel -> 5.8039864 | IA46: =IJ45-IG46 -> 0.89099668 | IB46: =$HX46^2-(ID45-IC45*_xlfn.COT(IJ45))^2*SIN(IJ45)^2 -> 13.312296 | IC46: =(-(ID45-IC45*_xlfn.COT(IJ45))*COS(IJ45)+SQRT(IB46))*SIN(IJ45) -> 1.3248343 | ID46: =ID45+(_xlfn.COT(IJ45)*(IC46-IC45)) -> 5.6507585 | IE46: =$FC46^2-(ID45-IC45*_xlfn.COT(IJ45))^2*SIN(IJ45)^2 -> 18811.974 | IG46: =ATAN(IC46/ID46) -> 0.23029302 | IH46: =SIN(IA46)*(c_EXISOSI+bsel*($HX47))/(c_EXISOSI+bsel*$HX46) -> 0.77722185 | II46: =ASIN(IH46) -> 0.89023851 | IJ46: =II46+IG45 -> 1.1218102 | IL46: =c_EXISOSI+bsel*$FC46 -> 14.265758
A47: =A46+dtl -> 2.96 | B47: {=XtoYt($A47,Al,Vl,B$8)} -> 0.18010139 | C47: {=YtoyX(B47,Al,Vl,B$8)} -> -4.125 | D47: =D46+F$4 -> 0.032453778 | E47: =2*EXP(Vl*(D47-LN(F$8)/Vl))/(1+EXP(2*Vl*(D47-LN(F$8)/Vl))) -> 0.99646525 | F47: =IF(F$6<0,-1/(Vl*E$5)*(SIGN(SIN(F$8))*SQRT(1-E47^2)-COS(E$8)),IF(D47<F$6,-1/(Vl*E$5)*(SIGN(SIN(F$8))*SQRT(1-E47^2)-COS(E$8)),2*F$3+1/(Vl*E$5)*(SIGN(SIN(F$8))*SQRT(1-E47^2)-COS(E$8)))) -> -1.079219 | G47: =Al*(SIGN(SIN(E$8))*SQRT(1-(Vl*SIN(E$8)*F47/Al-COS(E$8))^2)-SIN(E$8))/(Vl*SIN(E$8)) -> -0.34598241 | H47: =H46+J$4 -> 0.96548458 | I47: =2*EXP(Vl*(H47-LN(J$8)/Vl))/(1+EXP(2*Vl*(H47-LN(J$8)/Vl))) -> 0.020251414 | J47: =IF(H47<K$5,-1/(Vl*I$5)*(SIGN(SIN(J$8))*SQRT(1-I47^2)-COS(I$8)),2*J$3+1/(Vl*I$5)*(SIGN(SIN(J$8))*SQRT(1-I47^2)-COS(I$8))) -> 94.468327 | K47: =Al*(SIGN(SIN(I$8))*SQRT(1-(Vl*SIN(I$8)*J47/Al-COS(I$8))^2)-SIN(I$8))/(Vl*SIN(I$8)) -> -3.1665195 | CO47: =CO46+dt -> -0.03 | CP47: =IF(OR(CP$5<90,CP$5>270),CO47+CP$8,CO47-CP$8) -> 0.22344868 | CQ47: =2*EXP(Vl*CP47)/(1+EXP(2*Vl*CP47)) -> 0.32560589 | CR47: =CR46+dt -> -0.03 | CS47: =IF(OR(CS$5<90,CS$5>270),CR47+CS$8,CR47-CS$8) -> -0.21830678 | CT47: =2*EXP(Vl*CS47)/(1+EXP(2*Vl*CS47)) -> 0.3384882 | CU47: =CU46+dt -> -0.03 | CV47: =IF(OR(CV$5<90,CV$5>270),CU47+CV$8,CU47-CV$8) -> -0.11160457 | CW47: =2*EXP(Vl*CV47)/(1+EXP(2*Vl*CV47)) -> 0.70137553 | CX47: =CX46+dt -> -0.03 | CY47: =IF(OR(CY$5<90,CY$5>270),CX47+CY$8,CX47-CY$8) -> 0.080171698 | CZ47: =2*EXP(Vl*CY47)/(1+EXP(2*Vl*CY47)) -> 0.82451912 | DA47: =DA46+dt -> -0.03 | DB47: =IF(OR(DB$5<90,DB$5>270),DA47+DB$8,DA47-DB$8) -> 0.36141267 | DC47: =2*EXP(Vl*DB47)/(1+EXP(2*Vl*DB47)) -> 0.11066694 | DD47: =DD46+10 -> 235 | DE47: =RADIANS(DD47) -> 4.1015237 | DF47: =Al/Vl*_xlfn.COT(DE47/2) -> -2.1473391 | DG47: =-Al/Vl -> -4.125 | DH47: =Al/Vl*_xlfn.COT($DE47) -> 2.8883561 | DI47: =Al/Vl*(SIGN(SIN($DE47))*1/SIN($DE47)-1) -> 0.91069518 | EC47: =EC46-dr -> 5.244 | EE47: =IF(EC47>rarxiko,1,IF(EC47>Rg,1-dc*(rarxiko-EC47)/hatm,0)) -> 74.617778 | EF47: =IF(EC47>Rg,1/EE47,0) -> 0.013401632 | EO47: Else | EW47: =EW46+PI()/100 -> 1.0053096 | EX47: =Rg*COS(EW47) -> 2.679134 | EY47: =Rg*SIN(EW47) -> 4.2216396 | EZ47: =rarxiko*COS(EY47) -> -2.7805929 | FA47: =rarxiko*SIN(EY47) -> -5.2036817 | FB47: {=xsel+Rs*COS(EW47)} -> 267.97174 | FC47: =ysel+Rs*SIN(EW47) -> 137.25256 | FD47: =FD46-FF46+FG46 -> 0.50343234 | FE47: =ATAN(FN46/FO46) -> 0.15567361 | FF47: =FD47-FE47 -> 0.34775873 | FG47: =ASIN(SIN(FF47)*FH47) -> 0.32674684 | FH47: =IF($FK47>=rarxiko,1,IF($FK47>=Rg, c_EXISOSI+bsel*($FK47),0)) -> 0.94181818 | FI47: =FO46 -> 5.1875817 | FJ47: =FN46 -> 0.81415705 | FK47: =FK46-dr -> 5.324 | FL47: =FI47-FJ47*_xlfn.COT(FD47) -> 3.7093592 | FM47: =(FK47-dr)^2-FL47^2*SIN(FD48)^2 -> 25.192265 | FN47: =(-FL47*COS(FD48)+SQRT(FM47))*SIN(FD48) -> 0.80405699 | FO47: =FI47+_xlfn.COT(FD48)*(FN47-FJ47) -> 5.1682954 | GF47: =GF46-hatm/50 -> 5.594 | GG47: =GF47-a_exisosi -> 7.594 | GH47: =c_EXISOSI+bsel*GF47 -> 0.96909091 | GI47: =GG47^2*(aell2+bell2)/(bell2*(aell2+GG47^2)) -> 0.16026137 | GJ47: =ASIN(SQRT(GI47)) -> 0.4118732 | GK47: {=(-ftoue(GJ47,mmm)-ellearx)/parbros/(Kay*bsel)*c_EXISOSI/2} -> #NAME? | GL47: =ACOS($GG47/bell) -> 1.2720423 | GM47: {=ftoue(GL47,mmm)-ellearx} -> #NAME? | GN47: =GM47/parbros/(Kay*bsel)*c_EXISOSI/2 -> #NAME? | GO47: =fia*2/(Kay*bsel)*(SQRT(1-Kay^2*(c_EXISOSI+bsel*GE47)^2)-SQRT(1-Kay^2*(c_EXISOSI+bsel*rarxiko)^2)) -> 0.13628794 | GP47: =fisosti-1/(Kay*bsel)*(SQRT(1-Kay^2*(c_EXISOSI+bsel*GF47)^2)-SQRT(1-Kay^2*(c_EXISOSI+bsel*rarxiko)^2)) -> 0.24552517 | GQ47: =GF47*SIN(GP47) -> 1.35971 | GR47: =GF47*COS(GP47) -> 5.4262349 | GS47: =2*AA*$GF47+BB -> -0.00014891002 | GT47: =SQRT(BB^2-4*AA*CC) -> 0.0030250174 | GU47: =Kay*bsel/SQRT(-AA)*ASIN((2*AA*$GF47+BB)/GT47)-_1stint -> 0.00046264106 | GV47: =1/GF47 -> 0.17876296 | GW47: =Kay*c_EXISOSI/SQRT(CC)*LN(ABS(2*SQRT(CC)*SQRT(AA+BB*GV47+CC*GV47^2)+2*CC*GV47+BB))-_2ndint -> 0.00032208134 | GX47: =fisosti-(GU47+GW47) -> 0.24924845 | GY47: =$GF47*SIN(GX47) -> 1.3799039 | GZ47: =$GF47*COS(GX47) -> 5.4211347 | HB47: =2*(1-COS(incid1))*EXP(-bsel*$HC47)/((1-COS(incid1))^2*EXP(-2*bsel*$HC47)+Kay^2 ) -> 0.98427717 | HC47: =HC46+dtt -> 0.15691 | HD47: =(HB47-c_EXISOSI)/bsel -> 5.7443439 | HE47: =HD46-HD47 -> 0.0090881276 | HF47: =HE47/dtt -> 0.98462921 | HL47: =$HD47*COS(HJ47) -> 5.7443439 | HM47: =HM46-$HC47^2*dtt/$HD47/Kay -> 0.23380137 | HN47: =$HD47*SIN(HM47) -> 1.3308331 | HO47: =$HD47*COS(HM47) -> 5.5880561 | HR47: =Kay -> 0.014961654 | HS47: =HS46-$HB47^2*dtt/($HD47*Kay) -> -0.67327955 | HT47: =IF(HU47>Rg,HT46,$HD47*COS($HS47)) -> 4.4908184 | HU47: =$HD47*SIN($HS47) -> -3.5819042 | HV47: =2*(1-COS(incid22))*EXP(-bsel*$HW47)/((1-COS(incid22))^2*EXP(-2*bsel*$HW47)+kay2_^2 ) -> 0.98969446 | HW47: =HW46+dtt -> 0.15691 | HX47: =(HV47-c_EXISOSI)/bsel -> 5.7979752 | IA47: =IJ46-IG47 -> 0.89280221 | IB47: =$HX47^2-(ID46-IC46*_xlfn.COT(IJ46))^2*SIN(IJ46)^2 -> 13.225411 | IC47: =(-(ID46-IC46*_xlfn.COT(IJ46))*COS(IJ46)+SQRT(IB47))*SIN(IJ46) -> 1.3162074 | ID47: =ID46+(_xlfn.COT(IJ46)*(IC47-IC46)) -> 5.646602 | IE47: =$FC47^2-(ID46-IC46*_xlfn.COT(IJ46))^2*SIN(IJ46)^2 -> 18817.874 | IG47: =ATAN(IC47/ID47) -> 0.22900802 | IH47: =SIN(IA47)*(c_EXISOSI+bsel*($HX48))/(c_EXISOSI+bsel*$HX47) -> 0.77835453 | II47: =ASIN(IH47) -> 0.89204063 | IJ47: =II47+IG46 -> 1.1223337 | IL47: =c_EXISOSI+bsel*$FC47 -> 14.267935
A48: =A47+dtl -> 3.04 | B48: {=XtoYt($A48,Al,Vl,B$8)} -> 0.18010139 | C48: {=YtoyX(B48,Al,Vl,B$8)} -> -4.125 | D48: =D47+F$4 -> 0.033330908 | E48: =2*EXP(Vl*(D48-LN(F$8)/Vl))/(1+EXP(2*Vl*(D48-LN(F$8)/Vl))) -> 0.9958537 | F48: =IF(F$6<0,-1/(Vl*E$5)*(SIGN(SIN(F$8))*SQRT(1-E48^2)-COS(E$8)),IF(D48<F$6,-1/(Vl*E$5)*(SIGN(SIN(F$8))*SQRT(1-E48^2)-COS(E$8)),2*F$3+1/(Vl*E$5)*(SIGN(SIN(F$8))*SQRT(1-E48^2)-COS(E$8)))) -> -1.1083857 | G48: =Al*(SIGN(SIN(E$8))*SQRT(1-(Vl*SIN(E$8)*F48/Al-COS(E$8))^2)-SIN(E$8))/(Vl*SIN(E$8)) -> -0.36006441 | H48: =H47+J$4 -> 0.99157875 | I48: =2*EXP(Vl*(H48-LN(J$8)/Vl))/(1+EXP(2*Vl*(H48-LN(J$8)/Vl))) -> 0.016436528 | J48: =IF(H48<K$5,-1/(Vl*I$5)*(SIGN(SIN(J$8))*SQRT(1-I48^2)-COS(I$8)),2*J$3+1/(Vl*I$5)*(SIGN(SIN(J$8))*SQRT(1-I48^2)-COS(I$8))) -> 94.471639 | K48: =Al*(SIGN(SIN(I$8))*SQRT(1-(Vl*SIN(I$8)*J48/Al-COS(I$8))^2)-SIN(I$8))/(Vl*SIN(I$8)) -> -3.3470744 | BT48: =CP5 -> 15 | BW48: =CS5 -> 155 | BY48: =MAX(BY50:BY80) -> 1 | BZ48: 235 | CB48: =MAX(CB50:CB80) -> 1 | CC48: 45 | CE48: =MAX(CE50:CE80) -> 1 | CF48: 5 | CO48: =CO47+dt -> -0.02 | CP48: =IF(OR(CP$5<90,CP$5>270),CO48+CP$8,CO48-CP$8) -> 0.23344868 | CQ48: =2*EXP(Vl*CP48)/(1+EXP(2*Vl*CP48)) -> 0.30178793 | CR48: =CR47+dt -> -0.02 | CS48: =IF(OR(CS$5<90,CS$5>270),CR48+CS$8,CR48-CS$8) -> -0.20830678 | CT48: =2*EXP(Vl*CS48)/(1+EXP(2*Vl*CS48)) -> 0.36481164 | CU48: =CU47+dt -> -0.02 | CV48: =IF(OR(CV$5<90,CV$5>270),CU48+CV$8,CU48-CV$8) -> -0.10160457 | CW48: =2*EXP(Vl*CV48)/(1+EXP(2*Vl*CV48)) -> 0.74131969 | CX48: =CX47+dt -> -0.02 | CY48: =IF(OR(CY$5<90,CY$5>270),CX48+CY$8,CX48-CY$8) -> 0.090171698 | CZ48: =2*EXP(Vl*CY48)/(1+EXP(2*Vl*CY48)) -> 0.78636716 | DA48: =DA47+dt -> -0.02 | DB48: =IF(OR(DB$5<90,DB$5>270),DA48+DB$8,DA48-DB$8) -> 0.37141267 | DC48: =2*EXP(Vl*DB48)/(1+EXP(2*Vl*DB48)) -> 0.10220488 | DD48: =DD47+10 -> 245 | DE48: =RADIANS(DD48) -> 4.2760567 | DF48: =Al/Vl*_xlfn.COT(DE48/2) -> -2.6279148 | DG48: =-Al/Vl -> -4.125 | DH48: =Al/Vl*_xlfn.COT($DE48) -> 1.9235191 | DI48: =Al/Vl*(SIGN(SIN($DE48))*1/SIN($DE48)-1) -> 0.42643392 | EC48: =EC47-dr -> 5.226 | EE48: =IF(EC48>rarxiko,1,IF(EC48>Rg,1-dc*(rarxiko-EC48)/hatm,0)) -> 76.637778 | EF48: =IF(EC48>Rg,1/EE48,0) -> 0.013048395 | EO48: Exit Function | EW48: =EW47+PI()/100 -> 1.0367256 | EX48: =Rg*COS(EW48) -> 2.5452071 | EY48: =Rg*SIN(EW48) -> 4.3037101 | EZ48: =rarxiko*COS(EY48) -> -2.3446442 | FA48: =rarxiko*SIN(EY48) -> -5.4141152 | FB48: {=xsel+Rs*COS(EW48)} -> 267.93826 | FC48: =ysel+Rs*SIN(EW48) -> 137.27308 | FD48: =FD47-FF47+FG47 -> 0.48242045 | FE48: =ATAN(FN47/FO47) -> 0.15433765 | FF48: =FD48-FE48 -> 0.32808279 | FG48: =ASIN(SIN(FF48)*FH48) -> 0.30772884 | FH48: =IF($FK48>=rarxiko,1,IF($FK48>=Rg, c_EXISOSI+bsel*($FK48),0)) -> 0.94 | FI48: =FO47 -> 5.1682954 | FJ48: =FN47 -> 0.80405699 | FK48: =FK47-dr -> 5.306 | FL48: =FI48-FJ48*_xlfn.COT(FD48) -> 3.6329307 | FM48: =(FK48-dr)^2-FL48^2*SIN(FD49)^2 -> 25.339981 | FN48: =(-FL48*COS(FD49)+SQRT(FM48))*SIN(FD49) -> 0.79438081 | FO48: =FI48+_xlfn.COT(FD49)*(FN48-FJ48) -> 5.1488663 | GF48: =GF47-hatm/50 -> 5.576 | GG48: =GF48-a_exisosi -> 7.576 | GH48: =c_EXISOSI+bsel*GF48 -> 0.96727273 | GI48: =GG48^2*(aell2+bell2)/(bell2*(aell2+GG48^2)) -> 0.15956344 | GJ48: =ASIN(SQRT(GI48)) -> 0.41092111 | GK48: {=(-ftoue(GJ48,mmm)-ellearx)/parbros/(Kay*bsel)*c_EXISOSI/2} -> #NAME? | GL48: =ACOS($GG48/bell) -> 1.2727722 | GM48: {=ftoue(GL48,mmm)-ellearx} -> #NAME? | GN48: =GM48/parbros/(Kay*bsel)*c_EXISOSI/2 -> #NAME? | GO48: =fia*2/(Kay*bsel)*(SQRT(1-Kay^2*(c_EXISOSI+bsel*GE48)^2)-SQRT(1-Kay^2*(c_EXISOSI+bsel*rarxiko)^2)) -> 0.13628794 | GP48: =fisosti-1/(Kay*bsel)*(SQRT(1-Kay^2*(c_EXISOSI+bsel*GF48)^2)-SQRT(1-Kay^2*(c_EXISOSI+bsel*rarxiko)^2)) -> 0.2452644 | GQ48: =GF48*SIN(GP48) -> 1.3539243 | GR48: =GF48*COS(GP48) -> 5.4091279 | GS48: =2*AA*$GF48+BB -> -0.0001488278 | GT48: =SQRT(BB^2-4*AA*CC) -> 0.0030250174 | GU48: =Kay*bsel/SQRT(-AA)*ASIN((2*AA*$GF48+BB)/GT48)-_1stint -> 0.00048985491 | GV48: =1/GF48 -> 0.17934003 | GW48: =Kay*c_EXISOSI/SQRT(CC)*LN(ABS(2*SQRT(CC)*SQRT(AA+BB*GV48+CC*GV48^2)+2*CC*GV48+BB))-_2ndint -> 0.00034157203 | GX48: =fisosti-(GU48+GW48) -> 0.24920174 | GY48: =$GF48*SIN(GX48) -> 1.3752113 | GZ48: =$GF48*COS(GX48) -> 5.4037552 | HB48: =2*(1-COS(incid1))*EXP(-bsel*$HC48)/((1-COS(incid1))^2*EXP(-2*bsel*$HC48)+Kay^2 ) -> 0.98336003 | HC48: =HC47+dtt -> 0.16614 | HD48: =(HB48-c_EXISOSI)/bsel -> 5.7352643 | HE48: =HD47-HD48 -> 0.0090796612 | HF48: =HE48/dtt -> 0.98371194 | HL48: =$HD48*COS(HJ48) -> 5.7352643 | HM48: =HM47-$HC48^2*dtt/$HD48/Kay -> 0.23083232 | HN48: =$HD48*SIN(HM48) -> 1.3121588 | HO48: =$HD48*COS(HM48) -> 5.5831439 | HS48: =HS47-$HB48^2*dtt/($HD48*Kay) -> -0.77729402 | HT48: =IF(HU48>Rg,HT47,$HD48*COS($HS48)) -> 4.0881766 | HU48: =$HD48*SIN($HS48) -> -4.0224456 | HV48: =2*(1-COS(incid22))*EXP(-bsel*$HW48)/((1-COS(incid22))^2*EXP(-2*bsel*$HW48)+kay2_^2 ) -> 0.98908716 | HW48: =HW47+dtt -> 0.16614 | HX48: =(HV48-c_EXISOSI)/bsel -> 5.7919629 | IA48: =IJ47-IG48 -> 0.89461699 | IB48: =$HX48^2-(ID47-IC47*_xlfn.COT(IJ47))^2*SIN(IJ47)^2 -> 13.138539 | IC48: =(-(ID47-IC47*_xlfn.COT(IJ47))*COS(IJ47)+SQRT(IB48))*SIN(IJ47) -> 1.3075572 | ID48: =ID47+(_xlfn.COT(IJ47)*(IC48-IC47)) -> 5.6424399 | IE48: =$FC48^2-(ID47-IC47*_xlfn.COT(IJ47))^2*SIN(IJ47)^2 -> 18823.489 | IG48: =ATAN(IC48/ID48) -> 0.22771667 | IH48: =SIN(IA48)*(c_EXISOSI+bsel*($HX49))/(c_EXISOSI+bsel*$HX48) -> 0.77949045 | II48: =ASIN(IH48) -> 0.89385196 | IJ48: =II48+IG47 -> 1.12286 | IL48: =c_EXISOSI+bsel*$FC48 -> 14.270008
